{"text_format":"3","workbook":"xlsx","n_sheets":7,"sheets":["Wstęp","Farmy","Małe instalacje","Analiza","Operatorzy zestawienie ","PV na tle innych OZE","Mapy"],"not_rendered":{"charts":13,"images":8,"external_links":1,"defined_names":17},"read":"whole","date_system":"1900"}

{"sheet":"Wstęp","index":0,"n_rows":3,"n_cols":2,"rows_kept":3,"merged":[[1,1,1,11],[2,1,2,11]]}
[]
[null,"Funkcjonujące Farmy Fotowoltaiczne w Polsce "]
[null,"Największy zbiór danych o dużych instalacjach PV wytwarzających już energię elektryczną"]

{"sheet":"Farmy","index":1,"n_rows":17,"n_cols":18,"rows_kept":17,"merged":[[3,5,3,7],[5,1,5,7],[5,15,5,17]]}
[{"$nulls":5},"Zbiór danych o farmach PV funkcjonujących i wytwarzających energię elektryczną"]
[{"$nulls":5},"Zbiór powstał na podstawie danych o koncesjach na wytwarzanie energii elektrycznej udostępnianych przez Urząd Regulacji Energetyki"]
[{"$nulls":5},"Stan projektów w bazie danych jest na dzień 20.06.2025"]
[{"$nulls":5},"Copyright ©2025 IEO. Wszelkie prawa zastrzeżone. "]
[]
[null,"Dane instalacji",{"$nulls":6},"Dane inwestora",{"$nulls":6},"Dane  instalacji"]
[null,"Lp.","Rodzaj instalacji","Miejscowość","Gmina","Powiat","Województwo ","Moc [MW]","Inwestor","Adres","Kod pocztowy","Miejscowość inwestora","Województwo inwestora","Spółka holdingowa","NIP","Data Wydania","Data Od","Data Do"]
[null,1,"Farmy","Łowisko","Kamień","rzeszowski","podkarpackie",1.999," REMET CNC TECHNOLOGY M&P PIEKUT Sp. K.","Łowisko 320A","36-053","Łowisko","podkarpackie","REMET CNC TECHNOLOGY M&P PIEKUT",5170374653,"2024-03-13","2024-03-13","2040-12-31"]
[null,2,"Farmy","Brzóza Stadnicka","Żołynia","łańcucki","podkarpackie",1.174,"\"AGMAD-SOLAR\" spółka z ograniczoną odpowiedzialnością","ul. Białobrzeska 13A","37-110","Żołynia","podkarpackie","AGMAD - SOLAR",8151800599,"2019-12-16","2019-12-16","2030-12-31"]
[null,3,"Farmy","Wola Mrokowska","Lesznowola","piaseczyński","mazowieckie",1.109,"\"Alnor - Systemy Wentylacji\" Sp. z o.o.","ul. Zwierzyniecka 8b","00-719","Warszawa","mazowieckie","ALNOR - SYSTEMY WENTYLACJI",5211068747,"2022-11-29","2022-11-29","2042-11-29"]
[null,4,"Farmy","Bajdy","Zalewo","iławski","warmińsko-mazurskie",0.919,"\"Awat\" Sp. z o.o.","ul. 1 Maja 20B / 3","14-200","Iława","warmińsko-mazurskie","AWAT",7441812340,"2021-04-06","2021-04-06","2031-04-06"]
[null,5,"Farmy","Leżachów","Sieniawa","przeworski","podkarpackie",1.799,"\"Creator\" Sp. z o.o.","Leżachów 147","37-530","Sieniawa","podkarpackie","Creator",9930651794,"2023-02-23","2023-02-23","2040-12-31"]
[null,6,"Farmy","Dębnik","Reszel","kętrzyński","warmińsko-mazurskie",1.979,"\"Eko Park XIV\" Spółka z ograniczoną odpowiedzialnością","ul. Słowackiego 59","87-700","Aleksandrów Kujawski","kujawsko-pomorskie","EKO PARK XIV",5223051422,"2020-09-25","2020-09-25","2030-12-31"]
[null,7,"Farmy","Radzie","Wydminy","giżycki","warmińsko-mazurskie",0.999,"\"EKOENERGIA MAZURY RANTY\" SPÓŁKA Z OGRANICZONĄ ODPOWIEDZIALNOŚCIĄ","ul. GEN. WŁADYSŁAWA SIKORSKIEGO 19B","19-300","Ełk","warmińsko-mazurskie","EKOENERGIA MAZURY",8481865797,"2020-05-26","2020-05-26","2030-05-26"]
[null,8,"Farmy","Radzie","Wydminy","giżycki","warmińsko-mazurskie",1.998,"\"EKOENERGIA MAZURY RANTY\" SPÓŁKA Z OGRANICZONĄ ODPOWIEDZIALNOŚCIĄ","ul. GEN. WŁADYSŁAWA SIKORSKIEGO 19B","19-300","Ełk","warmińsko-mazurskie","EKOENERGIA MAZURY",8481865797,"2024-07-19","2024-07-19","2040-12-31"]
[null,9,"Farmy","Oracze","Ełk","ełcki","warmińsko-mazurskie",0.998,"\"EKOENERGIA MAZURY\" Sp. z o. o.","ul. Sikorskiego 19B","19-300","Ełk","warmińsko-mazurskie","EKOENERGIA MAZURY",8481864929,"2020-03-27","2020-03-27","2030-03-27"]
[null,10,"Farmy","Szczawin Duży","Zgierz","zgierski","łódzkie",1.199,"\"ELEKTRIO\" Marian Jóźwiak, Jarosław Zdziarski s.c.","ul. Strykowska 120","95-002","Smardzew","łódzkie","ELEKTRIO  Marian Jóźwiak, Jarosław Zdziarski s.c.",7322170585,"2014-01-15","2014-01-15","2030-12-31"]

{"sheet":"Małe instalacje","index":2,"n_rows":17,"n_cols":17,"rows_kept":17,"merged":[[3,5,3,7],[5,1,5,7],[5,14,5,15]]}
[{"$nulls":5},"Zbiór danych o małych instalacjach PV funkcjonujących i wytwarzających energię elektryczną"]
[{"$nulls":5},"Zbiór powstał na podstawie danych o koncesjach na wytwarzanie energii elektrycznej udostępnianych przez Urząd Regulacji Energetyki"]
[{"$nulls":5},"Stan projektów w bazie danych jest na dzień 20.06.2025"]
[{"$nulls":5},"Copyright ©2025 IEO. Wszelkie prawa zastrzeżone. "]
[]
[null,"Dane instalacji",{"$nulls":6},"Dane inwestora",{"$nulls":5},"Dane  instalacji"]
[null,"Lp.","Rodzaj instalacji","Miejscowość","Gmina","Powiat","Województwo ","Moc [MW]","Inwestor","Adres","Kod pocztowy","Miejscowość inwestora","Województwo inwestora","NIP","Data wpisu do rejestru","Data Od","Link do koncesji"]
[null,1,"Małe instalacje","Gorzów Wielkopolski","Gorzów Wielkopolski","czarnkowsko-trzcianecki","lubuskie",0.1,"Zakład Energoelektryczny ENERGO-STIL Sp. z o.o.","ul. Walczaka 25","66-400","Gorzów Wielkopolski","lubuskie",5992277261,"2023-07-27","2023-07-27"]
[null,2,"Małe instalacje","Gorzów Wielkopolski","Gorzów Wielkopolski","czarnkowsko-trzcianecki","lubuskie",0.1,"Zakład Energoelektryczny ENERGO-STIL Sp. z o.o.","ul. Walczaka 25","66-400","Gorzów Wielkopolski","lubuskie",5992277261,"2023-07-27","2023-07-27"]
[null,3,"Małe instalacje","Gorzów Wielkopolski","Gorzów Wielkopolski","czarnkowsko-trzcianecki","lubuskie",0.125,"Zakład Energoelektryczny ENERGO-STIL Sp. z o.o.","ul. Walczaka 25","66-400","Gorzów Wielkopolski","lubuskie",5992277261,"2023-07-27","2023-07-27"]
[null,4,"Małe instalacje","Gorzów Wielkopolski","Gorzów Wielkopolski","czarnkowsko-trzcianecki","lubuskie",0.475,"Zakład Energoelektryczny ENERGO-STIL Sp. z o.o.","ul. Walczaka 25","66-400","Gorzów Wielkopolski","lubuskie",5992277261,"2025-05-14","2025-05-14"]
[null,5,"Małe instalacje","Gorzów Wielkopolski","Gorzów Wielkopolski","czarnkowsko-trzcianecki","lubuskie",0.475,"Zakład Energoelektryczny ENERGO-STIL Sp. z o.o.","ul. Walczaka 25","66-400","Gorzów Wielkopolski","lubuskie",5992277261,"2025-05-14","2025-05-14"]
[null,6,"Małe instalacje","Kluczbork","Kluczbork","kluczborski","opolskie",0.099,"Energetyka Cieplna Opolszczyzny Spółka Akcyjna","ul. Harcerska 15","45-118","Opole","opolskie",7542524950,"2022-08-25","2022-08-25"]
[null,7,"Małe instalacje","Opole","Opole","Opole","opolskie",0.952,"Energetyka Cieplna Opolszczyzny Spółka Akcyjna","ul. Harcerska 15","45-118","Opole","opolskie",7542524950,"2024-01-05","2024-01-24"]
[null,8,"Małe instalacje","Głogów","Głogów","głogowski","dolnośląskie",0.1,"Energetyka Sp. z o.o.","ul. M. Skłodowskiej - Curie 58","59-301","Lubin","dolnośląskie",6921010700,"2015-12-23","2014-12-02"]
[null,9,"Małe instalacje","Legnica","Legnica","Legnica","dolnośląskie",0.1,"Energetyka Sp. z o.o.","ul. M. Skłodowskiej - Curie 58","59-301","Lubin","dolnośląskie",6921010700,"2015-12-23","2014-12-02"]
[null,10,"Małe instalacje","Legnica","Legnica","Legnica","dolnośląskie",0.1,"Energetyka Sp. z o.o.","ul. M. Skłodowskiej - Curie 58","59-301","Lubin","dolnośląskie",6921010700,"2015-12-23","2015-12-23"]

{"sheet":"Analiza","index":3,"n_rows":106,"n_cols":22,"rows_kept":106,"merged":[[1,1,1,22],[2,1,2,22],[3,1,3,3],[8,5,9,5],[13,5,14,5],[18,5,19,5],[39,4,40,7],[39,10,40,13],[39,16,40,19],[41,5,42,5],[41,6,42,6],[41,7,42,7],[41,11,42,11],[41,12,42,12],[41,13,42,13],[41,17,42,17],[41,18,42,18],[41,19,42,19]]}
[]
[null,"Analizy statystyczne funkcjonujących instalacji PV"]
[]
[null,"Copyright ©2025 IEO. Wszelkie prawa zastrzeżone. "]
[]
[{"$nulls":7},"2014-01-01",{"$f":"DATE(YEAR(H6)+1,MONTH(H6),DAY(H6))","v":"2015-01-01"},{"$f":"DATE(YEAR(I6)+1,MONTH(I6),DAY(I6))","v":"2016-01-01"},"2017-01-01","2018-01-01","2019-01-01","2020-01-01","2021-01-01","2022-01-01","2023-01-01","2024-01-01"]
[{"$nulls":7},"2014-12-31",{"$f":"DATE(YEAR(H7)+1,MONTH(H7),DAY(H7))","v":"2015-12-31"},{"$f":"DATE(YEAR(I7)+1,MONTH(I7),DAY(I7))","v":"2016-12-31"},"2017-12-31","2018-12-31","2019-12-31","2020-12-31","2021-12-31","2022-12-31","2023-12-31","2024-12-31"]
[{"$nulls":7},2014,2015,2016,2017,2018,2019,2020,2021,2022,2023,2024,"suma"]
[{"$nulls":5},"Farmy","liczba",{"$f":"COUNTIFS(Farmy!$P:$P,\">=\"&H6,Farmy!$P:$P,\"<=\"&H7)","v":{"v":1,"d":"1 "}},{"$f":"COUNTIFS(Farmy!$P:$P,\">=\"&I6,Farmy!$P:$P,\"<=\"&I7)","v":0},{"$f":"COUNTIFS(Farmy!$P:$P,\">=\"&J6,Farmy!$P:$P,\"<=\"&J7)","v":0},{"$f":"COUNTIFS(Farmy!$P:$P,\">=\"&K6,Farmy!$P:$P,\"<=\"&K7)","v":0},{"$f":"COUNTIFS(Farmy!$P:$P,\">=\"&L6,Farmy!$P:$P,\"<=\"&L7)","v":0},{"$f":"COUNTIFS(Farmy!$P:$P,\">=\"&M6,Farmy!$P:$P,\"<=\"&M7)","v":{"v":1,"d":"1 "}},{"$f":"COUNTIFS(Farmy!$P:$P,\">=\"&N6,Farmy!$P:$P,\"<=\"&N7)","v":{"v":3,"d":"3 "}},{"$f":"COUNTIFS(Farmy!$P:$P,\">=\"&O6,Farmy!$P:$P,\"<=\"&O7)","v":{"v":1,"d":"1 "}},{"$f":"COUNTIFS(Farmy!$P:$P,\">=\"&P6,Farmy!$P:$P,\"<=\"&P7)","v":{"v":1,"d":"1 "}},{"$f":"COUNTIFS(Farmy!$P:$P,\">=\"&Q6,Farmy!$P:$P,\"<=\"&Q7)","v":{"v":1,"d":"1 "}},{"$f":"COUNTIFS(Farmy!$P:$P,\">=\"&R6,Farmy!$P:$P,\"<=\"&R7)","v":{"v":2,"d":"2 "}},{"$f":"COUNT(Farmy!H:H)","v":{"v":10,"d":"10 "}}]
[{"$nulls":6},"moc [MW]",{"$f":"SUMIFS(Farmy!$H:$H,Farmy!$P:$P,\">=\"&H6,Farmy!$P:$P,\"<=\"&H7)","v":{"v":1.199,"d":"1.20 "}},{"$f":"SUMIFS(Farmy!$H:$H,Farmy!$P:$P,\">=\"&I6,Farmy!$P:$P,\"<=\"&I7)","v":0},{"$f":"SUMIFS(Farmy!$H:$H,Farmy!$P:$P,\">=\"&J6,Farmy!$P:$P,\"<=\"&J7)","v":0},{"$f":"SUMIFS(Farmy!$H:$H,Farmy!$P:$P,\">=\"&K6,Farmy!$P:$P,\"<=\"&K7)","v":0},{"$f":"SUMIFS(Farmy!$H:$H,Farmy!$P:$P,\">=\"&L6,Farmy!$P:$P,\"<=\"&L7)","v":0},{"$f":"SUMIFS(Farmy!$H:$H,Farmy!$P:$P,\">=\"&M6,Farmy!$P:$P,\"<=\"&M7)","v":{"v":1.174,"d":"1.17 "}},{"$f":"SUMIFS(Farmy!$H:$H,Farmy!$P:$P,\">=\"&N6,Farmy!$P:$P,\"<=\"&N7)","v":{"v":3.976,"d":"3.98 "}},{"$f":"SUMIFS(Farmy!$H:$H,Farmy!$P:$P,\">=\"&O6,Farmy!$P:$P,\"<=\"&O7)","v":{"v":0.919,"d":"0.92 "}},{"$f":"SUMIFS(Farmy!$H:$H,Farmy!$P:$P,\">=\"&P6,Farmy!$P:$P,\"<=\"&P7)","v":{"v":1.109,"d":"1.11 "}},{"$f":"SUMIFS(Farmy!$H:$H,Farmy!$P:$P,\">=\"&Q6,Farmy!$P:$P,\"<=\"&Q7)","v":{"v":1.799,"d":"1.80 "}},{"$f":"SUMIFS(Farmy!$H:$H,Farmy!$P:$P,\">=\"&R6,Farmy!$P:$P,\"<=\"&R7)","v":{"v":3.997,"d":"4.00 "}},{"$f":"SUM(Farmy!H:H)","v":{"v":14.172999999999998,"d":"14.17 "}}]
[{"$nulls":6},"średnia moc",{"$f":"IFERROR(H10/H9,\"-\")","v":{"v":1.199,"d":"1.20 "}},{"$f":"IFERROR(I10/I9,\"-\")","v":"-"},"-","-","-",{"v":1.174,"d":"1.17 "},{"v":1.3253333333333333,"d":"1.33 "},{"v":0.919,"d":"0.92 "},{"v":1.109,"d":"1.11 "},{"v":1.799,"d":"1.80 "},{"v":1.9985,"d":"2.00 "},{"$f":"S10/S9","v":{"v":1.4172999999999998,"d":"1.42 "}}]
[]
[{"$nulls":7},2014,2015,2016,2017,2018,2019,2020,2021,2022,2023,2024,"suma"]
[{"$nulls":5},"Małe instalacje ","liczba",{"$f":"COUNTIFS('Małe instalacje'!$P:$P,\">=\"&H6,'Małe instalacje'!$P:$P,\"<=\"&H7)","v":{"v":2,"d":"2 "}},{"$f":"COUNTIFS('Małe instalacje'!$P:$P,\">=\"&I6,'Małe instalacje'!$P:$P,\"<=\"&I7)","v":{"v":1,"d":"1 "}},{"$f":"COUNTIFS('Małe instalacje'!$P:$P,\">=\"&J6,'Małe instalacje'!$P:$P,\"<=\"&J7)","v":0},{"$f":"COUNTIFS('Małe instalacje'!$P:$P,\">=\"&K6,'Małe instalacje'!$P:$P,\"<=\"&K7)","v":0},{"$f":"COUNTIFS('Małe instalacje'!$P:$P,\">=\"&L6,'Małe instalacje'!$P:$P,\"<=\"&L7)","v":0},{"$f":"COUNTIFS('Małe instalacje'!$P:$P,\">=\"&M6,'Małe instalacje'!$P:$P,\"<=\"&M7)","v":0},{"$f":"COUNTIFS('Małe instalacje'!$P:$P,\">=\"&N6,'Małe instalacje'!$P:$P,\"<=\"&N7)","v":0},{"$f":"COUNTIFS('Małe instalacje'!$P:$P,\">=\"&O6,'Małe instalacje'!$P:$P,\"<=\"&O7)","v":0},{"$f":"COUNTIFS('Małe instalacje'!$P:$P,\">=\"&P6,'Małe instalacje'!$P:$P,\"<=\"&P7)","v":{"v":1,"d":"1 "}},{"$f":"COUNTIFS('Małe instalacje'!$P:$P,\">=\"&Q6,'Małe instalacje'!$P:$P,\"<=\"&Q7)","v":{"v":3,"d":"3 "}},{"$f":"COUNTIFS('Małe instalacje'!$P:$P,\">=\"&R6,'Małe instalacje'!$P:$P,\"<=\"&R7)","v":{"v":1,"d":"1 "}},{"$f":"COUNT('Małe instalacje'!H:H)","v":{"v":10,"d":"10 "}}]
[{"$nulls":6},"moc [MW]",{"$f":"SUMIFS('Małe instalacje'!$H:$H,'Małe instalacje'!$P:$P,\">=\"&H6,'Małe instalacje'!$P:$P,\"<=\"&H7)","v":{"v":0.2,"d":"0.20 "}},{"$f":"SUMIFS('Małe instalacje'!$H:$H,'Małe instalacje'!$P:$P,\">=\"&I6,'Małe instalacje'!$P:$P,\"<=\"&I7)","v":{"v":0.1,"d":"0.10 "}},{"$f":"SUMIFS('Małe instalacje'!$H:$H,'Małe instalacje'!$P:$P,\">=\"&J6,'Małe instalacje'!$P:$P,\"<=\"&J7)","v":0},{"$f":"SUMIFS('Małe instalacje'!$H:$H,'Małe instalacje'!$P:$P,\">=\"&K6,'Małe instalacje'!$P:$P,\"<=\"&K7)","v":0},{"$f":"SUMIFS('Małe instalacje'!$H:$H,'Małe instalacje'!$P:$P,\">=\"&L6,'Małe instalacje'!$P:$P,\"<=\"&L7)","v":0},{"$f":"SUMIFS('Małe instalacje'!$H:$H,'Małe instalacje'!$P:$P,\">=\"&M6,'Małe instalacje'!$P:$P,\"<=\"&M7)","v":0},{"$f":"SUMIFS('Małe instalacje'!$H:$H,'Małe instalacje'!$P:$P,\">=\"&N6,'Małe instalacje'!$P:$P,\"<=\"&N7)","v":0},{"$f":"SUMIFS('Małe instalacje'!$H:$H,'Małe instalacje'!$P:$P,\">=\"&O6,'Małe instalacje'!$P:$P,\"<=\"&O7)","v":0},{"$f":"SUMIFS('Małe instalacje'!$H:$H,'Małe instalacje'!$P:$P,\">=\"&P6,'Małe instalacje'!$P:$P,\"<=\"&P7)","v":{"v":0.099,"d":"0.10 "}},{"$f":"SUMIFS('Małe instalacje'!$H:$H,'Małe instalacje'!$P:$P,\">=\"&Q6,'Małe instalacje'!$P:$P,\"<=\"&Q7)","v":{"v":0.325,"d":"0.33 "}},{"$f":"SUMIFS('Małe instalacje'!$H:$H,'Małe instalacje'!$P:$P,\">=\"&R6,'Małe instalacje'!$P:$P,\"<=\"&R7)","v":{"v":0.952,"d":"0.95 "}},{"$f":"SUM('Małe instalacje'!H:H)","v":{"v":2.626,"d":"2.63 "}}]
[{"$nulls":6},"średnia moc",{"$f":"IFERROR(H15/H14,\"-\")","v":{"v":0.1,"d":"0.10 "}},{"$f":"IFERROR(I15/I14,\"-\")","v":{"v":0.1,"d":"0.10 "}},"-","-","-","-","-","-",{"v":0.099,"d":"0.10 "},{"v":0.10833333333333334,"d":"0.11 "},{"v":0.952,"d":"0.95 "},{"$f":"S15/S14","v":{"v":0.2626,"d":"0.26 "}}]
[]
[{"$nulls":7},2014,2015,2016,2017,2018,2019,2020,2021,2022,2023,2024,"suma"]
[{"$nulls":5},"Razem","liczba",{"$f":"H9+H14","v":{"v":3,"d":"3 "}},{"$f":"I9+I14","v":{"v":1,"d":"1 "}},0,0,0,{"v":1,"d":"1 "},{"v":3,"d":"3 "},{"v":1,"d":"1 "},{"v":2,"d":"2 "},{"v":4,"d":"4 "},{"v":3,"d":"3 "},{"$f":"S9+S14","v":{"v":20,"d":"20 "}}]
[{"$nulls":6},"moc [MW]",{"$f":"H10+H15","v":{"v":1.399,"d":"1.40 "}},{"$f":"I10+I15","v":{"v":0.1,"d":"0.10 "}},0,0,0,{"v":1.174,"d":"1.17 "},{"v":3.976,"d":"3.98 "},{"v":0.919,"d":"0.92 "},{"v":1.208,"d":"1.21 "},{"v":2.124,"d":"2.12 "},{"v":4.949,"d":"4.95 "},{"v":16.799,"d":"16.80 "}]
[{"$nulls":6},"średnia moc",{"$f":"IFERROR(H20/H19,\"-\")","v":{"v":0.4663333333333333,"d":"0.47 "}},{"$f":"IFERROR(I20/I19,\"-\")","v":{"v":0.1,"d":"0.10 "}},"-","-","-",{"v":1.174,"d":"1.17 "},{"v":1.3253333333333333,"d":"1.33 "},{"v":0.919,"d":"0.92 "},{"v":0.604,"d":"0.60 "},{"v":0.531,"d":"0.53 "},{"v":1.6496666666666666,"d":"1.65 "},{"v":0.83995,"d":"0.84 "}]
{"$rows_empty":18}
[{"$nulls":4},"Rozkład farm w województwach",{"$nulls":5},"Rozkład małych instalacji w województwach",{"$nulls":5},"Rozkład wszystkich instalacji w województwach"]
[]
[{"$nulls":5},"liczba","moc [MW]","średnia moc instalacji [MW]",{"$nulls":3},"liczba","moc [MW]","średnia moc instalacji [MW]",{"$nulls":3},"liczba","moc [MW]","średnia moc instalacji [MW]"]
[]
[{"$nulls":4},"zachodniopomorskie",{"$f":"IFERROR(COUNTIFS(Farmy!$G:$G,\"=\"&E44),\"-\")","v":0},{"$f":"IFERROR(SUMIFS(Farmy!$H:$H,Farmy!$G:$G,\"=\"&E44),\"-\")","v":{"v":0,"d":"0.00"}},{"$f":"IFERROR(G44/F44,\"-\")","v":"-"},null,null,"zachodniopomorskie",{"$f":"IFERROR(COUNTIFS('Małe instalacje'!$G:$G,\"=\"&E44),\"-\")","v":0},{"$f":"IFERROR(SUMIFS('Małe instalacje'!$H:$H,'Małe instalacje'!$G:$G,\"=\"&E44),\"-\")","v":{"v":0,"d":"0.00"}},{"$f":"IFERROR(M44/L44,\"-\")","v":"-"},null,null,"zachodniopomorskie",{"$f":"IFERROR(F44+L44,\"-\")","v":0},{"$f":"IFERROR(G44+M44,\"-\")","v":{"v":0,"d":"0.00"}},{"$f":"IFERROR(S44/R44,\"-\")","v":"-"}]
[{"$nulls":4},"pomorskie",{"$f":"IFERROR(COUNTIFS(Farmy!$G:$G,\"=\"&E45),\"-\")","v":0},{"$f":"IFERROR(SUMIFS(Farmy!$H:$H,Farmy!$G:$G,\"=\"&E45),\"-\")","v":{"v":0,"d":"0.00"}},{"$f":"IFERROR(G45/F45,\"-\")","v":"-"},null,null,"pomorskie",{"$f":"IFERROR(COUNTIFS('Małe instalacje'!$G:$G,\"=\"&E45),\"-\")","v":0},{"$f":"IFERROR(SUMIFS('Małe instalacje'!$H:$H,'Małe instalacje'!$G:$G,\"=\"&E45),\"-\")","v":{"v":0,"d":"0.00"}},{"$f":"IFERROR(M45/L45,\"-\")","v":"-"},null,null,"pomorskie",{"$f":"IFERROR(F45+L45,\"-\")","v":0},{"$f":"IFERROR(G45+M45,\"-\")","v":{"v":0,"d":"0.00"}},{"$f":"IFERROR(S45/R45,\"-\")","v":"-"}]
[{"$nulls":4},"kujawsko-pomorskie",{"$f":"IFERROR(COUNTIFS(Farmy!$G:$G,\"=\"&E46),\"-\")","v":0},{"$f":"IFERROR(SUMIFS(Farmy!$H:$H,Farmy!$G:$G,\"=\"&E46),\"-\")","v":{"v":0,"d":"0.00"}},"-",null,null,"kujawsko-pomorskie",{"$f":"IFERROR(COUNTIFS('Małe instalacje'!$G:$G,\"=\"&E46),\"-\")","v":0},{"$f":"IFERROR(SUMIFS('Małe instalacje'!$H:$H,'Małe instalacje'!$G:$G,\"=\"&E46),\"-\")","v":{"v":0,"d":"0.00"}},"-",null,null,"kujawsko-pomorskie",0,{"v":0,"d":"0.00"},"-"]
[{"$nulls":4},"łódzkie",{"$f":"IFERROR(COUNTIFS(Farmy!$G:$G,\"=\"&E47),\"-\")","v":1},{"$f":"IFERROR(SUMIFS(Farmy!$H:$H,Farmy!$G:$G,\"=\"&E47),\"-\")","v":{"v":1.199,"d":"1.20"}},{"v":1.199,"d":"1.20"},null,null,"łódzkie",{"$f":"IFERROR(COUNTIFS('Małe instalacje'!$G:$G,\"=\"&E47),\"-\")","v":0},{"$f":"IFERROR(SUMIFS('Małe instalacje'!$H:$H,'Małe instalacje'!$G:$G,\"=\"&E47),\"-\")","v":{"v":0,"d":"0.00"}},"-",null,null,"łódzkie",1,{"v":1.199,"d":"1.20"},{"v":1.199,"d":"1.20"}]
[{"$nulls":4},"wielkopolskie",{"$f":"IFERROR(COUNTIFS(Farmy!$G:$G,\"=\"&E48),\"-\")","v":0},{"$f":"IFERROR(SUMIFS(Farmy!$H:$H,Farmy!$G:$G,\"=\"&E48),\"-\")","v":{"v":0,"d":"0.00"}},"-",null,null,"wielkopolskie",{"$f":"IFERROR(COUNTIFS('Małe instalacje'!$G:$G,\"=\"&E48),\"-\")","v":0},{"$f":"IFERROR(SUMIFS('Małe instalacje'!$H:$H,'Małe instalacje'!$G:$G,\"=\"&E48),\"-\")","v":{"v":0,"d":"0.00"}},"-",null,null,"wielkopolskie",0,{"v":0,"d":"0.00"},"-"]
[{"$nulls":4},"mazowieckie",{"$f":"IFERROR(COUNTIFS(Farmy!$G:$G,\"=\"&E49),\"-\")","v":1},{"$f":"IFERROR(SUMIFS(Farmy!$H:$H,Farmy!$G:$G,\"=\"&E49),\"-\")","v":{"v":1.109,"d":"1.11"}},{"v":1.109,"d":"1.11"},null,null,"mazowieckie",{"$f":"IFERROR(COUNTIFS('Małe instalacje'!$G:$G,\"=\"&E49),\"-\")","v":0},{"$f":"IFERROR(SUMIFS('Małe instalacje'!$H:$H,'Małe instalacje'!$G:$G,\"=\"&E49),\"-\")","v":{"v":0,"d":"0.00"}},"-",null,null,"mazowieckie",1,{"v":1.109,"d":"1.11"},{"v":1.109,"d":"1.11"}]
[{"$nulls":4},"warmińsko-mazurskie",{"$f":"IFERROR(COUNTIFS(Farmy!$G:$G,\"=\"&E50),\"-\")","v":5},{"$f":"IFERROR(SUMIFS(Farmy!$H:$H,Farmy!$G:$G,\"=\"&E50),\"-\")","v":{"v":6.893000000000001,"d":"6.89"}},{"v":1.3786,"d":"1.38"},null,null,"warmińsko-mazurskie",{"$f":"IFERROR(COUNTIFS('Małe instalacje'!$G:$G,\"=\"&E50),\"-\")","v":0},{"$f":"IFERROR(SUMIFS('Małe instalacje'!$H:$H,'Małe instalacje'!$G:$G,\"=\"&E50),\"-\")","v":{"v":0,"d":"0.00"}},"-",null,null,"warmińsko-mazurskie",5,{"v":6.893000000000001,"d":"6.89"},{"v":1.3786,"d":"1.38"}]
[{"$nulls":4},"lubuskie",{"$f":"IFERROR(COUNTIFS(Farmy!$G:$G,\"=\"&E51),\"-\")","v":0},{"$f":"IFERROR(SUMIFS(Farmy!$H:$H,Farmy!$G:$G,\"=\"&E51),\"-\")","v":{"v":0,"d":"0.00"}},"-",null,null,"lubuskie",{"$f":"IFERROR(COUNTIFS('Małe instalacje'!$G:$G,\"=\"&E51),\"-\")","v":5},{"$f":"IFERROR(SUMIFS('Małe instalacje'!$H:$H,'Małe instalacje'!$G:$G,\"=\"&E51),\"-\")","v":{"v":1.275,"d":"1.28"}},{"v":0.255,"d":"0.26"},null,null,"lubuskie",5,{"v":1.275,"d":"1.28"},{"v":0.255,"d":"0.26"}]
[{"$nulls":4},"podlaskie",{"$f":"IFERROR(COUNTIFS(Farmy!$G:$G,\"=\"&E52),\"-\")","v":0},{"$f":"IFERROR(SUMIFS(Farmy!$H:$H,Farmy!$G:$G,\"=\"&E52),\"-\")","v":{"v":0,"d":"0.00"}},"-",null,null,"podlaskie",{"$f":"IFERROR(COUNTIFS('Małe instalacje'!$G:$G,\"=\"&E52),\"-\")","v":0},{"$f":"IFERROR(SUMIFS('Małe instalacje'!$H:$H,'Małe instalacje'!$G:$G,\"=\"&E52),\"-\")","v":{"v":0,"d":"0.00"}},"-",null,null,"podlaskie",0,{"v":0,"d":"0.00"},"-"]
[{"$nulls":4},"dolnośląskie",{"$f":"IFERROR(COUNTIFS(Farmy!$G:$G,\"=\"&E53),\"-\")","v":0},{"$f":"IFERROR(SUMIFS(Farmy!$H:$H,Farmy!$G:$G,\"=\"&E53),\"-\")","v":{"v":0,"d":"0.00"}},"-",null,null,"dolnośląskie",{"$f":"IFERROR(COUNTIFS('Małe instalacje'!$G:$G,\"=\"&E53),\"-\")","v":3},{"$f":"IFERROR(SUMIFS('Małe instalacje'!$H:$H,'Małe instalacje'!$G:$G,\"=\"&E53),\"-\")","v":{"v":0.30000000000000004,"d":"0.30"}},{"v":0.10000000000000002,"d":"0.10"},null,null,"dolnośląskie",3,{"v":0.30000000000000004,"d":"0.30"},{"v":0.10000000000000002,"d":"0.10"}]
[{"$nulls":4},"lubelskie",{"$f":"IFERROR(COUNTIFS(Farmy!$G:$G,\"=\"&E54),\"-\")","v":0},{"$f":"IFERROR(SUMIFS(Farmy!$H:$H,Farmy!$G:$G,\"=\"&E54),\"-\")","v":{"v":0,"d":"0.00"}},"-",null,null,"lubelskie",{"$f":"IFERROR(COUNTIFS('Małe instalacje'!$G:$G,\"=\"&E54),\"-\")","v":0},{"$f":"IFERROR(SUMIFS('Małe instalacje'!$H:$H,'Małe instalacje'!$G:$G,\"=\"&E54),\"-\")","v":{"v":0,"d":"0.00"}},"-",null,null,"lubelskie",0,{"v":0,"d":"0.00"},"-"]
[{"$nulls":4},"opolskie",{"$f":"IFERROR(COUNTIFS(Farmy!$G:$G,\"=\"&E55),\"-\")","v":0},{"$f":"IFERROR(SUMIFS(Farmy!$H:$H,Farmy!$G:$G,\"=\"&E55),\"-\")","v":{"v":0,"d":"0.00"}},"-",null,null,"opolskie",{"$f":"IFERROR(COUNTIFS('Małe instalacje'!$G:$G,\"=\"&E55),\"-\")","v":2},{"$f":"IFERROR(SUMIFS('Małe instalacje'!$H:$H,'Małe instalacje'!$G:$G,\"=\"&E55),\"-\")","v":{"v":1.051,"d":"1.05"}},{"v":0.5255,"d":"0.53"},null,null,"opolskie",2,{"v":1.051,"d":"1.05"},{"v":0.5255,"d":"0.53"}]
[{"$nulls":4},"podkarpackie",{"$f":"IFERROR(COUNTIFS(Farmy!$G:$G,\"=\"&E56),\"-\")","v":3},{"$f":"IFERROR(SUMIFS(Farmy!$H:$H,Farmy!$G:$G,\"=\"&E56),\"-\")","v":{"v":4.9719999999999995,"d":"4.97"}},{"v":1.657333333333333,"d":"1.66"},null,null,"podkarpackie",{"$f":"IFERROR(COUNTIFS('Małe instalacje'!$G:$G,\"=\"&E56),\"-\")","v":0},{"$f":"IFERROR(SUMIFS('Małe instalacje'!$H:$H,'Małe instalacje'!$G:$G,\"=\"&E56),\"-\")","v":{"v":0,"d":"0.00"}},"-",null,null,"podkarpackie",3,{"v":4.9719999999999995,"d":"4.97"},{"v":1.657333333333333,"d":"1.66"}]
[{"$nulls":4},"śląskie",{"$f":"IFERROR(COUNTIFS(Farmy!$G:$G,\"=\"&E57),\"-\")","v":0},{"$f":"IFERROR(SUMIFS(Farmy!$H:$H,Farmy!$G:$G,\"=\"&E57),\"-\")","v":{"v":0,"d":"0.00"}},"-",null,null,"śląskie",{"$f":"IFERROR(COUNTIFS('Małe instalacje'!$G:$G,\"=\"&E57),\"-\")","v":0},{"$f":"IFERROR(SUMIFS('Małe instalacje'!$H:$H,'Małe instalacje'!$G:$G,\"=\"&E57),\"-\")","v":{"v":0,"d":"0.00"}},"-",null,null,"śląskie",0,{"v":0,"d":"0.00"},"-"]
[{"$nulls":4},"świętokrzyskie",{"$f":"IFERROR(COUNTIFS(Farmy!$G:$G,\"=\"&E58),\"-\")","v":0},{"$f":"IFERROR(SUMIFS(Farmy!$H:$H,Farmy!$G:$G,\"=\"&E58),\"-\")","v":{"v":0,"d":"0.00"}},"-",null,null,"świętokrzyskie",{"$f":"IFERROR(COUNTIFS('Małe instalacje'!$G:$G,\"=\"&E58),\"-\")","v":0},{"$f":"IFERROR(SUMIFS('Małe instalacje'!$H:$H,'Małe instalacje'!$G:$G,\"=\"&E58),\"-\")","v":{"v":0,"d":"0.00"}},"-",null,null,"świętokrzyskie",0,{"v":0,"d":"0.00"},"-"]
[{"$nulls":4},"małopolskie",{"$f":"IFERROR(COUNTIFS(Farmy!$G:$G,\"=\"&E59),\"-\")","v":0},{"$f":"IFERROR(SUMIFS(Farmy!$H:$H,Farmy!$G:$G,\"=\"&E59),\"-\")","v":{"v":0,"d":"0.00"}},"-",null,null,"małopolskie",{"$f":"IFERROR(COUNTIFS('Małe instalacje'!$G:$G,\"=\"&E59),\"-\")","v":0},{"$f":"IFERROR(SUMIFS('Małe instalacje'!$H:$H,'Małe instalacje'!$G:$G,\"=\"&E59),\"-\")","v":{"v":0,"d":"0.00"}},"-",null,null,"małopolskie",0,{"v":0,"d":"0.00"},"-"]
{"$rows_empty":39}
[{"$nulls":8},0]
[{"$nulls":8},0]
[{"$nulls":8},0]
[{"$nulls":4},0,0.5,{"$nulls":3},0.5,1,5,10,30,5,10,0,0.5,1,5,10,30]
[{"$nulls":4},0.5,1,{"$nulls":3},1,5,10,30,null,10,30,0.5,1,5,10,30]
[{"$nulls":3},"Małe instalacje z danego zakresu mocy","< 0,5 MW","0,5 - 1 MW",null,null,"Farmy z danego zakresu mocy","0,5 - 1 MW","1-5 MW","5-10 MW","10-30 MW","> 30 MW",null,"Wszystkie instalacje","< 0,5 MW","0,5 - 1 MW","1-5 MW","5-10 MW","10-30 MW","> 30 MW"]
[{"$nulls":3},"liczba",{"$f":"COUNTIFS('Małe instalacje'!$H:$H,\">=\"&E102,'Małe instalacje'!$H:$H,\"<\"&E103)","v":{"v":9,"d":"9 "}},{"$f":"COUNTIFS('Małe instalacje'!$H:$H,\">=\"&F102,'Małe instalacje'!$H:$H,\"<\"&F103)","v":{"v":1,"d":"1 "}},null,null,"liczba",{"$f":"COUNTIFS(Farmy!$H:$H,\">=\"&J102,Farmy!$H:$H,\"<\"&J103)","v":{"v":3,"d":"3 "}},{"$f":"COUNTIFS(Farmy!$H:$H,\">=\"&K102,Farmy!$H:$H,\"<\"&K103)","v":{"v":7,"d":"7 "}},{"$f":"COUNTIFS(Farmy!$H:$H,\">=\"&L102,Farmy!$H:$H,\"<\"&L103)","v":0},{"$f":"COUNTIFS(Farmy!$H:$H,\">=\"&M102,Farmy!$H:$H,\"<\"&M103)","v":0},{"$f":"COUNTIFS(Farmy!$H:$H,\">=\"&N102)","v":0},null,"liczba",{"$f":"E105","v":{"v":9,"d":"9 "}},{"$f":"F105+J105","v":{"v":4,"d":"4 "}},{"$f":"K105","v":{"v":7,"d":"7 "}},0,0,0]
[{"$nulls":3},"moc [MW]",{"$f":"SUMIFS('Małe instalacje'!$H:$H,'Małe instalacje'!$H:$H,\">=\"&E102,'Małe instalacje'!$H:$H,\"<\"&E103)","v":{"v":1.6740000000000002,"d":"1.67 "}},{"$f":"SUMIFS('Małe instalacje'!$H:$H,'Małe instalacje'!$H:$H,\">=\"&F102,'Małe instalacje'!$H:$H,\"<\"&F103)","v":{"v":0.952,"d":"0.95 "}},null,null,"moc [MW]",{"$f":"SUMIFS(Farmy!$H:$H,Farmy!$H:$H,\">=\"&J102,Farmy!$H:$H,\"<\"&J103)","v":{"v":2.9160000000000004,"d":"2.92 "}},{"$f":"SUMIFS(Farmy!$H:$H,Farmy!$H:$H,\">=\"&K102,Farmy!$H:$H,\"<\"&K103)","v":{"v":11.256999999999998,"d":"11.26 "}},{"$f":"SUMIFS(Farmy!$H:$H,Farmy!$H:$H,\">=\"&L102,Farmy!$H:$H,\"<\"&L103)","v":0},{"$f":"SUMIFS(Farmy!$H:$H,Farmy!$H:$H,\">=\"&M102,Farmy!$H:$H,\"<\"&M103)","v":0},{"$f":"SUMIFS(Farmy!$H:$H,Farmy!$H:$H,\">=\"&N102)","v":0},null,"moc [MW]",{"$f":"E106","v":{"v":1.6740000000000002,"d":"1.67 "}},{"$f":"F106+J106","v":{"v":3.8680000000000003,"d":"3.87 "}},{"v":11.256999999999998,"d":"11.26 "},0,0,0]

{"sheet":"Operatorzy zestawienie ","index":4,"n_rows":55,"n_cols":18,"rows_kept":55,"merged":[[1,1,1,22],[2,1,2,22],[3,17,3,22]]}
[]
[null,"ZESTAWIENIE DLA OPERATORÓW"]
[null,"Informacje o największych operatorów farm PV"]
[{"$nulls":17},"Copyright ©2025 IEO. Wszelkie prawa zastrzeżone. "]
[]
[]
[null,null,"Nazwa Operatora (spółki holdingowej)","Całkowita Moc Projektów [MW]","Liczba projektów"]
[null,null,"EKOENERGIA MAZURY",{"v":3.995,"d":"4.0 "},3]
[null,null,"REMET CNC TECHNOLOGY M&P PIEKUT",{"v":1.999,"d":"2.0 "},1,{"$nulls":4},{"$f":"'Operatorzy zestawienie '!$C8","v":"EKOENERGIA MAZURY"},{"$f":"'Operatorzy zestawienie '!$D8","v":3.995}]
[null,null,"EKO PARK XIV",{"v":1.979,"d":"2.0 "},1,{"$nulls":4},{"$f":"'Operatorzy zestawienie '!$C9","v":"REMET CNC TECHNOLOGY M&P PIEKUT"},{"$f":"'Operatorzy zestawienie '!$D9","v":1.999}]
[null,null,"Creator",{"v":1.799,"d":"1.8 "},1,{"$nulls":4},{"$f":"'Operatorzy zestawienie '!$C10","v":"EKO PARK XIV"},{"$f":"'Operatorzy zestawienie '!$D10","v":1.979}]
[null,null,"ELEKTRIO Marian Jóźwiak, Jarosław Zdziarski s.c.",{"v":1.199,"d":"1.2 "},1,{"$nulls":4},{"$f":"'Operatorzy zestawienie '!$C11","v":"Creator"},{"$f":"'Operatorzy zestawienie '!$D11","v":1.799}]
[null,null,"AGMAD - SOLAR",{"v":1.174,"d":"1.2 "},1,{"$nulls":4},{"$f":"'Operatorzy zestawienie '!$C12","v":"ELEKTRIO Marian Jóźwiak, Jarosław Zdziarski s.c."},{"$f":"'Operatorzy zestawienie '!$D12","v":1.199}]
[null,null,"ALNOR - SYSTEMY WENTYLACJI",{"v":1.109,"d":"1.1 "},1,{"$nulls":4},{"$f":"'Operatorzy zestawienie '!$C13","v":"AGMAD - SOLAR"},{"$f":"'Operatorzy zestawienie '!$D13","v":1.174}]
[null,null,"AWAT",{"v":0.919,"d":"0.9 "},1,{"$nulls":4},{"$f":"'Operatorzy zestawienie '!$C14","v":"ALNOR - SYSTEMY WENTYLACJI"},{"$f":"'Operatorzy zestawienie '!$D14","v":1.109}]
[{"$nulls":9},{"$f":"'Operatorzy zestawienie '!$C15","v":"AWAT"},{"$f":"'Operatorzy zestawienie '!$D15","v":0.919}]
[{"$nulls":9},{"$f":"'Operatorzy zestawienie '!$C16","v":0},{"$f":"'Operatorzy zestawienie '!$D16","v":0}]
[{"$nulls":9},{"$f":"'Operatorzy zestawienie '!$C17","v":0},{"$f":"'Operatorzy zestawienie '!$D17","v":0}]
[{"$nulls":9},{"$f":"'Operatorzy zestawienie '!$C18","v":0},{"$f":"'Operatorzy zestawienie '!$D18","v":0}]
[{"$nulls":9},{"$f":"'Operatorzy zestawienie '!$C19","v":0},{"$f":"'Operatorzy zestawienie '!$D19","v":0}]
[{"$nulls":9},{"$f":"'Operatorzy zestawienie '!$C20","v":0},{"$f":"'Operatorzy zestawienie '!$D20","v":0}]
[{"$nulls":9},{"$f":"'Operatorzy zestawienie '!$C21","v":0},{"$f":"'Operatorzy zestawienie '!$D21","v":0}]
[{"$nulls":9},{"$f":"'Operatorzy zestawienie '!$C22","v":0},{"$f":"'Operatorzy zestawienie '!$D22","v":0}]
[{"$nulls":9},{"$f":"'Operatorzy zestawienie '!$C23","v":0},{"$f":"'Operatorzy zestawienie '!$D23","v":0}]
[{"$nulls":9},{"$f":"'Operatorzy zestawienie '!$C24","v":0},{"$f":"'Operatorzy zestawienie '!$D24","v":0}]
[{"$nulls":9},{"$f":"'Operatorzy zestawienie '!$C25","v":0},{"$f":"'Operatorzy zestawienie '!$D25","v":0}]
[{"$nulls":9},{"$f":"'Operatorzy zestawienie '!$C26","v":0},{"$f":"'Operatorzy zestawienie '!$D26","v":0}]
[{"$nulls":9},{"$f":"'Operatorzy zestawienie '!$C54","v":"Pozostałe projekty zidentyfikowanych operatorów"},{"$f":"'Operatorzy zestawienie '!$D54","v":0}]
{"$rows_empty":25}
[null,null,"Pozostałe projekty zidentyfikowanych operatorów",{"$f":"D55-SUM(D8:D51)","v":0},{"$f":"E55-SUM(E8:E51)","v":0}]
[null,null,"łącznie zidentyfikowanych projektów",{"$f":"Analiza!S10","v":{"v":14.172999999999998,"d":"14.2 "}},{"$f":"Analiza!S9","v":10}]

{"sheet":"PV na tle innych OZE","index":5,"n_rows":51,"n_cols":15,"rows_kept":51,"merged":[[1,1,1,16],[2,1,2,16],[3,1,3,3]]}
[]
[null,"Farmy PV na tle innych źródeł OZE"]
[]
[null,"Copyright ©2025 IEO. Wszelkie prawa zastrzeżone. "]
[]
[]
[]
[]
[]
[{"$nulls":3},"Instalacje produkujące energię elektryczną [moc skumulowana]",2016,2017,2018,2019,2020,2021,2022,2023,2024,"2025 (VI)"]
[{"$nulls":3},"PV (wszystkie rodzaje)",{"v":187.59958,"d":"187.60 "},{"v":261.797285,"d":"261.80 "},{"v":505.6571306768248,"d":"505.66 "},{"v":1529.2,"d":"1,529.20 "},{"v":3961.4,"d":"3,961.40 "},{"v":7681.4,"d":"7,681.40 "},{"v":12114.7,"d":"12,114.70 "},{"v":17057.1,"d":"17,057.10 "},{"v":21157.024,"d":"21,157.02 "},"-","MW"]
[{"$nulls":3},"BIOGAZ",{"v":233.967,"d":"233.97 "},{"v":235.373,"d":"235.37 "},{"v":237.618,"d":"237.62 "},{"v":225.2,"d":"225.20 "},{"v":240.6,"d":"240.60 "},{"v":249.5,"d":"249.50 "},{"v":271.7,"d":"271.70 "},{"v":293.8,"d":"293.80 "},{"v":306.277,"d":"306.28 "},"-","MW"]
[{"$nulls":3},"BIOMASA",{"v":1281.065,"d":"1,281.07 "},{"v":1362.03,"d":"1,362.03 "},{"v":1362.87,"d":"1,362.87 "},{"v":812.9,"d":"812.90 "},{"v":815.2,"d":"815.20 "},{"v":819.5,"d":"819.50 "},{"v":849.3,"d":"849.30 "},{"v":981.6,"d":"981.60 "},{"v":969.575,"d":"969.58 "},"-","MW"]
[{"$nulls":3},"WIATR",{"v":5807.416,"d":"5,807.42 "},{"v":5848.671,"d":"5,848.67 "},{"v":5864.443,"d":"5,864.44 "},{"v":5868.9,"d":"5,868.90 "},{"v":6327.9,"d":"6,327.90 "},{"v":7007.7,"d":"7,007.70 "},{"v":8129.5,"d":"8,129.50 "},{"v":9428.3,"d":"9,428.30 "},{"v":10139.538,"d":"10,139.54 "},"-","MW"]
[{"$nulls":3},"WODA",{"v":993.995,"d":"994.00 "},{"v":988.377,"d":"988.38 "},{"v":981.504,"d":"981.50 "},{"v":978.1,"d":"978.10 "},{"v":980.6,"d":"980.60 "},{"v":983.9,"d":"983.90 "},{"v":985.2,"d":"985.20 "},{"v":979.1,"d":"979.10 "},{"v":980.829,"d":"980.83 "},"-","MW"]
[{"$nulls":13},"06.2025 - dane ARE "]
{"$rows_empty":33}
[{"$nulls":5},"rodzaj instalacji","PV","BIOGAZ","BIOMASA","WIATR","WODA"]
[{"$nulls":5},"moc [MW]",{"$f":"N11","v":"-"},{"$f":"N12","v":"-"},{"$f":"N13","v":"-"},{"$f":"N14","v":"-"},{"$f":"N15","v":"-"}]

{"sheet":"Mapy","index":6,"n_rows":4,"n_cols":2,"rows_kept":4,"merged":[[1,1,1,33],[2,1,2,33],[3,1,3,6]]}
[]
[null,"Mapy funkcjonujących farm PV w Polsce"]
[null,"Mapy zostały stworzone przy użyciu strony Mapy Google. Po kliknięciu na grafikę mapy otworzy się przeglądarka z interaktywną zawartością mapy"]
[null,"Copyright ©2025 IEO. Wszelkie prawa zastrzeżone. "]