Workbook

Sheet Wstęp
B2: Funkcjonujące Farmy Fotowoltaiczne w Polsce
B3: Największy zbiór danych o dużych instalacjach PV wytwarzających już energię elektryczną

Sheet Farmy
F1: Zbiór danych o farmach PV funkcjonujących i wytwarzających energię elektryczną
F2: Zbiór powstał na podstawie danych o koncesjach na wytwarzanie energii elektrycznej udostępnianych przez Urząd Regulacji Energetyki
F3: Podano stan jest na dzień 13.08.2026
F4: Copyright ©2026 IEO. Wszelkie prawa zastrzeżone.
B6: Dane instalacji | I6: Dane inwestora | P6: Dane instalacji
B7: Lp. | C7: Rodzaj instalacji | D7: Miejscowość | E7: Gmina | F7: Powiat | G7: Województwo | H7: Moc [MW] | I7: Inwestor | J7: Adres | K7: Kod pocztowy | L7: Miejscowość inwestora | M7: Województwo inwestora | N7: Spółka holdingowa | O7: NIP | P7: Data Wydania | Q7: Data Od | R7: Data Do
B8: 1 | C8: Farma | D8: Komorów | E8: Cielądz | F8: rawski | G8: łódzkie | H8: 9.998 | I8: TRIVANTA KOMORÓW SPÓŁKA Z OGRANICZONĄ ODPOWIEDZIALNOŚCIĄ | J8: ul. Norberta Barlickiego 2 | K8: 97-200 | L8: Tomaszów Mazowiecki | M8: łódzkie | N8: 3V HOLDCO 1 GMBH & CO. KG | O8: 9691655687 | P8: 46230 | Q8: 46230 | R8: 53535
B9: 2 | C9: Farma | D9: Osiek, Śmiłów | E9: Nowe Skalmierzyce | F9: ostrowski | G9: wielkopolskie | H9: 4.999 | I9: 4E CONCEPT 2 SPÓŁKA Z OGRANICZONĄ ODPOWIEDZIALNOŚCIĄ | J9: ul. Powsińska 75 / 90 | K9: 02-903 | L9: Warszawa | M9: mazowieckie | N9: 4E CONCEPT 2 SPÓŁKA Z OGRANICZONĄ ODPOWIEDZIALNOŚCIĄ | O9: 5213912176 | P9: 45989 | Q9: 45989 | R9: 53294
B10: 3 | C10: Farma | D10: Pińczów | E10: Pińczów | F10: pińczowski | G10: świętokrzyskie | H10: 1.49985 | I10: Solar-R 1 Sp. z o.o. | J10: ul. Nowowiejska 52a | K10: 28-400 | L10: Pińczów | M10: świętokrzyskie | N10: 4FAM FUNDACJA RODZINNA | O10: 6621822799 | P10: 46153 | Q10: 46153 | R10: 53458
B11: 4 | C11: Farma | D11: Bogucice Drugie | E11: Pińczów | F11: pińczowski | G11: świętokrzyskie | H11: 7.13184 | I11: Solar-R 2 sp. z o.o. | J11: ul. Nowowiejska 52a | K11: 28-400 | L11: Pińczów | M11: świętokrzyskie | N11: 4FAM FUNDACJA RODZINNA | O11: 6621823250 | P11: 44753 | Q11: 44753 | R11: 52058
B12: 5 | C12: Farma | D12: Skrybicze | E12: Zabłudów | F12: białostocki | G12: podlaskie | H12: 1.998 | I12: AB Inwest Borysiewicz Spółka jawna | J12: ul. Szosa Zabłudowska 15 | K12: 15-588 | L12: Kuriany | M12: podlaskie | N12: AB Energia Borysiewicz Spółka Jawna | O12: 9662210416 | P12: 46050 | Q12: 46050 | R12: 53355
B13: 6 | C13: Farma | D13: Żychlin | E13: Żychlin | F13: kutnowski | G13: łódzkie | H13: 2.349 | I13: AB Inwest Borysiewicz Spółka jawna | J13: ul. Szosa Zabłudowska 15 | K13: 15-588 | L13: Kuriany | M13: podlaskie | N13: AB Energia Borysiewicz Spółka Jawna | O13: 9662210416 | P13: 46050 | Q13: 46050 | R13: 53355
B14: 7 | C14: Farma | D14: Skrybicze | E14: Zabłudów | F14: białostocki | G14: podlaskie | H14: 1.998 | I14: AB Inwest Borysiewicz Spółka jawna | J14: ul. Szosa Zabłudowska 15 | K14: 15-588 | L14: Kuriany | M14: podlaskie | N14: AB Energia Borysiewicz Spółka Jawna | O14: 9662210416 | P14: 46050 | Q14: 46050 | R14: 53355
B15: 8 | C15: Farma | D15: Jasin | E15: Swarzędz | F15: poznański | G15: wielkopolskie | H15: 1.003 | I15: R.TWINING AND COMPANY SPÓŁKA Z O.O. | J15: RABOWICKA 29 / 31 | K15: 62-020 | L15: SWARZĘDZ | M15: wielkopolskie | N15: ABF OVERSEAS LIMITED | O15: 5252426600 | P15: 45322 | Q15: 45322 | R15: 51501
B16: 9 | C16: Farma | D16: Kolno | E16: Kolno | F16: kolneński | G16: podlaskie | H16: 1.854 | I16: ACTIVIA SUN KOLNO I Sp. z o.o. | J16: Spichrzowa 25 / 2 | K16: 80-750 | L16: Gdańsk | M16: pomorskie | N16: ACTIVIA SUN KOLNO I Sp. z o.o. | O16: 5110291490 | P16: 44299 | Q16: 44299 | R16: 47951
B17: 10 | C17: Farma | D17: Kolno | E17: Kolno | F17: kolneński | G17: podlaskie | H17: 1.854 | I17: ACTIVIA SUN KOLNO II Sp. z o.o. | J17: Spichrzowa 25 / 2 | K17: 80-750 | L17: Gdańsk | M17: pomorskie | N17: ACTIVIA SUN KOLNO II Sp. z o.o. | O17: 5110291515 | P17: 44299 | Q17: 44299 | R17: 47951

Sheet Małe instalacje
F1: Zbiór danych o farmach PV funkcjonujących i wytwarzających energię elektryczną
F2: Zbiór powstał na podstawie rejestru MIOZE prowadzonego przez Urząd Regulacji Energetyki
F3: Podano stan jest na dzień 13.08.2026
F4: Copyright ©2026 IEO. Wszelkie prawa zastrzeżone.
B6: Dane instalacji | I6: Dane inwestora | O6: Dane instalacji
B7: Lp. | C7: Rodzaj instalacji | D7: Miejscowość | E7: Gmina | F7: Powiat | G7: Województwo | H7: Moc [MW] | I7: Inwestor | J7: Adres | K7: Kod pocztowy | L7: Miejscowość inwestora | M7: Województwo inwestora | N7: NIP | O7: Data wpisu do rejestru | P7: Data Od
B8: 1 | C8: Mała instalacja | D8: Cielądz | E8: Cielądz | F8: rawski | G8: łódzkie | H8: 0.992 | I8: "HERCO" SPÓŁKA Z OGRANICZONĄ ODPOWIEDZIALNOŚCIĄ | J8: CIELĄDZ 28 C | K8: 96-214 | L8: CIELĄDZ | M8: łódzkie | N8: 8340003651 | O8: 46225 | P8: 46225
B9: 2 | C9: Mała instalacja | D9: Mielec | E9: Mielec | F9: mielecki | G9: podkarpackie | H9: 0.115 | I9: "SPIROFLEX" SPÓŁKA Z OGRANICZONĄ ODPOWIEDZIALNOŚCIĄ | J9: WOJSKA POLSKIEGO 6E | K9: 39-300 | L9: MIELEC | M9: podkarpackie | N9: 8171000212 | O9: 45246 | P9: 45192
B10: 3 | C10: Mała instalacja | D10: Kraków | E10: Kraków | F10: Kraków | G10: małopolskie | H10: 0.118 | I10: ABM SPÓŁKA AKCYJNA | J10: DOBRY POCZĄTEK 6 | K10: 30-798 | L10: KRAKÓW | M10: małopolskie | N10: 6792469111 | O10: 45345 | P10: 45345
B11: 4 | C11: Mała instalacja | D11: Obrowo | E11: Obrowo | F11: toruński | G11: kujawsko-pomorskie | H11: 0.999 | I11: BALJAR SPÓŁKA Z OGRANICZONĄ ODPOWIEDZIALNOŚCIĄ | J11: Sportowa 44 | K11: 87-720 | L11: Ciechocinek | M11: kujawsko-pomorskie | N11: 8792746416 | O11: 45407 | P11: 45407
B12: 5 | C12: Mała instalacja | D12: Obrowo | E12: Obrowo | F12: toruński | G12: kujawsko-pomorskie | H12: 0.999 | I12: BALJAR SPÓŁKA Z OGRANICZONĄ ODPOWIEDZIALNOŚCIĄ | J12: Sportowa 44 | K12: 87-720 | L12: Ciechocinek | M12: kujawsko-pomorskie | N12: 8792746416 | O12: 45407 | P12: 45407
B13: 6 | C13: Mała instalacja | D13: Obrowo | E13: Obrowo | F13: toruński | G13: kujawsko-pomorskie | H13: 0.999 | I13: BALJAR SPÓŁKA Z OGRANICZONĄ ODPOWIEDZIALNOŚCIĄ | J13: Sportowa 44 | K13: 87-720 | L13: Ciechocinek | M13: kujawsko-pomorskie | N13: 8792746416 | O13: 45407 | P13: 45407
B14: 7 | C14: Mała instalacja | D14: Rudawa | E14: Mogilany | F14: krakowski | G14: małopolskie | H14: 0.179 | I14: BIGA-STAL PIOTR BICZ SPÓŁKA JAWNA | J14: LEGIONÓW POLSKICH 27 | K14: 32-064 | L14: RUDAWA | M14: małopolskie | N14: 6760053293 | O14: 45307 | P14: 45371
B15: 8 | C15: Mała instalacja | D15: Mielec | E15: Mielec | F15: mielecki | G15: podkarpackie | H15: 0.391 | I15: EURO-EKO SPÓŁKA Z OGRANICZONĄ ODPOWIEDZIALNOŚCIĄ | J15: ul. Wojska Polskiego 3 | K15: 39-300 | L15: Mielec | M15: podkarpackie | N15: 8171817858 | O15: 45307 | P15: 45307
B16: 9 | C16: Mała instalacja | D16: Kolbuszowa | E16: Kolbuszowa | F16: kolbuszowski | G16: podkarpackie | H16: 0.12 | I16: FIN INVEST Sp. z o.o. | J16: HANDLOWA 2A | K16: 36-100 | L16: KOLBUSZOWA | M16: podkarpackie | N16: 8141610822 | O16: 45251 | P16: 45454
B17: 10 | C17: Mała instalacja | D17: Husów | E17: Markowa | F17: łańcucki | G17: podkarpackie | H17: 0.199 | I17: FOTOWOLTAIKA HUSÓW I SPÓŁKA Z OGRANICZONĄ ODPOWIEDZIALNOŚCIĄ | J17: HUSÓW 7 | K17: 37-121 | L17: HUSÓW | M17: podkarpackie | N17: 8151800694 | O17: 45275 | P17: 45275

Sheet Analiza
B2: Analizy statystyczne funkcjonujących instalacji PV
B4: Copyright ©2026 IEO. Wszelkie prawa zastrzeżone.
E6: =DATE(E8, 1, 1) -> 40179 | F6: =DATE(F8, 1, 1) -> 40544 | G6: =DATE(G8, 1, 1) -> 40909 | H6: =DATE(H8, 1, 1) -> 41275 | I6: =DATE(I8, 1, 1) -> 41640 | J6: =DATE(J8, 1, 1) -> 42005 | K6: =DATE(K8, 1, 1) -> 42370 | L6: =DATE(L8, 1, 1) -> 42736 | ... U6: =DATE(U8, 1, 1) -> 46023
E7: =DATE(E8, 12, 31) -> 40543 | F7: =DATE(F8, 12, 31) -> 40908 | G7: =DATE(G8, 12, 31) -> 41274 | H7: =DATE(H8, 12, 31) -> 41639 | I7: =DATE(I8, 12, 31) -> 42004 | J7: =DATE(J8, 12, 31) -> 42369 | K7: =DATE(K8, 12, 31) -> 42735 | L7: =DATE(L8, 12, 31) -> 43100 | ... U7: =DATE(U8, 12, 31) -> 46387
E8: 2010 | F8: 2011 | G8: 2012 | H8: 2013 | I8: 2014 | J8: 2015 | K8: 2016 | L8: 2017 | M8: 2018 | N8: 2019 | O8: 2020 | P8: 2021 | Q8: 2022 | R8: 2023 | S8: 2024 | T8: 2025 | U8: 2026 | V8: suma
C9: Farmy | D9: liczba | E9: =COUNTIFS(Farmy!$Q:$Q,">="&E6,Farmy!$Q:$Q,"<="&E7) -> 0 | F9: =COUNTIFS(Farmy!$Q:$Q,">="&F6,Farmy!$Q:$Q,"<="&F7) -> 0 | G9: =COUNTIFS(Farmy!$Q:$Q,">="&G6,Farmy!$Q:$Q,"<="&G7) -> 0 | H9: =COUNTIFS(Farmy!$Q:$Q,">="&H6,Farmy!$Q:$Q,"<="&H7) -> 0 | I9: =COUNTIFS(Farmy!$Q:$Q,">="&I6,Farmy!$Q:$Q,"<="&I7) -> 0 | J9: =COUNTIFS(Farmy!$Q:$Q,">="&J6,Farmy!$Q:$Q,"<="&J7) -> 0 | K9: =COUNTIFS(Farmy!$Q:$Q,">="&K6,Farmy!$Q:$Q,"<="&K7) -> 0 | L9: =COUNTIFS(Farmy!$Q:$Q,">="&L6,Farmy!$Q:$Q,"<="&L7) -> 0 | ... U9: =COUNTIFS(Farmy!$Q:$Q,">="&U6,Farmy!$Q:$Q,"<="&U7) -> 5 | V9: =COUNT(Farmy!Q:Q) -> 10
D10: moc [MW] | E10: =SUMIFS(Farmy!$H:$H,Farmy!$Q:$Q,">="&E6,Farmy!$Q:$Q,"<="&E7) -> 0 | F10: =SUMIFS(Farmy!$H:$H,Farmy!$Q:$Q,">="&F6,Farmy!$Q:$Q,"<="&F7) -> 0 | G10: =SUMIFS(Farmy!$H:$H,Farmy!$Q:$Q,">="&G6,Farmy!$Q:$Q,"<="&G7) -> 0 | H10: =SUMIFS(Farmy!$H:$H,Farmy!$Q:$Q,">="&H6,Farmy!$Q:$Q,"<="&H7) -> 0 | I10: =SUMIFS(Farmy!$H:$H,Farmy!$Q:$Q,">="&I6,Farmy!$Q:$Q,"<="&I7) -> 0 | J10: =SUMIFS(Farmy!$H:$H,Farmy!$Q:$Q,">="&J6,Farmy!$Q:$Q,"<="&J7) -> 0 | K10: =SUMIFS(Farmy!$H:$H,Farmy!$Q:$Q,">="&K6,Farmy!$Q:$Q,"<="&K7) -> 0 | L10: =SUMIFS(Farmy!$H:$H,Farmy!$Q:$Q,">="&L6,Farmy!$Q:$Q,"<="&L7) -> 0 | ... U10: =SUMIFS(Farmy!$H:$H,Farmy!$Q:$Q,">="&U6,Farmy!$Q:$Q,"<="&U7) -> 17.84285 | V10: =SUM(Farmy!H:H) -> 34.68469
D11: średnia moc | E11: =IFERROR(E10/E9,"-") -> - | F11: =IFERROR(F10/F9,"-") -> - | G11: =IFERROR(G10/G9,"-") -> - | H11: =IFERROR(H10/H9,"-") -> - | I11: =IFERROR(I10/I9,"-") -> - | J11: =IFERROR(J10/J9,"-") -> - | K11: =IFERROR(K10/K9,"-") -> - | L11: =IFERROR(L10/L9,"-") -> - | ... U11: =IFERROR(U10/U9,"-") -> 3.56857 | V11: =V10/V9 -> 3.468469
E13: 2010 | F13: 2011 | G13: 2012 | H13: 2013 | I13: 2014 | J13: 2015 | K13: 2016 | L13: 2017 | M13: 2018 | N13: 2019 | O13: 2020 | P13: 2021 | Q13: 2022 | R13: 2023 | S13: 2024 | T13: 2025 | U13: 2026 | V13: suma
C14: Małe instalacje | D14: liczba | E14: =COUNTIFS('Małe instalacje'!$P:$P,">="&E6,'Małe instalacje'!$P:$P,"<="&E7) -> 0 | F14: =COUNTIFS('Małe instalacje'!$P:$P,">="&F6,'Małe instalacje'!$P:$P,"<="&F7) -> 0 | G14: =COUNTIFS('Małe instalacje'!$P:$P,">="&G6,'Małe instalacje'!$P:$P,"<="&G7) -> 0 | H14: =COUNTIFS('Małe instalacje'!$P:$P,">="&H6,'Małe instalacje'!$P:$P,"<="&H7) -> 0 | I14: =COUNTIFS('Małe instalacje'!$P:$P,">="&I6,'Małe instalacje'!$P:$P,"<="&I7) -> 0 | J14: =COUNTIFS('Małe instalacje'!$P:$P,">="&J6,'Małe instalacje'!$P:$P,"<="&J7) -> 0 | K14: =COUNTIFS('Małe instalacje'!$P:$P,">="&K6,'Małe instalacje'!$P:$P,"<="&K7) -> 0 | L14: =COUNTIFS('Małe instalacje'!$P:$P,">="&L6,'Małe instalacje'!$P:$P,"<="&L7) -> 0 | ... U14: =COUNTIFS('Małe instalacje'!$P:$P,">="&U6,'Małe instalacje'!$P:$P,"<="&U7) -> 1 | V14: =COUNT('Małe instalacje'!H:H) -> 10
D15: moc [MW] | E15: =SUMIFS('Małe instalacje'!$H:$H,'Małe instalacje'!$P:$P,">="&E6,'Małe instalacje'!$P:$P,"<="&E7) -> 0 | F15: =SUMIFS('Małe instalacje'!$H:$H,'Małe instalacje'!$P:$P,">="&F6,'Małe instalacje'!$P:$P,"<="&F7) -> 0 | G15: =SUMIFS('Małe instalacje'!$H:$H,'Małe instalacje'!$P:$P,">="&G6,'Małe instalacje'!$P:$P,"<="&G7) -> 0 | H15: =SUMIFS('Małe instalacje'!$H:$H,'Małe instalacje'!$P:$P,">="&H6,'Małe instalacje'!$P:$P,"<="&H7) -> 0 | I15: =SUMIFS('Małe instalacje'!$H:$H,'Małe instalacje'!$P:$P,">="&I6,'Małe instalacje'!$P:$P,"<="&I7) -> 0 | J15: =SUMIFS('Małe instalacje'!$H:$H,'Małe instalacje'!$P:$P,">="&J6,'Małe instalacje'!$P:$P,"<="&J7) -> 0 | K15: =SUMIFS('Małe instalacje'!$H:$H,'Małe instalacje'!$P:$P,">="&K6,'Małe instalacje'!$P:$P,"<="&K7) -> 0 | L15: =SUMIFS('Małe instalacje'!$H:$H,'Małe instalacje'!$P:$P,">="&L6,'Małe instalacje'!$P:$P,"<="&L7) -> 0 | ... U15: =SUMIFS('Małe instalacje'!$H:$H,'Małe instalacje'!$P:$P,">="&U6,'Małe instalacje'!$P:$P,"<="&U7) -> 0.992 | V15: =SUM('Małe instalacje'!H:H) -> 5.111
D16: średnia moc | E16: =IFERROR(E15/E14,"-") -> - | F16: =IFERROR(F15/F14,"-") -> - | G16: =IFERROR(G15/G14,"-") -> - | H16: =IFERROR(H15/H14,"-") -> - | I16: =IFERROR(I15/I14,"-") -> - | J16: =IFERROR(J15/J14,"-") -> - | K16: =IFERROR(K15/K14,"-") -> - | L16: =IFERROR(L15/L14,"-") -> - | ... U16: =IFERROR(U15/U14,"-") -> 0.992 | V16: =V15/V14 -> 0.5111
E18: 2010 | F18: 2011 | G18: 2012 | H18: 2013 | I18: 2014 | J18: 2015 | K18: 2016 | L18: 2017 | M18: 2018 | N18: 2019 | O18: 2020 | P18: 2021 | Q18: 2022 | R18: 2023 | S18: 2024 | T18: 2025 | U18: 2026 | V18: suma
C19: Razem | D19: liczba | E19: =E9+E14 -> 0 | F19: =F9+F14 -> 0 | G19: =G9+G14 -> 0 | H19: =H9+H14 -> 0 | I19: =I9+I14 -> 0 | J19: =J9+J14 -> 0 | K19: =K9+K14 -> 0 | L19: =L9+L14 -> 0 | ... V19: =V9+V14 -> 20
D20: moc [MW] | E20: =E10+E15 -> 0 | F20: =F10+F15 -> 0 | G20: =G10+G15 -> 0 | H20: =H10+H15 -> 0 | I20: =I10+I15 -> 0 | J20: =J10+J15 -> 0 | K20: =K10+K15 -> 0 | L20: =L10+L15 -> 0 | ... V20: =V10+V15 -> 39.79569
D21: średnia moc | E21: =IFERROR(E20/E19,"-") -> - | F21: =IFERROR(F20/F19,"-") -> - | G21: =IFERROR(G20/G19,"-") -> - | H21: =IFERROR(H20/H19,"-") -> - | I21: =IFERROR(I20/I19,"-") -> - | J21: =IFERROR(J20/J19,"-") -> - | K21: =IFERROR(K20/K19,"-") -> - | L21: =IFERROR(L20/L19,"-") -> - | ... V21: =IFERROR(V20/V19,"-") -> 1.9897845
E40: Rozkład farm w województwach | K40: Rozkład małych instalacji w województwach | Q40: Rozkład wszystkich instalacji w województwach
F42: liczba | G42: moc [MW] | H42: średnia moc instalacji [MW] | L42: liczba | M42: moc [MW] | N42: średnia moc instalacji [MW] | R42: liczba | S42: moc [MW] | T42: średnia moc instalacji [MW]
E44: zachodniopomorskie | F44: =IFERROR(COUNTIFS(Farmy!$G:$G,"="&E44),"-") -> 0 | G44: =IFERROR(SUMIFS(Farmy!$H:$H,Farmy!$G:$G,"="&E44),"-") -> 0 | H44: =IFERROR(G44/F44,"-") -> - | K44: zachodniopomorskie | L44: =IFERROR(COUNTIFS('Małe instalacje'!$G:$G,"="&E44),"-") -> 0 | M44: =IFERROR(SUMIFS('Małe instalacje'!$H:$H,'Małe instalacje'!$G:$G,"="&E44),"-") -> 0 | N44: =IFERROR(M44/L44,"-") -> - | Q44: zachodniopomorskie | R44: =IFERROR(F44+L44,"-") -> 0 | S44: =IFERROR(G44+M44,"-") -> 0 | T44: =IFERROR(S44/R44,"-") -> -
E45: pomorskie | F45: =IFERROR(COUNTIFS(Farmy!$G:$G,"="&E45),"-") -> 0 | G45: =IFERROR(SUMIFS(Farmy!$H:$H,Farmy!$G:$G,"="&E45),"-") -> 0 | H45: =IFERROR(G45/F45,"-") -> - | K45: pomorskie | L45: =IFERROR(COUNTIFS('Małe instalacje'!$G:$G,"="&E45),"-") -> 0 | M45: =IFERROR(SUMIFS('Małe instalacje'!$H:$H,'Małe instalacje'!$G:$G,"="&E45),"-") -> 0 | N45: =IFERROR(M45/L45,"-") -> - | Q45: pomorskie | R45: =IFERROR(F45+L45,"-") -> 0 | S45: =IFERROR(G45+M45,"-") -> 0 | T45: =IFERROR(S45/R45,"-") -> -
E46: kujawsko-pomorskie | F46: =IFERROR(COUNTIFS(Farmy!$G:$G,"="&E46),"-") -> 0 | G46: =IFERROR(SUMIFS(Farmy!$H:$H,Farmy!$G:$G,"="&E46),"-") -> 0 | H46: =IFERROR(G46/F46,"-") -> - | K46: kujawsko-pomorskie | L46: =IFERROR(COUNTIFS('Małe instalacje'!$G:$G,"="&E46),"-") -> 3 | M46: =IFERROR(SUMIFS('Małe instalacje'!$H:$H,'Małe instalacje'!$G:$G,"="&E46),"-") -> 2.997 | N46: =IFERROR(M46/L46,"-") -> 0.999 | Q46: kujawsko-pomorskie | R46: =IFERROR(F46+L46,"-") -> 3 | S46: =IFERROR(G46+M46,"-") -> 2.997 | T46: =IFERROR(S46/R46,"-") -> 0.999
E47: łódzkie | F47: =IFERROR(COUNTIFS(Farmy!$G:$G,"="&E47),"-") -> 2 | G47: =IFERROR(SUMIFS(Farmy!$H:$H,Farmy!$G:$G,"="&E47),"-") -> 12.347 | H47: =IFERROR(G47/F47,"-") -> 6.1735 | K47: łódzkie | L47: =IFERROR(COUNTIFS('Małe instalacje'!$G:$G,"="&E47),"-") -> 1 | M47: =IFERROR(SUMIFS('Małe instalacje'!$H:$H,'Małe instalacje'!$G:$G,"="&E47),"-") -> 0.992 | N47: =IFERROR(M47/L47,"-") -> 0.992 | Q47: łódzkie | R47: =IFERROR(F47+L47,"-") -> 3 | S47: =IFERROR(G47+M47,"-") -> 13.339 | T47: =IFERROR(S47/R47,"-") -> 4.4463333
E48: wielkopolskie | F48: =IFERROR(COUNTIFS(Farmy!$G:$G,"="&E48),"-") -> 2 | G48: =IFERROR(SUMIFS(Farmy!$H:$H,Farmy!$G:$G,"="&E48),"-") -> 6.002 | H48: =IFERROR(G48/F48,"-") -> 3.001 | K48: wielkopolskie | L48: =IFERROR(COUNTIFS('Małe instalacje'!$G:$G,"="&E48),"-") -> 0 | M48: =IFERROR(SUMIFS('Małe instalacje'!$H:$H,'Małe instalacje'!$G:$G,"="&E48),"-") -> 0 | N48: =IFERROR(M48/L48,"-") -> - | Q48: wielkopolskie | R48: =IFERROR(F48+L48,"-") -> 2 | S48: =IFERROR(G48+M48,"-") -> 6.002 | T48: =IFERROR(S48/R48,"-") -> 3.001
E49: mazowieckie | F49: =IFERROR(COUNTIFS(Farmy!$G:$G,"="&E49),"-") -> 0 | G49: =IFERROR(SUMIFS(Farmy!$H:$H,Farmy!$G:$G,"="&E49),"-") -> 0 | H49: =IFERROR(G49/F49,"-") -> - | K49: mazowieckie | L49: =IFERROR(COUNTIFS('Małe instalacje'!$G:$G,"="&E49),"-") -> 0 | M49: =IFERROR(SUMIFS('Małe instalacje'!$H:$H,'Małe instalacje'!$G:$G,"="&E49),"-") -> 0 | N49: =IFERROR(M49/L49,"-") -> - | Q49: mazowieckie | R49: =IFERROR(F49+L49,"-") -> 0 | S49: =IFERROR(G49+M49,"-") -> 0 | T49: =IFERROR(S49/R49,"-") -> -
E50: warmińsko-mazurskie | F50: =IFERROR(COUNTIFS(Farmy!$G:$G,"="&E50),"-") -> 0 | G50: =IFERROR(SUMIFS(Farmy!$H:$H,Farmy!$G:$G,"="&E50),"-") -> 0 | H50: =IFERROR(G50/F50,"-") -> - | K50: warmińsko-mazurskie | L50: =IFERROR(COUNTIFS('Małe instalacje'!$G:$G,"="&E50),"-") -> 0 | M50: =IFERROR(SUMIFS('Małe instalacje'!$H:$H,'Małe instalacje'!$G:$G,"="&E50),"-") -> 0 | N50: =IFERROR(M50/L50,"-") -> - | Q50: warmińsko-mazurskie | R50: =IFERROR(F50+L50,"-") -> 0 | S50: =IFERROR(G50+M50,"-") -> 0 | T50: =IFERROR(S50/R50,"-") -> -
E51: lubuskie | F51: =IFERROR(COUNTIFS(Farmy!$G:$G,"="&E51),"-") -> 0 | G51: =IFERROR(SUMIFS(Farmy!$H:$H,Farmy!$G:$G,"="&E51),"-") -> 0 | H51: =IFERROR(G51/F51,"-") -> - | K51: lubuskie | L51: =IFERROR(COUNTIFS('Małe instalacje'!$G:$G,"="&E51),"-") -> 0 | M51: =IFERROR(SUMIFS('Małe instalacje'!$H:$H,'Małe instalacje'!$G:$G,"="&E51),"-") -> 0 | N51: =IFERROR(M51/L51,"-") -> - | Q51: lubuskie | R51: =IFERROR(F51+L51,"-") -> 0 | S51: =IFERROR(G51+M51,"-") -> 0 | T51: =IFERROR(S51/R51,"-") -> -
E52: podlaskie | F52: =IFERROR(COUNTIFS(Farmy!$G:$G,"="&E52),"-") -> 4 | G52: =IFERROR(SUMIFS(Farmy!$H:$H,Farmy!$G:$G,"="&E52),"-") -> 7.704 | H52: =IFERROR(G52/F52,"-") -> 1.926 | K52: podlaskie | L52: =IFERROR(COUNTIFS('Małe instalacje'!$G:$G,"="&E52),"-") -> 0 | M52: =IFERROR(SUMIFS('Małe instalacje'!$H:$H,'Małe instalacje'!$G:$G,"="&E52),"-") -> 0 | N52: =IFERROR(M52/L52,"-") -> - | Q52: podlaskie | R52: =IFERROR(F52+L52,"-") -> 4 | S52: =IFERROR(G52+M52,"-") -> 7.704 | T52: =IFERROR(S52/R52,"-") -> 1.926
E53: dolnośląskie | F53: =IFERROR(COUNTIFS(Farmy!$G:$G,"="&E53),"-") -> 0 | G53: =IFERROR(SUMIFS(Farmy!$H:$H,Farmy!$G:$G,"="&E53),"-") -> 0 | H53: =IFERROR(G53/F53,"-") -> - | K53: dolnośląskie | L53: =IFERROR(COUNTIFS('Małe instalacje'!$G:$G,"="&E53),"-") -> 0 | M53: =IFERROR(SUMIFS('Małe instalacje'!$H:$H,'Małe instalacje'!$G:$G,"="&E53),"-") -> 0 | N53: =IFERROR(M53/L53,"-") -> - | Q53: dolnośląskie | R53: =IFERROR(F53+L53,"-") -> 0 | S53: =IFERROR(G53+M53,"-") -> 0 | T53: =IFERROR(S53/R53,"-") -> -
E54: lubelskie | F54: =IFERROR(COUNTIFS(Farmy!$G:$G,"="&E54),"-") -> 0 | G54: =IFERROR(SUMIFS(Farmy!$H:$H,Farmy!$G:$G,"="&E54),"-") -> 0 | H54: =IFERROR(G54/F54,"-") -> - | K54: lubelskie | L54: =IFERROR(COUNTIFS('Małe instalacje'!$G:$G,"="&E54),"-") -> 0 | M54: =IFERROR(SUMIFS('Małe instalacje'!$H:$H,'Małe instalacje'!$G:$G,"="&E54),"-") -> 0 | N54: =IFERROR(M54/L54,"-") -> - | Q54: lubelskie | R54: =IFERROR(F54+L54,"-") -> 0 | S54: =IFERROR(G54+M54,"-") -> 0 | T54: =IFERROR(S54/R54,"-") -> -
E55: opolskie | F55: =IFERROR(COUNTIFS(Farmy!$G:$G,"="&E55),"-") -> 0 | G55: =IFERROR(SUMIFS(Farmy!$H:$H,Farmy!$G:$G,"="&E55),"-") -> 0 | H55: =IFERROR(G55/F55,"-") -> - | K55: opolskie | L55: =IFERROR(COUNTIFS('Małe instalacje'!$G:$G,"="&E55),"-") -> 0 | M55: =IFERROR(SUMIFS('Małe instalacje'!$H:$H,'Małe instalacje'!$G:$G,"="&E55),"-") -> 0 | N55: =IFERROR(M55/L55,"-") -> - | Q55: opolskie | R55: =IFERROR(F55+L55,"-") -> 0 | S55: =IFERROR(G55+M55,"-") -> 0 | T55: =IFERROR(S55/R55,"-") -> -
... E59: małopolskie | F59: =IFERROR(COUNTIFS(Farmy!$G:$G,"="&E59),"-") -> 0 | G59: =IFERROR(SUMIFS(Farmy!$H:$H,Farmy!$G:$G,"="&E59),"-") -> 0 | H59: =IFERROR(G59/F59,"-") -> - | K59: małopolskie | L59: =IFERROR(COUNTIFS('Małe instalacje'!$G:$G,"="&E59),"-") -> 2 | M59: =IFERROR(SUMIFS('Małe instalacje'!$H:$H,'Małe instalacje'!$G:$G,"="&E59),"-") -> 0.297 | N59: =IFERROR(M59/L59,"-") -> 0.1485 | Q59: małopolskie | R59: =IFERROR(F59+L59,"-") -> 2 | S59: =IFERROR(G59+M59,"-") -> 0.297 | T59: =IFERROR(S59/R59,"-") -> 0.1485
I99: 0
I100: 0
I101: 0
E102: 0 | F102: 0.5 | J102: 0.5 | K102: 1 | L102: 5 | M102: 10 | N102: 30 | O102: 5 | P102: 10 | Q102: 0 | R102: 0.5 | S102: 1 | T102: 5 | U102: 10 | V102: 30
E103: 0.5 | F103: 1 | J103: 1 | K103: 5 | L103: 10 | M103: 30 | O103: 10 | P103: 30 | Q103: 0.5 | R103: 1 | S103: 5 | T103: 10 | U103: 30
D104: Małe instalacje z danego zakresu mocy | E104: < 0,5 MW | F104: 0,5 - 1 MW | I104: Farmy z danego zakresu mocy | J104: 0,5 - 1 MW | K104: 1-5 MW | L104: 5-10 MW | M104: 10-30 MW | N104: > 30 MW | P104: Wszystkie instalacje | Q104: < 0,5 MW | R104: 0,5 - 1 MW | S104: 1-5 MW | T104: 5-10 MW | U104: 10-30 MW | V104: > 30 MW
D105: liczba | E105: =COUNTIFS('Małe instalacje'!$H:$H,">="&E102,'Małe instalacje'!$H:$H,"<"&E103) -> 6 | F105: =COUNTIFS('Małe instalacje'!$H:$H,">="&F102,'Małe instalacje'!$H:$H,"<"&F103) -> 4 | I105: liczba | J105: =COUNTIFS(Farmy!$H:$H,">="&J102,Farmy!$H:$H,"<"&J103) -> 0 | K105: =COUNTIFS(Farmy!$H:$H,">="&K102,Farmy!$H:$H,"<"&K103) -> 8 | L105: =COUNTIFS(Farmy!$H:$H,">="&L102,Farmy!$H:$H,"<"&L103) -> 2 | M105: =COUNTIFS(Farmy!$H:$H,">="&M102,Farmy!$H:$H,"<"&M103) -> 0 | N105: =COUNTIFS(Farmy!$H:$H,">="&N102) -> 0 | P105: liczba | Q105: =E105 -> 6 | R105: =F105+J105 -> 4 | S105: =K105 -> 8 | T105: =L105 -> 2 | U105: =M105 -> 0 | V105: =N105 -> 0
D106: moc [MW] | E106: =SUMIFS('Małe instalacje'!$H:$H,'Małe instalacje'!$H:$H,">="&E102,'Małe instalacje'!$H:$H,"<"&E103) -> 1.122 | F106: =SUMIFS('Małe instalacje'!$H:$H,'Małe instalacje'!$H:$H,">="&F102,'Małe instalacje'!$H:$H,"<"&F103) -> 3.989 | I106: moc [MW] | J106: =SUMIFS(Farmy!$H:$H,Farmy!$H:$H,">="&J102,Farmy!$H:$H,"<"&J103) -> 0 | K106: =SUMIFS(Farmy!$H:$H,Farmy!$H:$H,">="&K102,Farmy!$H:$H,"<"&K103) -> 17.55485 | L106: =SUMIFS(Farmy!$H:$H,Farmy!$H:$H,">="&L102,Farmy!$H:$H,"<"&L103) -> 17.12984 | M106: =SUMIFS(Farmy!$H:$H,Farmy!$H:$H,">="&M102,Farmy!$H:$H,"<"&M103) -> 0 | N106: =SUMIFS(Farmy!$H:$H,Farmy!$H:$H,">="&N102) -> 0 | P106: moc [MW] | Q106: =E106 -> 1.122 | R106: =F106+J106 -> 3.989 | S106: =K106 -> 17.55485 | T106: =L106 -> 17.12984 | U106: =M106 -> 0 | V106: =N106 -> 0

Sheet Operatorzy zestawienie 
B2: ZESTAWIENIE DLA OPERATORÓW
B3: Informacje o największych operatorów farm PV
R4: Copyright ©2026 IEO. Wszelkie prawa zastrzeżone.
C7: Nazwa Operatora (spółki holdingowej) | D7: Całkowita Moc Projektów [MW] | E7: Liczba projektów
C8: TRIVANTA KOMORÓW SPÓŁKA Z OGRANICZONĄ ODPOWIEDZIALNOŚCIĄ | D8: 9.998 | E8: 1
C9: Solar-R Sp. z o.o. | D9: 8.63169 | E9: 2 | J9: ='Operatorzy zestawienie '!$C8 -> TRIVANTA KOMORÓW SPÓŁKA Z OGRANICZONĄ ODPOWIEDZIALNOŚCIĄ | K9: ='Operatorzy zestawienie '!$D8 -> 9.998
C10: AB Inwest Borysiewicz Spółka jawna | D10: 6.345 | E10: 3 | J10: ='Operatorzy zestawienie '!$C9 -> Solar-R Sp. z o.o. | K10: ='Operatorzy zestawienie '!$D9 -> 8.63169
C11: 4E CONCEPT 2 SPÓŁKA Z OGRANICZONĄ ODPOWIEDZIALNOŚCIĄ | D11: 4.999 | E11: 1 | J11: ='Operatorzy zestawienie '!$C10 -> AB Inwest Borysiewicz Spółka jawna | K11: ='Operatorzy zestawienie '!$D10 -> 6.345
C12: ACTIVIA SUN KOLNO I Sp. z o.o. | D12: 3.708 | E12: 2 | J12: ='Operatorzy zestawienie '!$C11 -> 4E CONCEPT 2 SPÓŁKA Z OGRANICZONĄ ODPOWIEDZIALNOŚCIĄ | K12: ='Operatorzy zestawienie '!$D11 -> 4.999
C13: R.TWINING AND COMPANY SPÓŁKA Z O.O. | D13: 1.003 | E13: 1 | J13: ='Operatorzy zestawienie '!$C12 -> ACTIVIA SUN KOLNO I Sp. z o.o. | K13: ='Operatorzy zestawienie '!$D12 -> 3.708
J14: ='Operatorzy zestawienie '!$C13 -> R.TWINING AND COMPANY SPÓŁKA Z O.O. | K14: ='Operatorzy zestawienie '!$D13 -> 1.003
J15: ='Operatorzy zestawienie '!$C14 -> 0 | K15: ='Operatorzy zestawienie '!$D14 -> 0
J16: ='Operatorzy zestawienie '!$C15 -> 0 | K16: ='Operatorzy zestawienie '!$D15 -> 0
J17: ='Operatorzy zestawienie '!$C16 -> 0 | K17: ='Operatorzy zestawienie '!$D16 -> 0
J18: ='Operatorzy zestawienie '!$C17 -> 0 | K18: ='Operatorzy zestawienie '!$D17 -> 0
J19: ='Operatorzy zestawienie '!$C18 -> 0 | K19: ='Operatorzy zestawienie '!$D18 -> 0
J20: ='Operatorzy zestawienie '!$C19 -> 0 | K20: ='Operatorzy zestawienie '!$D19 -> 0
J21: ='Operatorzy zestawienie '!$C20 -> 0 | K21: ='Operatorzy zestawienie '!$D20 -> 0
J22: ='Operatorzy zestawienie '!$C21 -> 0 | K22: ='Operatorzy zestawienie '!$D21 -> 0
J23: ='Operatorzy zestawienie '!$C22 -> 0 | K23: ='Operatorzy zestawienie '!$D22 -> 0
J24: ='Operatorzy zestawienie '!$C23 -> 0 | K24: ='Operatorzy zestawienie '!$D23 -> 0
J25: ='Operatorzy zestawienie '!$C24 -> 0 | K25: ='Operatorzy zestawienie '!$D24 -> 0
... J27: ='Operatorzy zestawienie '!$C26 -> 0 | K27: ='Operatorzy zestawienie '!$D26 -> 0
J28: ='Operatorzy zestawienie '!$C54 -> Pozostałe projekty zidentyfikowanych operatorów | K28: ='Operatorzy zestawienie '!$D54 -> 0
C54: Pozostałe projekty zidentyfikowanych operatorów | D54: =D55-SUM(D8:D51) -> 0 | E54: =E55-SUM(E8:E51) -> 0
C55: łącznie zidentyfikowanych projektów | D55: =Analiza!V10 -> 34.68469 | E55: =Analiza!V9 -> 10

Sheet PV na tle innych OZE
B2: Farmy PV na tle innych źródeł OZE
B4: Copyright ©2026 IEO. Wszelkie prawa zastrzeżone.
D10: Instalacje produkujące energię elektryczną [moc skumulowana] | E10: 2016 | F10: 2017 | G10: 2018 | H10: 2019 | I10: 2020 | J10: 2021 | K10: 2022 | L10: 2023 | M10: 2024 | N10: 2025 | O10: 2026 (V)
D11: PV (wszystkie rodzaje) | E11: 187.59958 | F11: 261.79728 | G11: 505.65713 | H11: 1529.2 | I11: 3961.4 | J11: 7681.4 | K11: 12114.7 | L11: 17057.1 | M11: 21157.024 | N11: 24808.3 | O11: - | P11: MW
D12: BIOGAZ | E12: 233.967 | F12: 235.373 | G12: 237.618 | H12: 225.2 | I12: 240.6 | J12: 249.5 | K12: 271.7 | L12: 293.8 | M12: 306.277 | N12: 328.6 | O12: - | P12: MW
D13: BIOMASA | E13: 1281.065 | F13: 1362.03 | G13: 1362.87 | H13: 812.9 | I13: 815.2 | J13: 819.5 | K13: 849.3 | L13: 981.6 | M13: 969.575 | N13: 1002.1 | O13: - | P13: MW
D14: WIATR | E14: 5807.416 | F14: 5848.671 | G14: 5864.443 | H14: 5868.9 | I14: 6327.9 | J14: 7007.7 | K14: 8129.5 | L14: 9428.3 | M14: 10139.538 | N14: 10550.2 | O14: - | P14: MW
D15: WODA | E15: 993.995 | F15: 988.377 | G15: 981.504 | H15: 978.1 | I15: 980.6 | J15: 983.9 | K15: 985.2 | L15: 979.1 | M15: 980.829 | N15: 980.8 | O15: - | P15: MW
O16: 06.2026 - dane ARE
F50: rodzaj instalacji | G50: PV | H50: BIOGAZ | I50: BIOMASA | J50: WIATR | K50: WODA
F51: moc [MW] | G51: =O11 -> - | H51: =O12 -> - | I51: =O13 -> - | J51: =O14 -> - | K51: =O15 -> -

Sheet Mapy
B2: Mapy funkcjonujących farm PV w Polsce
B3: Mapy zostały stworzone przy użyciu strony Mapy Google. Po kliknięciu na grafikę mapy otworzy się przeglądarka z interaktywną zawartością mapy
B4: Copyright ©2026 IEO. Wszelkie prawa zastrzeżone.
