Workbook

Sheet Wstęp
B2: Funkcjonujące Farmy Wiatrowe w Polsce
B3: Największy zbiór danych o dużych instalacjach wiatrowych wytwarzających już energię elektryczną

Sheet Farmy
F1: Baza danych o instalacjach funkcjonujących i wytwarzających energię elektryczną
F2: Baza powstała na podstawie danych z koncesji wystawianych przez Urząd Regulacji Energetyki przedsiębiorstwom wytwarzającym energię elektryczną.
F3: Stan bazy danych jest na 13.08.2026
F4: Copyright ©2026 IEO. Wszelkie prawa zastrzeżone.
B5: Dane instalacji | I5: Dane inwestora | P5: Dane instalacji
B6: Lp. | C6: Rodzaj instalacji | D6: Miejscowość | E6: Gmina | F6: Powiat | G6: Województwo | H6: Moc [MW] | I6: Inwestor | J6: Adres | K6: Kod pocztowy | L6: Miejscowość inwestora | M6: Województwo inwestora | N6: Spółka holdingowa | O6: NIP | P6: DataWydania (Data wpisu do rejestru) | Q6: DataOd | R6: DataDo
B7: 1 | C7: Farma | D7: Rusiec | E7: Rusiec | F7: bełchatowski | G7: łódzkie | H7: 1.5 | I7: AAW ENERGIA Sp. z o.o. | J7: ul. Kościuszki 9 | K7: 09-402 | L7: Płock | M7: mazowieckie | N7: AAW ENERGIA Sp. z o.o. | O7: 7743214535 | P7: 41565 | Q7: 41565 | R7: 47848
B8: 2 | C8: Farma | D8: Rusiec | E8: Rusiec | F8: bełchatowski | G8: łódzkie | H8: 1.5 | I8: AAW ENERGIA Sp. z o.o. | J8: ul. Kościuszki 9 | K8: 09-402 | L8: Płock | M8: mazowieckie | N8: AAW ENERGIA Sp. z o.o. | O8: 7743214535 | P8: 41565 | Q8: 41565 | R8: 47848
B9: 3 | C9: Farma | D9: Jastrzębice | E9: Rusiec | F9: bełchatowski | G9: łódzkie | H9: 1.5 | I9: AAW ENERGIA Sp. z o.o. | J9: ul. Kościuszki 9 | K9: 09-402 | L9: Płock | M9: mazowieckie | N9: AAW ENERGIA Sp. z o.o. | O9: 7743214535 | P9: 41565 | Q9: 41565 | R9: 47848
B10: 4 | C10: Farma | D10: Brzozowo | E10: Dąbrowa Białostocka | F10: sokólski | G10: podlaskie | H10: 1.8 | I10: AB Energia Borysiewicz Spółka Jawna | J10: ul. Szosa Zabłudowska 15 | K10: 15-588 | L10: Kuriany | M10: podlaskie | N10: AB Energia Borysiewicz Spółka Jawna | O10: 9661884064 | P10: 40435 | Q10: 40436 | R10: 51501
B11: 5 | C11: Farma | D11: Antonin | E11: Ciechanowiec | F11: wysokomazowiecki | G11: podlaskie | H11: 2 | I11: AB Energia Borysiewicz Spółka Jawna | J11: ul. Szosa Zabłudowska 15 | K11: 15-588 | L11: Kuriany | M11: podlaskie | N11: AB Energia Borysiewicz Spółka Jawna | O11: 9661884064 | P11: 40435 | Q11: 40436 | R11: 51501
B12: 6 | C12: Farma | D12: Skokum | E12: Zagórów | F12: słupecki | G12: wielkopolskie | H12: 2 | I12: AB Energia Borysiewicz Spółka Jawna | J12: ul. Szosa Zabłudowska 15 | K12: 15-588 | L12: Kuriany | M12: podlaskie | N12: AB Energia Borysiewicz Spółka Jawna | O12: 9661884064 | P12: 40435 | Q12: 40436 | R12: 51501
B13: 7 | C13: Farma | D13: Bratków Dolny | E13: Zadzim | F13: poddębicki | G13: łódzkie | H13: 2 | I13: AB Energia Borysiewicz Spółka Jawna | J13: ul. Szosa Zabłudowska 15 | K13: 15-588 | L13: Kuriany | M13: podlaskie | N13: AB Energia Borysiewicz Spółka Jawna | O13: 9661884064 | P13: 40435 | Q13: 40436 | R13: 51501
B14: 8 | C14: Farma | D14: Przyborowo, Kuczyna, Ciołkowo | E14: Krobia | F14: gostyński | G14: wielkopolskie | H14: 63 | I14: Meltemi Spółka z ograniczoną odpowiedzialnością | J14: ul. Lwowska 19 | K14: 00-660 | L14: Warszawa | M14: mazowieckie | N14: ACCIONA ENERGY POLAND SPÓŁKA Z OGRANICZONĄ ODPOWIEDZIALNOŚCIĄ | O14: 8522502874 | P14: 41526 | Q14: 41526 | R14: 47848
B15: 9 | C15: Farma | D15: Tychowo, Noskowo | E15: Sławno | F15: sławieński | G15: zachodniopomorskie | H15: 50 | I15: MEGAWATT BALTICA Sp. z o.o. | J15: Uniwersytecka 13 | K15: 40-007 | L15: Katowice | M15: śląskie | N15: AEOLUS SPÓŁKA Z OGRANICZONĄ ODPOWIEDZIALNOŚCIĄ | O15: 5272511208 | P15: 40078 | Q15: 40081 | R15: 51501
B16: 10 | C16: Farma | D16: Podzamcze | E16: Raciążek | F16: aleksandrowski | G16: kujawsko-pomorskie | H16: 1.65 | I16: "Agrowatt" Spółka z ograniczoną odpowiedzialnością | J16: Podzamcze 14 | K16: 87-721 | L16: Podzamcze | M16: kujawsko-pomorskie | N16: Agrowatt Spółka z ograniczoną odpowiedzialnością | O16: 8911622153 | P16: 42102 | Q16: 42102 | R16: 47848

Sheet Małe instalacje
F1: Zbiór danych o małych instalacjach wiatrowych funkcjonujących i wytwarzających energię elektryczną
F2: Zbiór powstał na podstawie danych o koncesjach na wytwarzanie energii elektrycznej udostępnianych przez Urząd Regulacji Energetyki
F3: Stan bazy danych jest na 13.08.2026
F4: Copyright ©2026 IEO. Wszelkie prawa zastrzeżone.
B6: Dane instalacji | I6: Dane inwestora | O6: Dane instalacji
B7: Lp. | C7: Rodzaj instalacji | D7: Miejscowość | E7: Gmina | F7: Powiat | G7: Województwo | H7: Moc [MW] | I7: Inwestor | J7: Adres | K7: Kod pocztowy | L7: Miejscowość inwestora | M7: Województwo inwestora | N7: NIP | O7: Data wpisu do rejestru | P7: Data Od | Q7: Link do koncesji
B8: 1 | C8: Mała instalacja | D8: Trzepnica | E8: Łęki Szlacheckie | F8: piotrkowski | G8: łódzkie | H8: 0.5 | I8: Stacja Paliw "AGRO-PAL” Paweł Banaszczyk | J8: Trzepnica 71A | K8: 97-352 | L8: Trzepnica | M8: łódzkie | N8: 7711901451 | O8: 44574 | P8: 40500
B9: 2 | C9: Mała instalacja | D9: Rąbczyn | E9: Raszków | F9: ostrowski | G9: wielkopolskie | H9: 0.8 | I9: "A. Lis i Synowie-Tartak I" Lech Lis | J9: Rąbczyn 42 | K9: 63-440 | L9: Raszków | M9: wielkopolskie | N9: 6221093977 | O9: 44558 | P9: 40806
B10: 3 | C10: Mała instalacja | D10: Rąbczyn | E10: Raszków | F10: ostrowski | G10: wielkopolskie | H10: 0.8 | I10: "A. Lis i Synowie-Tartak II" Marek Lis | J10: Rąbczyn 44 | K10: 63-440 | L10: Raszków | M10: wielkopolskie | N10: 6221094008 | O10: 44558 | P10: 40806
B11: 4 | C11: Mała instalacja | D11: Głogowiec | E11: Kutno | F11: kutnowski | G11: łódzkie | H11: 1 | I11: "ADMMAG" Agnieszka Świeca | J11: Sójki 2 | K11: 99-307 | L11: Sójki | M11: łódzkie | N11: 7751595138 | O11: 44929 | P11: 39478
B12: 5 | C12: Mała instalacja | D12: Grochówek | E12: Nowe Ostrowy | F12: kutnowski | G12: łódzkie | H12: 1 | I12: "ADMMAG" Agnieszka Świeca | J12: Sójki 2 | K12: 99-307 | L12: Sójki | M12: łódzkie | N12: 7751595138 | O12: 44587 | P12: 40364
B13: 6 | C13: Mała instalacja | D13: Bonarów | E13: Słupia | F13: skierniewicki | G13: łódzkie | H13: 1 | I13: "Alfmar" Spółka Cywilna Przemysław Brochocki, Mariusz Witczak | J13: Leonowo 9 | K13: 88-200 | L13: Radziejów | M13: kujawsko-pomorskie | N13: 8891490629 | O13: 44571 | P13: 41354
B14: 7 | C14: Mała instalacja | D14: Junno | E14: Grodziec | F14: koniński | G14: wielkopolskie | H14: 1 | I14: "Alfmar" Spółka Cywilna Przemysław Brochocki, Mariusz Witczak | J14: Leonowo 9 | K14: 88-200 | L14: Radziejów | M14: kujawsko-pomorskie | N14: 8891490629 | O14: 44571 | P14: 42395
B15: 8 | C15: Mała instalacja | D15: Pruszków | E15: Sędziejowice | F15: łaski | G15: łódzkie | H15: 0.8 | I15: "ALMA 1" J.A.KRAWCZYK - MAGDALENA WOJTYNIAK Sp. j. | J15: ul. Dolna 20 | K15: 98-160 | L15: Sędziejowice | M15: łódzkie | N15: 8311635331 | O15: 44586 | P15: 40745
B16: 9 | C16: Mała instalacja | D16: Skrzynno | E16: Ostrówek | F16: wieluński | G16: łódzkie | H16: 0.85 | I16: "AUTO-CZĘŚCI" Jarosław Szewczyk | J16: ul. Łaska 240 | K16: 98-220 | L16: Zduńska Wola | M16: łódzkie | N16: 8291295718 | O16: 44574 | P16: 42171
B17: 10 | C17: Mała instalacja | D17: Radzięcin | E17: Frampol | F17: biłgorajski | G17: lubelskie | H17: 0.15 | I17: "BIO NATURA" Jacek Mazurek | J17: Wróblewo 40 | K17: 06-540 | L17: Radzanów | M17: mazowieckie | N17: 5252174044 | O17: 42130 | P17: 40443

Sheet Analiza
B2: Analizy statystyczne funkcjonujących instalacji wiatrowych
B4: Copyright ©2026 IEO. Wszelkie prawa zastrzeżone.
E6: =DATE(E8, 1, 1) -> 40179 | F6: =DATE(F8, 1, 1) -> 40544 | G6: =DATE(G8, 1, 1) -> 40909 | H6: =DATE(H8, 1, 1) -> 41275 | I6: =DATE(I8, 1, 1) -> 41640 | J6: =DATE(J8, 1, 1) -> 42005 | K6: =DATE(K8, 1, 1) -> 42370 | L6: =DATE(L8, 1, 1) -> 42736 | ... U6: =DATE(U8, 1, 1) -> 46023
E7: =DATE(E8, 12, 31) -> 40543 | F7: =DATE(F8, 12, 31) -> 40908 | G7: =DATE(G8, 12, 31) -> 41274 | H7: =DATE(H8, 12, 31) -> 41639 | I7: =DATE(I8, 12, 31) -> 42004 | J7: =DATE(J8, 12, 31) -> 42369 | K7: =DATE(K8, 12, 31) -> 42735 | L7: =DATE(L8, 12, 31) -> 43100 | ... U7: =DATE(U8, 12, 31) -> 46387
E8: 2010 | F8: 2011 | G8: 2012 | H8: 2013 | I8: 2014 | J8: 2015 | K8: 2016 | L8: 2017 | M8: 2018 | N8: 2019 | O8: 2020 | P8: 2021 | Q8: 2022 | R8: 2023 | S8: 2024 | T8: 2025 | U8: 2026 | V8: suma
C9: Farmy | D9: liczba | E9: =COUNTIFS(Farmy!$Q:$Q,">="&E6,Farmy!$Q:$Q,"<="&E7) -> 4 | F9: =COUNTIFS(Farmy!$Q:$Q,">="&F6,Farmy!$Q:$Q,"<="&F7) -> 0 | G9: =COUNTIFS(Farmy!$Q:$Q,">="&G6,Farmy!$Q:$Q,"<="&G7) -> 0 | H9: =COUNTIFS(Farmy!$Q:$Q,">="&H6,Farmy!$Q:$Q,"<="&H7) -> 4 | I9: =COUNTIFS(Farmy!$Q:$Q,">="&I6,Farmy!$Q:$Q,"<="&I7) -> 0 | J9: =COUNTIFS(Farmy!$Q:$Q,">="&J6,Farmy!$Q:$Q,"<="&J7) -> 1 | K9: =COUNTIFS(Farmy!$Q:$Q,">="&K6,Farmy!$Q:$Q,"<="&K7) -> 0 | L9: =COUNTIFS(Farmy!$Q:$Q,">="&L6,Farmy!$Q:$Q,"<="&L7) -> 0 | ... U9: =COUNTIFS(Farmy!$Q:$Q,">="&U6,Farmy!$Q:$Q,"<="&U7) -> 0 | V9: =COUNT(Farmy!Q:Q) -> 10
D10: moc [MW] | E10: =SUMIFS(Farmy!$H:$H,Farmy!$Q:$Q,">="&E6,Farmy!$Q:$Q,"<="&E7) -> 7.8 | F10: =SUMIFS(Farmy!$H:$H,Farmy!$Q:$Q,">="&F6,Farmy!$Q:$Q,"<="&F7) -> 0 | G10: =SUMIFS(Farmy!$H:$H,Farmy!$Q:$Q,">="&G6,Farmy!$Q:$Q,"<="&G7) -> 0 | H10: =SUMIFS(Farmy!$H:$H,Farmy!$Q:$Q,">="&H6,Farmy!$Q:$Q,"<="&H7) -> 67.5 | I10: =SUMIFS(Farmy!$H:$H,Farmy!$Q:$Q,">="&I6,Farmy!$Q:$Q,"<="&I7) -> 0 | J10: =SUMIFS(Farmy!$H:$H,Farmy!$Q:$Q,">="&J6,Farmy!$Q:$Q,"<="&J7) -> 1.65 | K10: =SUMIFS(Farmy!$H:$H,Farmy!$Q:$Q,">="&K6,Farmy!$Q:$Q,"<="&K7) -> 0 | L10: =SUMIFS(Farmy!$H:$H,Farmy!$Q:$Q,">="&L6,Farmy!$Q:$Q,"<="&L7) -> 0 | ... U10: =SUMIFS(Farmy!$H:$H,Farmy!$Q:$Q,">="&U6,Farmy!$Q:$Q,"<="&U7) -> 0 | V10: =SUM(Farmy!H:H) -> 126.95
D11: średnia moc | E11: =IFERROR(E10/E9,"-") -> 1.95 | F11: =IFERROR(F10/F9,"-") -> - | G11: =IFERROR(G10/G9,"-") -> - | H11: =IFERROR(H10/H9,"-") -> 16.875 | I11: =IFERROR(I10/I9,"-") -> - | J11: =IFERROR(J10/J9,"-") -> 1.65 | K11: =IFERROR(K10/K9,"-") -> - | L11: =IFERROR(L10/L9,"-") -> - | ... U11: =IFERROR(U10/U9,"-") -> - | V11: =V10/V9 -> 12.695
E13: 2010 | F13: 2011 | G13: 2012 | H13: 2013 | I13: 2014 | J13: 2015 | K13: 2016 | L13: 2017 | M13: 2018 | N13: 2019 | O13: 2020 | P13: 2021 | Q13: 2022 | R13: 2023 | S13: 2024 | T13: 2025 | U13: 2026 | V13: suma
C14: Małe instalacje | D14: liczba | E14: =COUNTIFS('Małe instalacje'!$P:$P,">="&E6,'Małe instalacje'!$P:$P,"<="&E7) -> 3 | F14: =COUNTIFS('Małe instalacje'!$P:$P,">="&F6,'Małe instalacje'!$P:$P,"<="&F7) -> 3 | G14: =COUNTIFS('Małe instalacje'!$P:$P,">="&G6,'Małe instalacje'!$P:$P,"<="&G7) -> 0 | H14: =COUNTIFS('Małe instalacje'!$P:$P,">="&H6,'Małe instalacje'!$P:$P,"<="&H7) -> 1 | I14: =COUNTIFS('Małe instalacje'!$P:$P,">="&I6,'Małe instalacje'!$P:$P,"<="&I7) -> 0 | J14: =COUNTIFS('Małe instalacje'!$P:$P,">="&J6,'Małe instalacje'!$P:$P,"<="&J7) -> 1 | K14: =COUNTIFS('Małe instalacje'!$P:$P,">="&K6,'Małe instalacje'!$P:$P,"<="&K7) -> 1 | L14: =COUNTIFS('Małe instalacje'!$P:$P,">="&L6,'Małe instalacje'!$P:$P,"<="&L7) -> 0 | ... U14: =COUNTIFS('Małe instalacje'!$P:$P,">="&U6,'Małe instalacje'!$P:$P,"<="&U7) -> 0 | V14: =COUNT('Małe instalacje'!H:H) -> 10
D15: moc [MW] | E15: =SUMIFS('Małe instalacje'!$H:$H,'Małe instalacje'!$P:$P,">="&E6,'Małe instalacje'!$P:$P,"<="&E7) -> 1.65 | F15: =SUMIFS('Małe instalacje'!$H:$H,'Małe instalacje'!$P:$P,">="&F6,'Małe instalacje'!$P:$P,"<="&F7) -> 2.4 | G15: =SUMIFS('Małe instalacje'!$H:$H,'Małe instalacje'!$P:$P,">="&G6,'Małe instalacje'!$P:$P,"<="&G7) -> 0 | H15: =SUMIFS('Małe instalacje'!$H:$H,'Małe instalacje'!$P:$P,">="&H6,'Małe instalacje'!$P:$P,"<="&H7) -> 1 | I15: =SUMIFS('Małe instalacje'!$H:$H,'Małe instalacje'!$P:$P,">="&I6,'Małe instalacje'!$P:$P,"<="&I7) -> 0 | J15: =SUMIFS('Małe instalacje'!$H:$H,'Małe instalacje'!$P:$P,">="&J6,'Małe instalacje'!$P:$P,"<="&J7) -> 0.85 | K15: =SUMIFS('Małe instalacje'!$H:$H,'Małe instalacje'!$P:$P,">="&K6,'Małe instalacje'!$P:$P,"<="&K7) -> 1 | L15: =SUMIFS('Małe instalacje'!$H:$H,'Małe instalacje'!$P:$P,">="&L6,'Małe instalacje'!$P:$P,"<="&L7) -> 0 | ... U15: =SUMIFS('Małe instalacje'!$H:$H,'Małe instalacje'!$P:$P,">="&U6,'Małe instalacje'!$P:$P,"<="&U7) -> 0 | V15: =SUM('Małe instalacje'!H:H) -> 7.9
D16: średnia moc | E16: =IFERROR(E15/E14,"-") -> 0.55 | F16: =IFERROR(F15/F14,"-") -> 0.8 | G16: =IFERROR(G15/G14,"-") -> - | H16: =IFERROR(H15/H14,"-") -> 1 | I16: =IFERROR(I15/I14,"-") -> - | J16: =IFERROR(J15/J14,"-") -> 0.85 | K16: =IFERROR(K15/K14,"-") -> 1 | L16: =IFERROR(L15/L14,"-") -> - | ... U16: =IFERROR(U15/U14,"-") -> - | V16: =V15/V14 -> 0.79
E18: 2010 | F18: 2011 | G18: 2012 | H18: 2013 | I18: 2014 | J18: 2015 | K18: 2016 | L18: 2017 | M18: 2018 | N18: 2019 | O18: 2020 | P18: 2021 | Q18: 2022 | R18: 2023 | S18: 2024 | T18: 2025 | U18: 2026 | V18: suma
C19: Razem | D19: liczba | E19: =E9+E14 -> 7 | F19: =F9+F14 -> 3 | G19: =G9+G14 -> 0 | H19: =H9+H14 -> 5 | I19: =I9+I14 -> 0 | J19: =J9+J14 -> 2 | K19: =K9+K14 -> 1 | L19: =L9+L14 -> 0 | ... V19: =V9+V14 -> 20
D20: moc [MW] | E20: =E10+E15 -> 9.45 | F20: =F10+F15 -> 2.4 | G20: =G10+G15 -> 0 | H20: =H10+H15 -> 68.5 | I20: =I10+I15 -> 0 | J20: =J10+J15 -> 2.5 | K20: =K10+K15 -> 1 | L20: =L10+L15 -> 0 | ... V20: =V10+V15 -> 134.85
D21: średnia moc | E21: =IFERROR(E20/E19,"-") -> 1.35 | F21: =IFERROR(F20/F19,"-") -> 0.8 | G21: =IFERROR(G20/G19,"-") -> - | H21: =IFERROR(H20/H19,"-") -> 13.7 | I21: =IFERROR(I20/I19,"-") -> - | J21: =IFERROR(J20/J19,"-") -> 1.25 | K21: =IFERROR(K20/K19,"-") -> 1 | L21: =IFERROR(L20/L19,"-") -> - | ... V21: =IFERROR(V20/V19,"-") -> 6.7425
E40: Rozkład farm w województwach | K40: Rozkład małych instalacji w województwach | Q40: Rozkład wszystkich instalacji w województwach
F42: liczba | G42: moc [MW] | H42: średnia moc instalacji [MW] | L42: liczba | M42: moc [MW] | N42: średnia moc instalacji [MW] | R42: liczba | S42: moc [MW] | T42: średnia moc instalacji [MW]
E44: zachodniopomorskie | F44: =IFERROR(COUNTIFS(Farmy!$G:$G,"="&E44),"-") -> 1 | G44: =IFERROR(SUMIFS(Farmy!$H:$H,Farmy!$G:$G,"="&E44),"-") -> 50 | H44: =IFERROR(G44/F44,"-") -> 50 | K44: zachodniopomorskie | L44: =IFERROR(COUNTIFS('Małe instalacje'!$G:$G,"="&E44),"-") -> 0 | M44: =IFERROR(SUMIFS('Małe instalacje'!$H:$H,'Małe instalacje'!$G:$G,"="&E44),"-") -> 0 | N44: =IFERROR(M44/L44,"-") -> - | Q44: zachodniopomorskie | R44: =IFERROR(F44+L44,"-") -> 1 | S44: =IFERROR(G44+M44,"-") -> 50 | T44: =IFERROR(S44/R44,"-") -> 50
E45: pomorskie | F45: =IFERROR(COUNTIFS(Farmy!$G:$G,"="&E45),"-") -> 0 | G45: =IFERROR(SUMIFS(Farmy!$H:$H,Farmy!$G:$G,"="&E45),"-") -> 0 | H45: =IFERROR(G45/F45,"-") -> - | K45: pomorskie | L45: =IFERROR(COUNTIFS('Małe instalacje'!$G:$G,"="&E45),"-") -> 0 | M45: =IFERROR(SUMIFS('Małe instalacje'!$H:$H,'Małe instalacje'!$G:$G,"="&E45),"-") -> 0 | N45: =IFERROR(M45/L45,"-") -> - | Q45: pomorskie | R45: =IFERROR(F45+L45,"-") -> 0 | S45: =IFERROR(G45+M45,"-") -> 0 | T45: =IFERROR(S45/R45,"-") -> -
E46: kujawsko-pomorskie | F46: =IFERROR(COUNTIFS(Farmy!$G:$G,"="&E46),"-") -> 1 | G46: =IFERROR(SUMIFS(Farmy!$H:$H,Farmy!$G:$G,"="&E46),"-") -> 1.65 | H46: =IFERROR(G46/F46,"-") -> 1.65 | K46: kujawsko-pomorskie | L46: =IFERROR(COUNTIFS('Małe instalacje'!$G:$G,"="&E46),"-") -> 0 | M46: =IFERROR(SUMIFS('Małe instalacje'!$H:$H,'Małe instalacje'!$G:$G,"="&E46),"-") -> 0 | N46: =IFERROR(M46/L46,"-") -> - | Q46: kujawsko-pomorskie | R46: =IFERROR(F46+L46,"-") -> 1 | S46: =IFERROR(G46+M46,"-") -> 1.65 | T46: =IFERROR(S46/R46,"-") -> 1.65
E47: łódzkie | F47: =IFERROR(COUNTIFS(Farmy!$G:$G,"="&E47),"-") -> 4 | G47: =IFERROR(SUMIFS(Farmy!$H:$H,Farmy!$G:$G,"="&E47),"-") -> 6.5 | H47: =IFERROR(G47/F47,"-") -> 1.625 | K47: łódzkie | L47: =IFERROR(COUNTIFS('Małe instalacje'!$G:$G,"="&E47),"-") -> 6 | M47: =IFERROR(SUMIFS('Małe instalacje'!$H:$H,'Małe instalacje'!$G:$G,"="&E47),"-") -> 5.15 | N47: =IFERROR(M47/L47,"-") -> 0.85833333 | Q47: łódzkie | R47: =IFERROR(F47+L47,"-") -> 10 | S47: =IFERROR(G47+M47,"-") -> 11.65 | T47: =IFERROR(S47/R47,"-") -> 1.165
E48: wielkopolskie | F48: =IFERROR(COUNTIFS(Farmy!$G:$G,"="&E48),"-") -> 2 | G48: =IFERROR(SUMIFS(Farmy!$H:$H,Farmy!$G:$G,"="&E48),"-") -> 65 | H48: =IFERROR(G48/F48,"-") -> 32.5 | K48: wielkopolskie | L48: =IFERROR(COUNTIFS('Małe instalacje'!$G:$G,"="&E48),"-") -> 3 | M48: =IFERROR(SUMIFS('Małe instalacje'!$H:$H,'Małe instalacje'!$G:$G,"="&E48),"-") -> 2.6 | N48: =IFERROR(M48/L48,"-") -> 0.86666667 | Q48: wielkopolskie | R48: =IFERROR(F48+L48,"-") -> 5 | S48: =IFERROR(G48+M48,"-") -> 67.6 | T48: =IFERROR(S48/R48,"-") -> 13.52
E49: mazowieckie | F49: =IFERROR(COUNTIFS(Farmy!$G:$G,"="&E49),"-") -> 0 | G49: =IFERROR(SUMIFS(Farmy!$H:$H,Farmy!$G:$G,"="&E49),"-") -> 0 | H49: =IFERROR(G49/F49,"-") -> - | K49: mazowieckie | L49: =IFERROR(COUNTIFS('Małe instalacje'!$G:$G,"="&E49),"-") -> 0 | M49: =IFERROR(SUMIFS('Małe instalacje'!$H:$H,'Małe instalacje'!$G:$G,"="&E49),"-") -> 0 | N49: =IFERROR(M49/L49,"-") -> - | Q49: mazowieckie | R49: =IFERROR(F49+L49,"-") -> 0 | S49: =IFERROR(G49+M49,"-") -> 0 | T49: =IFERROR(S49/R49,"-") -> -
E50: warmińsko-mazurskie | F50: =IFERROR(COUNTIFS(Farmy!$G:$G,"="&E50),"-") -> 0 | G50: =IFERROR(SUMIFS(Farmy!$H:$H,Farmy!$G:$G,"="&E50),"-") -> 0 | H50: =IFERROR(G50/F50,"-") -> - | K50: warmińsko-mazurskie | L50: =IFERROR(COUNTIFS('Małe instalacje'!$G:$G,"="&E50),"-") -> 0 | M50: =IFERROR(SUMIFS('Małe instalacje'!$H:$H,'Małe instalacje'!$G:$G,"="&E50),"-") -> 0 | N50: =IFERROR(M50/L50,"-") -> - | Q50: warmińsko-mazurskie | R50: =IFERROR(F50+L50,"-") -> 0 | S50: =IFERROR(G50+M50,"-") -> 0 | T50: =IFERROR(S50/R50,"-") -> -
E51: lubuskie | F51: =IFERROR(COUNTIFS(Farmy!$G:$G,"="&E51),"-") -> 0 | G51: =IFERROR(SUMIFS(Farmy!$H:$H,Farmy!$G:$G,"="&E51),"-") -> 0 | H51: =IFERROR(G51/F51,"-") -> - | K51: lubuskie | L51: =IFERROR(COUNTIFS('Małe instalacje'!$G:$G,"="&E51),"-") -> 0 | M51: =IFERROR(SUMIFS('Małe instalacje'!$H:$H,'Małe instalacje'!$G:$G,"="&E51),"-") -> 0 | N51: =IFERROR(M51/L51,"-") -> - | Q51: lubuskie | R51: =IFERROR(F51+L51,"-") -> 0 | S51: =IFERROR(G51+M51,"-") -> 0 | T51: =IFERROR(S51/R51,"-") -> -
E52: podlaskie | F52: =IFERROR(COUNTIFS(Farmy!$G:$G,"="&E52),"-") -> 2 | G52: =IFERROR(SUMIFS(Farmy!$H:$H,Farmy!$G:$G,"="&E52),"-") -> 3.8 | H52: =IFERROR(G52/F52,"-") -> 1.9 | K52: podlaskie | L52: =IFERROR(COUNTIFS('Małe instalacje'!$G:$G,"="&E52),"-") -> 0 | M52: =IFERROR(SUMIFS('Małe instalacje'!$H:$H,'Małe instalacje'!$G:$G,"="&E52),"-") -> 0 | N52: =IFERROR(M52/L52,"-") -> - | Q52: podlaskie | R52: =IFERROR(F52+L52,"-") -> 2 | S52: =IFERROR(G52+M52,"-") -> 3.8 | T52: =IFERROR(S52/R52,"-") -> 1.9
E53: dolnośląskie | F53: =IFERROR(COUNTIFS(Farmy!$G:$G,"="&E53),"-") -> 0 | G53: =IFERROR(SUMIFS(Farmy!$H:$H,Farmy!$G:$G,"="&E53),"-") -> 0 | H53: =IFERROR(G53/F53,"-") -> - | K53: dolnośląskie | L53: =IFERROR(COUNTIFS('Małe instalacje'!$G:$G,"="&E53),"-") -> 0 | M53: =IFERROR(SUMIFS('Małe instalacje'!$H:$H,'Małe instalacje'!$G:$G,"="&E53),"-") -> 0 | N53: =IFERROR(M53/L53,"-") -> - | Q53: dolnośląskie | R53: =IFERROR(F53+L53,"-") -> 0 | S53: =IFERROR(G53+M53,"-") -> 0 | T53: =IFERROR(S53/R53,"-") -> -
E54: lubelskie | F54: =IFERROR(COUNTIFS(Farmy!$G:$G,"="&E54),"-") -> 0 | G54: =IFERROR(SUMIFS(Farmy!$H:$H,Farmy!$G:$G,"="&E54),"-") -> 0 | H54: =IFERROR(G54/F54,"-") -> - | K54: lubelskie | L54: =IFERROR(COUNTIFS('Małe instalacje'!$G:$G,"="&E54),"-") -> 1 | M54: =IFERROR(SUMIFS('Małe instalacje'!$H:$H,'Małe instalacje'!$G:$G,"="&E54),"-") -> 0.15 | N54: =IFERROR(M54/L54,"-") -> 0.15 | Q54: lubelskie | R54: =IFERROR(F54+L54,"-") -> 1 | S54: =IFERROR(G54+M54,"-") -> 0.15 | T54: =IFERROR(S54/R54,"-") -> 0.15
E55: opolskie | F55: =IFERROR(COUNTIFS(Farmy!$G:$G,"="&E55),"-") -> 0 | G55: =IFERROR(SUMIFS(Farmy!$H:$H,Farmy!$G:$G,"="&E55),"-") -> 0 | H55: =IFERROR(G55/F55,"-") -> - | K55: opolskie | L55: =IFERROR(COUNTIFS('Małe instalacje'!$G:$G,"="&E55),"-") -> 0 | M55: =IFERROR(SUMIFS('Małe instalacje'!$H:$H,'Małe instalacje'!$G:$G,"="&E55),"-") -> 0 | N55: =IFERROR(M55/L55,"-") -> - | Q55: opolskie | R55: =IFERROR(F55+L55,"-") -> 0 | S55: =IFERROR(G55+M55,"-") -> 0 | T55: =IFERROR(S55/R55,"-") -> -
... E59: małopolskie | F59: =IFERROR(COUNTIFS(Farmy!$G:$G,"="&E59),"-") -> 0 | G59: =IFERROR(SUMIFS(Farmy!$H:$H,Farmy!$G:$G,"="&E59),"-") -> 0 | H59: =IFERROR(G59/F59,"-") -> - | K59: małopolskie | L59: =IFERROR(COUNTIFS('Małe instalacje'!$G:$G,"="&E59),"-") -> 0 | M59: =IFERROR(SUMIFS('Małe instalacje'!$H:$H,'Małe instalacje'!$G:$G,"="&E59),"-") -> 0 | N59: =IFERROR(M59/L59,"-") -> - | Q59: małopolskie | R59: =IFERROR(F59+L59,"-") -> 0 | S59: =IFERROR(G59+M59,"-") -> 0 | T59: =IFERROR(S59/R59,"-") -> -
I99: 0
I100: 0
I101: 0
E102: 0 | F102: 0.5 | J102: 0.5 | K102: 1 | L102: 5 | M102: 10 | N102: 30 | O102: 5 | P102: 10 | Q102: 0 | R102: 0.5 | S102: 1 | T102: 5 | U102: 10 | V102: 30
E103: 0.5 | F103: 1 | J103: 1 | K103: 5 | L103: 10 | M103: 30 | O103: 10 | P103: 30 | Q103: 0.5 | R103: 1 | S103: 5 | T103: 10 | U103: 30
D104: Małe instalacje z danego zakresu mocy | E104: < 0,5 MW | F104: 0,5 - 1 MW | I104: Farmy z danego zakresu mocy | J104: 0,5 - 1 MW | K104: 1-5 MW | L104: 5-10 MW | M104: 10-30 MW | N104: > 30 MW | P104: Wszystkie instalacje | Q104: < 0,5 MW | R104: 0,5 - 1 MW | S104: 1-5 MW | T104: 5-10 MW | U104: 10-30 MW | V104: > 30 MW
D105: liczba | E105: =COUNTIFS('Małe instalacje'!$H:$H,">="&E102,'Małe instalacje'!$H:$H,"<"&E103) -> 1 | F105: =COUNTIFS('Małe instalacje'!$H:$H,">="&F102,'Małe instalacje'!$H:$H,"<"&F103) -> 5 | I105: liczba | J105: =COUNTIFS(Farmy!$H:$H,">="&J102,Farmy!$H:$H,"<"&J103) -> 0 | K105: =COUNTIFS(Farmy!$H:$H,">="&K102,Farmy!$H:$H,"<"&K103) -> 8 | L105: =COUNTIFS(Farmy!$H:$H,">="&L102,Farmy!$H:$H,"<"&L103) -> 0 | M105: =COUNTIFS(Farmy!$H:$H,">="&M102,Farmy!$H:$H,"<"&M103) -> 0 | N105: =COUNTIFS(Farmy!$H:$H,">="&N102) -> 2 | P105: liczba | Q105: =E105 -> 1 | R105: =F105+J105 -> 5 | S105: =K105 -> 8 | T105: =L105 -> 0 | U105: =M105 -> 0 | V105: =N105 -> 2
D106: moc [MW] | E106: =SUMIFS('Małe instalacje'!$H:$H,'Małe instalacje'!$H:$H,">="&E102,'Małe instalacje'!$H:$H,"<"&E103) -> 0.15 | F106: =SUMIFS('Małe instalacje'!$H:$H,'Małe instalacje'!$H:$H,">="&F102,'Małe instalacje'!$H:$H,"<"&F103) -> 3.75 | I106: moc [MW] | J106: =SUMIFS(Farmy!$H:$H,Farmy!$H:$H,">="&J102,Farmy!$H:$H,"<"&J103) -> 0 | K106: =SUMIFS(Farmy!$H:$H,Farmy!$H:$H,">="&K102,Farmy!$H:$H,"<"&K103) -> 13.95 | L106: =SUMIFS(Farmy!$H:$H,Farmy!$H:$H,">="&L102,Farmy!$H:$H,"<"&L103) -> 0 | M106: =SUMIFS(Farmy!$H:$H,Farmy!$H:$H,">="&M102,Farmy!$H:$H,"<"&M103) -> 0 | N106: =SUMIFS(Farmy!$H:$H,Farmy!$H:$H,">="&M102) -> 113 | P106: moc [MW] | Q106: =E106 -> 0.15 | R106: =F106+J106 -> 3.75 | S106: =K106 -> 13.95 | T106: =L106 -> 0 | U106: =M106 -> 0 | V106: =N106 -> 113

Sheet Operatorzy zestawienie 
B2: ZESTAWIENIE DLA OPERATORÓW
B3: Informacje o największych operatorów farm wiatrowych
R4: Copyright ©2026 IEO. Wszelkie prawa zastrzeżone.
C7: Nazwa Operatora (spółki holdingowej) | D7: Całkowita Moc Projektów [MW] | E7: Liczba projektów
C8: Meltemi Spółka z ograniczoną odpowiedzialnością | D8: 63 | E8: 1
C9: MEGAWATT BALTICA Sp. z o.o. | D9: 50 | E9: 1 | J9: ='Operatorzy zestawienie '!$C8 -> Meltemi Spółka z ograniczoną odpowiedzialnością | K9: ='Operatorzy zestawienie '!$D8 -> 63
C10: AB Energia Borysiewicz Spółka Jawna | D10: 7.8 | E10: 4 | J10: ='Operatorzy zestawienie '!$C9 -> MEGAWATT BALTICA Sp. z o.o. | K10: ='Operatorzy zestawienie '!$D9 -> 50
C11: AAW ENERGIA Sp. z o.o. | D11: 4.5 | E11: 3 | J11: ='Operatorzy zestawienie '!$C10 -> AB Energia Borysiewicz Spółka Jawna | K11: ='Operatorzy zestawienie '!$D10 -> 7.8
C12: "Agrowatt" Spółka z ograniczoną odpowiedzialnością | D12: 1.65 | E12: 1 | J12: ='Operatorzy zestawienie '!$C11 -> AAW ENERGIA Sp. z o.o. | K12: ='Operatorzy zestawienie '!$D11 -> 4.5
J13: ='Operatorzy zestawienie '!$C12 -> "Agrowatt" Spółka z ograniczoną odpowiedzialnością | K13: ='Operatorzy zestawienie '!$D12 -> 1.65
J14: ='Operatorzy zestawienie '!$C13 -> 0 | K14: ='Operatorzy zestawienie '!$D13 -> 0
J15: ='Operatorzy zestawienie '!$C14 -> 0 | K15: ='Operatorzy zestawienie '!$D14 -> 0
J16: ='Operatorzy zestawienie '!$C15 -> 0 | K16: ='Operatorzy zestawienie '!$D15 -> 0
J17: ='Operatorzy zestawienie '!$C16 -> 0 | K17: ='Operatorzy zestawienie '!$D16 -> 0
J18: ='Operatorzy zestawienie '!$C17 -> 0 | K18: ='Operatorzy zestawienie '!$D17 -> 0
J19: ='Operatorzy zestawienie '!$C18 -> 0 | K19: ='Operatorzy zestawienie '!$D18 -> 0
J20: ='Operatorzy zestawienie '!$C19 -> 0 | K20: ='Operatorzy zestawienie '!$D19 -> 0
J21: ='Operatorzy zestawienie '!$C20 -> 0 | K21: ='Operatorzy zestawienie '!$D20 -> 0
J22: ='Operatorzy zestawienie '!$C21 -> 0 | K22: ='Operatorzy zestawienie '!$D21 -> 0
J23: ='Operatorzy zestawienie '!$C22 -> 0 | K23: ='Operatorzy zestawienie '!$D22 -> 0
J24: ='Operatorzy zestawienie '!$C23 -> 0 | K24: ='Operatorzy zestawienie '!$D23 -> 0
... J27: ='Operatorzy zestawienie '!$C26 -> 0 | K27: ='Operatorzy zestawienie '!$D26 -> 0
J28: ='Operatorzy zestawienie '!$C54 -> Pozostałe projekty zidentyfikowanych operatorów | K28: ='Operatorzy zestawienie '!$D54 -> 0
C54: Pozostałe projekty zidentyfikowanych operatorów | D54: =D55-SUM(D8:D51) -> 0 | E54: =E55-SUM(E8:E51) -> 0
C55: łącznie zidentyfikowanych projektów | D55: =Analiza!V10 -> 126.95 | E55: =Analiza!V9 -> 10

Sheet Wiatr na tle innych OZE
B2: Farmy wiatrowe na tle innych źródeł OZE
B4: Copyright ©2026 IEO. Wszelkie prawa zastrzeżone.
D10: Instalacje produkujące energię elektryczną [moc skumulowana] | E10: 2016 | F10: 2017 | G10: 2018 | H10: 2019 | I10: 2020 | J10: 2021 | K10: 2022 | L10: 2023 | M10: 2024 | N10: 2025 | O10: 2026 (V)
D11: PV (wszystkie rodzaje) | E11: 187.59958 | F11: 261.79728 | G11: 505.65713 | H11: 1529.2 | I11: 3961.4 | J11: 7681.4 | K11: 12114.7 | L11: 17057.1 | M11: 21157.024 | N11: 24808.3 | O11: - | P11: MW
D12: BIOGAZ | E12: 233.967 | F12: 235.373 | G12: 237.618 | H12: 225.2 | I12: 240.6 | J12: 249.5 | K12: 271.7 | L12: 293.8 | M12: 306.277 | N12: 328.6 | O12: - | P12: MW
D13: BIOMASA | E13: 1281.065 | F13: 1362.03 | G13: 1362.87 | H13: 812.9 | I13: 815.2 | J13: 819.5 | K13: 849.3 | L13: 981.6 | M13: 969.575 | N13: 1002.1 | O13: - | P13: MW
D14: WIATR | E14: 5807.416 | F14: 5848.671 | G14: 5864.443 | H14: 5868.9 | I14: 6327.9 | J14: 7007.7 | K14: 8129.5 | L14: 9428.3 | M14: 10139.538 | N14: 10550.2 | O14: - | P14: MW
D15: WODA | E15: 993.995 | F15: 988.377 | G15: 981.504 | H15: 978.1 | I15: 980.6 | J15: 983.9 | K15: 985.2 | L15: 979.1 | M15: 980.829 | N15: 980.8 | O15: - | P15: MW
O16: 06.2026 - dane ARE
F50: rodzaj instalacji | G50: PV | H50: BIOGAZ | I50: BIOMASA | J50: WIATR | K50: WODA
F51: moc [MW] | G51: =O11 -> - | H51: =O12 -> - | I51: =O13 -> - | J51: =O14 -> - | K51: =O15 -> -

Sheet Mapy
B2: Farmy wiatrowe na mapie
B3: stworzone za pomocą Google Maps. Po kliknięciu na grafikę otwiera się okno przeglądarki z interaktywną mapą.
B4: Copyright ©2026 IEO. Wszelkie prawa zastrzeżone.
