Workbook

Sheet Wprowadzenie
B2: PROJEKTY WIATROWE W POLSCE
B3: Aktualizacja bazy danych Instytutu Energetyki Odnawialnej projektów gotowych do realizacji

Sheet Projekty wiatrowe i BESS
H1: Baza danych powstała na podstawie informacji o podmiotach ubiegających się o przyłączenie instalacji wiatrowej do sieci dystrybucyjnej i przesyłowej powyżej 1 kV – czyli od spółek operatorów OSD: ENERGA Operator, PGE Dystrybucja, Tauron Dystrybucja, ENEA Operator, sieci przesyłowej OSP (PSE) oraz informacji o podmiotach, które uzyskały pozwolenia na budowę potwierdzone przez Główny Urząd Nadzoru Budowlanego. Stan na 13 sierpnia 2026. Uwaga: Baza danych standardowo obejmuje jedynie projekty, które uzyskały warunki przyłączenia do sieci (WP) nie wcześniej niż dwa lata przed datą jej aktualizacji, co wynika z przyjętego założenia, że standardowy okres ważności WP wynosi dwa lata (okres ważności skrócił się do 1 roku dla projetów które uzyskały WP po 30.4.2026). Baza danych zawiera też projekty starsze, które znajdują się w rejestrach OSD/OSP, co może wynikać z aktualizacji WP, dodatkowych uzgodnień pomiędzy stronami umowy przyłączeniowej (UP) lub innych powodów, dla których mogą znajdować się również starsze projekty, często już zrealizowane, lecz projekty nie są usuwane z rejestrów przez operatorów. Baza danych pozwala na filtrowanie projektów, których WP są starsze niż 2 lata. Dodatkowo, Projekty wycofane lub anulowane są dostępne w archiwalnych edycjach baz danych IEO. Osoby zainteresowane starszymi projektami proszone są o kontakt pod adresem: biuro@ieo.pl.
E2: Copyright ©2026 IEO. Wszelkie prawa zastrzeżone.
B4: Lp. | C4: Rodzaj instalacji | D4: Lokalizacja przyłączenia | E4: Gmina | F4: Powiat | G4: Województwo | H4: Moc przyłączeniowa [kW] | I4: Czy projekt ma pozwolenie budowlane? | J4: Nazwa inwestora | K4: Adres Inwestora | L4: Data wydania warunków przyłączenia | M4: Data zawarcia umowy o przyłączenie | N4: Operator | O4: Aktualne WP*
B5: 1 | C5: FW | D5: Broniewo | E5: Złotniki Kujawskie | F5: inowrocławski | G5: kujawsko-pomorskie | H5: 42000 | I5: - | J5: - | K5: - | L5: 45917 | M5: - | N5: Enea | O5: =IF(L5>DATE(2026,4,30),IF(L5>=TODAY()-1*365,"Tak","Nie"),IF(L5>=TODAY()-2*365,"Tak","Nie")) -> Tak
B6: 2 | C6: FW | D6: Jeżów | E6: Jeżów | F6: brzeziński | G6: łódzkie | H6: 1000 | I6: - | J6: - | K6: - | L6: 45082 | M6: 45797 | N6: PGE | O6: =IF(L6>DATE(2026,4,30),IF(L6>=TODAY()-1*365,"Tak","Nie"),IF(L6>=TODAY()-2*365,"Tak","Nie")) -> Nie
B7: 3 | C7: FW | D7: przelotowo z linii 110 kV Gdańsk I - Kiełpino | E7: Gdańsk | F7: Gdańsk | G7: pomorskie | H7: 36000 | I7: - | J7: - | K7: - | L7: 39597 | M7: 40246 | N7: Energa | O7: =IF(L7>DATE(2026,4,30),IF(L7>=TODAY()-1*365,"Tak","Nie"),IF(L7>=TODAY()-2*365,"Tak","Nie")) -> Nie
B8: 4 | C8: FW | D8: GPZ Majewo | E8: Kowala | F8: radomski | G8: mazowieckie | H8: 6000 | I8: - | J8: - | K8: - | L8: 39127 | M8: 39857 | N8: Energa | O8: =IF(L8>DATE(2026,4,30),IF(L8>=TODAY()-1*365,"Tak","Nie"),IF(L8>=TODAY()-2*365,"Tak","Nie")) -> Nie
B9: 5 | C9: FW | D9: GPZ Kołobrzeg VI Dywizji Piechoty | E9: Kołobrzeg | F9: kołobrzeski | G9: zachodniopomorskie | H9: 4000 | I9: - | J9: - | K9: - | L9: 44841 | M9: 45450 | N9: Energa | O9: =IF(L9>DATE(2026,4,30),IF(L9>=TODAY()-1*365,"Tak","Nie"),IF(L9>=TODAY()-2*365,"Tak","Nie")) -> Nie
B10: 6 | C10: FW | D10: Grodków | E10: Grodków | F10: brzeski | G10: opolskie | H10: 75000 | I10: - | J10: - | K10: - | L10: 45306 | M10: 46048 | N10: Tauron | O10: =IF(L10>DATE(2026,4,30),IF(L10>=TODAY()-1*365,"Tak","Nie"),IF(L10>=TODAY()-2*365,"Tak","Nie")) -> Nie
B11: 7 | C11: FW | D11: SE Płock | E11: Płock | F11: Płock | G11: mazowieckie | H11: 6900 | I11: - | J11: - | K11: - | L11: 45819 | M11: - | N11: Energa | O11: =IF(L11>DATE(2026,4,30),IF(L11>=TODAY()-1*365,"Tak","Nie"),IF(L11>=TODAY()-2*365,"Tak","Nie")) -> Tak
B12: 8 | C12: FW | D12: Leszno Gronowo | E12: Leszno | F12: warszawski zachodni | G12: mazowieckie | H12: 118800 | I12: - | J12: Virazon Sp. z o.o. | K12: Odzieżowa 12C lok. 1, 71-502 Szczecin | L12: 45265 | M12: 45995 | N12: PSE | O12: =IF(L12>DATE(2026,4,30),IF(L12>=TODAY()-1*365,"Tak","Nie"),IF(L12>=TODAY()-2*365,"Tak","Nie")) -> Nie
B13: 9 | C13: FW | D13: GPZ Gąbin | E13: Gąbin | F13: płocki | G13: mazowieckie | H13: 4500 | I13: - | J13: - | K13: - | L13: 46079 | M13: 46115 | N13: Energa | O13: =IF(L13>DATE(2026,4,30),IF(L13>=TODAY()-1*365,"Tak","Nie"),IF(L13>=TODAY()-2*365,"Tak","Nie")) -> Tak
B14: 10 | C14: FW | D14: GPZ Grudusk | E14: Grudusk | F14: ciechanowski | G14: mazowieckie | H14: 45000 | I14: - | J14: - | K14: - | L14: 39313 | M14: 39538 | N14: Energa | O14: =IF(L14>DATE(2026,4,30),IF(L14>=TODAY()-1*365,"Tak","Nie"),IF(L14>=TODAY()-2*365,"Tak","Nie")) -> Nie
D16: *Aktualne WP - Projekty posiadające warunki przyłączenia wydane w ciągu ostatnich 2 lat; po wejściu w życie ( 30.04.2026) ustawy z 13 marca 2026 r. o zmianie ustawy — Prawo energetyczne (Dz. U. 2026 poz. 516) "aktulane" oznaczają 1 rok
C18: LEGENDA
C19: FW | D19: Farmy wiatrowe
C20: MEE | D20: Magazyny energii elektrycznej

Sheet Projekty wiatrowe i hybrydowe
H1: Baza danych powstała na podstawie informacji o podmiotach ubiegających się o przyłączenie instalacji wiatrowej do sieci dystrybucyjnej i przesyłowej powyżej 1 kV – czyli od spółek operatorów OSD: ENERGA Operator, PGE Dystrybucja, Tauron Dystrybucja, ENEA Operator, sieci przesyłowej OSP (PSE) oraz informacji o podmiotach, które uzyskały pozwolenia na budowę potwierdzone przez Główny Urząd Nadzoru Budowlanego. Stan na 13 sierpnia 2026. Uwaga: Baza danych standardowo obejmuje jedynie projekty, które uzyskały warunki przyłączenia do sieci (WP) nie wcześniej niż dwa lata przed datą jej aktualizacji, co wynika to z przyjętego założenia z faktu, że standardowy okres ważności WP wynosi dwa lata (okres ważności skrócił się do 1 roku dla projetów które uzyskały WP po 30.4.2026). Baza danych zawiera też projekty starsze, które znajdują się w rejestrach OSD/OSP, co może wynikać z aktualizacji WP, dodatkowych uzgodnień pomiędzy stronami umowy przyłączeniowej (UP) lub innych powodów, dla których mogą znajdować się również starsze projekty, często już zrealizowane, lecz projekty nie są usuwane z rejestrów przez operatorów. Baza danych pozwala na filtrowanie projektów, których WP są starsze niż 2 lata. Dodatkowo, Projekty wycofane lub anulowane są dostępne w archiwalnych edycjach baz danych IEO. Osoby zainteresowane starszymi projektami proszone są o kontakt pod adresem: biuro@ieo.pl.
E2: Copyright ©2026 IEO. Wszelkie prawa zastrzeżone.
B4: Lp. | C4: Rodzaj instalacji | D4: Lokalizacja przyłączenia | E4: Gmina | F4: Powiat | G4: Województwo | H4: Moc przyłączeniowa [kW] | I4: Czy projekt ma pozwolenie budowlane? | J4: Nazwa inwestora | K4: Adres Inwestora | L4: Data wydania warunków przyłączenia | M4: Data zawarcia umowy o przyłączenie | N4: Operator | O4: Aktualne WP*
B5: 1 | C5: SD (FW,PV,ODB) | D5: GPZ Kraski | E5: Świnice Warckie | F5: łęczycki | G5: łódzkie | H5: 1999.6 | I5: - | J5: - | K5: - | L5: 45737 | M5: - | N5: Energa | O5: =IF(L5>DATE(2026,4,30),IF(L5>=TODAY()-1*365,"Tak","Nie"),IF(L5>=TODAY()-2*365,"Tak","Nie")) -> Tak
B6: 2 | C6: FW | D6: Broniewo | E6: Złotniki Kujawskie | F6: inowrocławski | G6: kujawsko-pomorskie | H6: 42000 | I6: - | J6: - | K6: - | L6: 45917 | M6: - | N6: Enea | O6: =IF(L6>DATE(2026,4,30),IF(L6>=TODAY()-1*365,"Tak","Nie"),IF(L6>=TODAY()-2*365,"Tak","Nie")) -> Tak
B7: 3 | C7: FW | D7: Jeżów | E7: Jeżów | F7: brzeziński | G7: łódzkie | H7: 1000 | I7: - | J7: - | K7: - | L7: 45082 | M7: 45797 | N7: PGE | O7: =IF(L7>DATE(2026,4,30),IF(L7>=TODAY()-1*365,"Tak","Nie"),IF(L7>=TODAY()-2*365,"Tak","Nie")) -> Nie
B8: 4 | C8: SD (FW,PV,ODB,EJ,MEE) | D8: CPKK | E8: Dmosin | F8: brzeziński | G8: łódzkie | H8: 15000 | I8: - | J8: Zakład Energetyczny IV Sp. z o.o. | K8: - | L8: 45951 | M8: - | N8: PSE | O8: =IF(L8>DATE(2026,4,30),IF(L8>=TODAY()-1*365,"Tak","Nie"),IF(L8>=TODAY()-2*365,"Tak","Nie")) -> Tak
B9: 5 | C9: SD (FW) | D9: Rogowiec | E9: Kleszczów | F9: bełchatowski | G9: łódzkie | H9: 250000 | I9: - | J9: Enercogrid Sp. z o.o. | K9: - | L9: 46077 | M9: - | N9: PSE | O9: =IF(L9>DATE(2026,4,30),IF(L9>=TODAY()-1*365,"Tak","Nie"),IF(L9>=TODAY()-2*365,"Tak","Nie")) -> Tak
B10: 6 | C10: FW,PV | D10: Jastrzębie-Zdrój | E10: Jastrzębie-Zdrój | F10: Jastrzębie-Zdrój | G10: śląskie | H10: 6000 | I10: - | J10: - | K10: - | L10: 44894 | M10: 45602 | N10: Tauron | O10: =IF(L10>DATE(2026,4,30),IF(L10>=TODAY()-1*365,"Tak","Nie"),IF(L10>=TODAY()-2*365,"Tak","Nie")) -> Nie
B11: 7 | C11: FW,PV | D11: GPZ Połczyn Zdrój | E11: Grodzisk Wielkopolski | F11: grodziski | G11: wielkopolskie | H11: 1500 | I11: - | J11: - | K11: - | L11: 43951 | M11: 44614 | N11: Energa | O11: =IF(L11>DATE(2026,4,30),IF(L11>=TODAY()-1*365,"Tak","Nie"),IF(L11>=TODAY()-2*365,"Tak","Nie")) -> Nie
B12: 8 | C12: FW | D12: przelotowo z linii 110 kV Gdańsk I - Kiełpino | E12: Gdańsk | F12: Gdańsk | G12: pomorskie | H12: 36000 | I12: - | J12: - | K12: - | L12: 39597 | M12: 40246 | N12: Energa | O12: =IF(L12>DATE(2026,4,30),IF(L12>=TODAY()-1*365,"Tak","Nie"),IF(L12>=TODAY()-2*365,"Tak","Nie")) -> Nie
B13: 9 | C13: FW | D13: GPZ Majewo | E13: Kowala | F13: radomski | G13: mazowieckie | H13: 6000 | I13: - | J13: - | K13: - | L13: 39127 | M13: 39857 | N13: Energa | O13: =IF(L13>DATE(2026,4,30),IF(L13>=TODAY()-1*365,"Tak","Nie"),IF(L13>=TODAY()-2*365,"Tak","Nie")) -> Nie
B14: 10 | C14: SD (FW,PV,INNE) | D14: Abramowice | E14: Lublin | F14: Lublin | G14: lubelskie | H14: 100000 | I14: - | J14: SD Bogdanka | K14: - | L14: 46057 | M14: - | N14: PSE | O14: =IF(L14>DATE(2026,4,30),IF(L14>=TODAY()-1*365,"Tak","Nie"),IF(L14>=TODAY()-2*365,"Tak","Nie")) -> Tak
D16: *Aktualne WP - Projekty posiadające warunki przyłączenia wydane w ciągu ostatnich 2 lat; po wejściu w życie ( 30.04.2026) ustawy z 13 marca 2026 r. o zmianie ustawy — Prawo energetyczne (Dz. U. 2026 poz. 516) "aktulane" oznaczają 1 rok
C18: LEGENDA
C19: FW | D19: Farmy wiatrowe
C20: PV | D20: Instalacje fotowoltaiczne
C21: MEE | D21: Magazyny energii elektrycznej
C22: ODB | D22: Odbiorca energii / instalacja odbiorcza
C23: INNE | D23: Inne źródła lub technologie OZE
C24: EJ | D24: Elektrownia jądrowa
C25: SD | D25: System dystrybucyjny

Sheet Projekty z danego zakresu mocy
B2: ZESTAWIENIE DLA PROJEKTÓW Z DANEGO ZAKRESU MOCY (wyszukiwarka zbiorów projektów)
B4: Copyright ©2026 IEO. Wszelkie prawa zastrzeżone.
I6: Wpisz tutaj-> | J6: moc od | K6: 1 | L6: do | M6: 1000000 | N6: kw
F10: 2015 | G10: 2016 | H10: 2017 | I10: 2018 | J10: 2019 | K10: 2020 | L10: 2021 | M10: 2022 | N10: 2023 | O10: 2024 | P10: 2025 | Q10: 2026 | R10: suma
D11: Wydane pozwolenia budowlane zidentyfikowane przez IEO | E11: liczba | F11: =COUNTIFS('Projekty wiatrowe i BESS'!$I:$I,">="&DATE(F$10,1,1),'Projekty wiatrowe i BESS'!$I:$I,"<="&DATE(F$10,12,31),'Projekty wiatrowe i BESS'!$H:$H,">="&'Projekty z danego zakresu mocy'!$K$6,'Projekty wiatrowe i BESS'!$H:$H,"<="&'Projekty z danego zakresu mocy'!$M$6) -> 0 | G11: =COUNTIFS('Projekty wiatrowe i BESS'!$I:$I,">="&DATE(G$10,1,1),'Projekty wiatrowe i BESS'!$I:$I,"<="&DATE(G$10,12,31),'Projekty wiatrowe i BESS'!$H:$H,">="&'Projekty z danego zakresu mocy'!$K$6,'Projekty wiatrowe i BESS'!$H:$H,"<="&'Projekty z danego zakresu mocy'!$M$6) -> 0 | H11: =COUNTIFS('Projekty wiatrowe i BESS'!$I:$I,">="&DATE(H$10,1,1),'Projekty wiatrowe i BESS'!$I:$I,"<="&DATE(H$10,12,31),'Projekty wiatrowe i BESS'!$H:$H,">="&'Projekty z danego zakresu mocy'!$K$6,'Projekty wiatrowe i BESS'!$H:$H,"<="&'Projekty z danego zakresu mocy'!$M$6) -> 0 | I11: =COUNTIFS('Projekty wiatrowe i BESS'!$I:$I,">="&DATE(I$10,1,1),'Projekty wiatrowe i BESS'!$I:$I,"<="&DATE(I$10,12,31),'Projekty wiatrowe i BESS'!$H:$H,">="&'Projekty z danego zakresu mocy'!$K$6,'Projekty wiatrowe i BESS'!$H:$H,"<="&'Projekty z danego zakresu mocy'!$M$6) -> 0 | J11: =COUNTIFS('Projekty wiatrowe i BESS'!$I:$I,">="&DATE(J$10,1,1),'Projekty wiatrowe i BESS'!$I:$I,"<="&DATE(J$10,12,31),'Projekty wiatrowe i BESS'!$H:$H,">="&'Projekty z danego zakresu mocy'!$K$6,'Projekty wiatrowe i BESS'!$H:$H,"<="&'Projekty z danego zakresu mocy'!$M$6) -> 0 | K11: =COUNTIFS('Projekty wiatrowe i BESS'!$I:$I,">="&DATE(K$10,1,1),'Projekty wiatrowe i BESS'!$I:$I,"<="&DATE(K$10,12,31),'Projekty wiatrowe i BESS'!$H:$H,">="&'Projekty z danego zakresu mocy'!$K$6,'Projekty wiatrowe i BESS'!$H:$H,"<="&'Projekty z danego zakresu mocy'!$M$6) -> 0 | L11: =COUNTIFS('Projekty wiatrowe i BESS'!$I:$I,">="&DATE(L$10,1,1),'Projekty wiatrowe i BESS'!$I:$I,"<="&DATE(L$10,12,31),'Projekty wiatrowe i BESS'!$H:$H,">="&'Projekty z danego zakresu mocy'!$K$6,'Projekty wiatrowe i BESS'!$H:$H,"<="&'Projekty z danego zakresu mocy'!$M$6) -> 0 | M11: =COUNTIFS('Projekty wiatrowe i BESS'!$I:$I,">="&DATE(M$10,1,1),'Projekty wiatrowe i BESS'!$I:$I,"<="&DATE(M$10,12,31),'Projekty wiatrowe i BESS'!$H:$H,">="&'Projekty z danego zakresu mocy'!$K$6,'Projekty wiatrowe i BESS'!$H:$H,"<="&'Projekty z danego zakresu mocy'!$M$6) -> 0 | ... Q11: =COUNTIFS('Projekty wiatrowe i BESS'!$I:$I,">="&DATE(Q$10,1,1),'Projekty wiatrowe i BESS'!$I:$I,"<="&DATE(Q$10,12,31),'Projekty wiatrowe i BESS'!$H:$H,">="&'Projekty z danego zakresu mocy'!$K$6,'Projekty wiatrowe i BESS'!$H:$H,"<="&'Projekty z danego zakresu mocy'!$M$6) -> 0 | R11: =COUNT('Projekty wiatrowe i BESS'!$I:$I) -> 0
E12: moc | F12: =SUMIFS('Projekty wiatrowe i BESS'!$H:$H,'Projekty wiatrowe i BESS'!$I:$I,">="&DATE(F$10,1,1),'Projekty wiatrowe i BESS'!$I:$I,"<="&DATE(F$10,12,31),'Projekty wiatrowe i BESS'!$H:$H,">="&'Projekty z danego zakresu mocy'!$K$6,'Projekty wiatrowe i BESS'!$H:$H,"<="&'Projekty z danego zakresu mocy'!$M$6)/1000 -> 0 | G12: =SUMIFS('Projekty wiatrowe i BESS'!$H:$H,'Projekty wiatrowe i BESS'!$I:$I,">="&DATE(G$10,1,1),'Projekty wiatrowe i BESS'!$I:$I,"<="&DATE(G$10,12,31),'Projekty wiatrowe i BESS'!$H:$H,">="&'Projekty z danego zakresu mocy'!$K$6,'Projekty wiatrowe i BESS'!$H:$H,"<="&'Projekty z danego zakresu mocy'!$M$6)/1000 -> 0 | H12: =SUMIFS('Projekty wiatrowe i BESS'!$H:$H,'Projekty wiatrowe i BESS'!$I:$I,">="&DATE(H$10,1,1),'Projekty wiatrowe i BESS'!$I:$I,"<="&DATE(H$10,12,31),'Projekty wiatrowe i BESS'!$H:$H,">="&'Projekty z danego zakresu mocy'!$K$6,'Projekty wiatrowe i BESS'!$H:$H,"<="&'Projekty z danego zakresu mocy'!$M$6)/1000 -> 0 | I12: =SUMIFS('Projekty wiatrowe i BESS'!$H:$H,'Projekty wiatrowe i BESS'!$I:$I,">="&DATE(I$10,1,1),'Projekty wiatrowe i BESS'!$I:$I,"<="&DATE(I$10,12,31),'Projekty wiatrowe i BESS'!$H:$H,">="&'Projekty z danego zakresu mocy'!$K$6,'Projekty wiatrowe i BESS'!$H:$H,"<="&'Projekty z danego zakresu mocy'!$M$6)/1000 -> 0 | J12: =SUMIFS('Projekty wiatrowe i BESS'!$H:$H,'Projekty wiatrowe i BESS'!$I:$I,">="&DATE(J$10,1,1),'Projekty wiatrowe i BESS'!$I:$I,"<="&DATE(J$10,12,31),'Projekty wiatrowe i BESS'!$H:$H,">="&'Projekty z danego zakresu mocy'!$K$6,'Projekty wiatrowe i BESS'!$H:$H,"<="&'Projekty z danego zakresu mocy'!$M$6)/1000 -> 0 | K12: =SUMIFS('Projekty wiatrowe i BESS'!$H:$H,'Projekty wiatrowe i BESS'!$I:$I,">="&DATE(K$10,1,1),'Projekty wiatrowe i BESS'!$I:$I,"<="&DATE(K$10,12,31),'Projekty wiatrowe i BESS'!$H:$H,">="&'Projekty z danego zakresu mocy'!$K$6,'Projekty wiatrowe i BESS'!$H:$H,"<="&'Projekty z danego zakresu mocy'!$M$6)/1000 -> 0 | L12: =SUMIFS('Projekty wiatrowe i BESS'!$H:$H,'Projekty wiatrowe i BESS'!$I:$I,">="&DATE(L$10,1,1),'Projekty wiatrowe i BESS'!$I:$I,"<="&DATE(L$10,12,31),'Projekty wiatrowe i BESS'!$H:$H,">="&'Projekty z danego zakresu mocy'!$K$6,'Projekty wiatrowe i BESS'!$H:$H,"<="&'Projekty z danego zakresu mocy'!$M$6)/1000 -> 0 | M12: =SUMIFS('Projekty wiatrowe i BESS'!$H:$H,'Projekty wiatrowe i BESS'!$I:$I,">="&DATE(M$10,1,1),'Projekty wiatrowe i BESS'!$I:$I,"<="&DATE(M$10,12,31),'Projekty wiatrowe i BESS'!$H:$H,">="&'Projekty z danego zakresu mocy'!$K$6,'Projekty wiatrowe i BESS'!$H:$H,"<="&'Projekty z danego zakresu mocy'!$M$6)/1000 -> 0 | ... Q12: =SUMIFS('Projekty wiatrowe i BESS'!$H:$H,'Projekty wiatrowe i BESS'!$I:$I,">="&DATE(Q$10,1,1),'Projekty wiatrowe i BESS'!$I:$I,"<="&DATE(Q$10,12,31),'Projekty wiatrowe i BESS'!$H:$H,">="&'Projekty z danego zakresu mocy'!$K$6,'Projekty wiatrowe i BESS'!$H:$H,"<="&'Projekty z danego zakresu mocy'!$M$6)/1000 -> 0 | R12: =SUMIF('Projekty wiatrowe i BESS'!$I:$I,"<>-",'Projekty wiatrowe i BESS'!$H:$H)/1000 -> 0
D13: Zawarte umowy o przyłączenie wg Operatorów | E13: liczba | F13: =COUNTIFS('Projekty wiatrowe i BESS'!$M:$M,">="&DATE(F$10,1,1),'Projekty wiatrowe i BESS'!$M:$M,"<="&DATE(F$10,12,31),'Projekty wiatrowe i BESS'!$H:$H,">="&'Projekty z danego zakresu mocy'!$K$6,'Projekty wiatrowe i BESS'!$H:$H,"<="&'Projekty z danego zakresu mocy'!$M$6) -> 0 | G13: =COUNTIFS('Projekty wiatrowe i BESS'!$M:$M,">="&DATE(G$10,1,1),'Projekty wiatrowe i BESS'!$M:$M,"<="&DATE(G$10,12,31),'Projekty wiatrowe i BESS'!$H:$H,">="&'Projekty z danego zakresu mocy'!$K$6,'Projekty wiatrowe i BESS'!$H:$H,"<="&'Projekty z danego zakresu mocy'!$M$6) -> 0 | H13: =COUNTIFS('Projekty wiatrowe i BESS'!$M:$M,">="&DATE(H$10,1,1),'Projekty wiatrowe i BESS'!$M:$M,"<="&DATE(H$10,12,31),'Projekty wiatrowe i BESS'!$H:$H,">="&'Projekty z danego zakresu mocy'!$K$6,'Projekty wiatrowe i BESS'!$H:$H,"<="&'Projekty z danego zakresu mocy'!$M$6) -> 0 | I13: =COUNTIFS('Projekty wiatrowe i BESS'!$M:$M,">="&DATE(I$10,1,1),'Projekty wiatrowe i BESS'!$M:$M,"<="&DATE(I$10,12,31),'Projekty wiatrowe i BESS'!$H:$H,">="&'Projekty z danego zakresu mocy'!$K$6,'Projekty wiatrowe i BESS'!$H:$H,"<="&'Projekty z danego zakresu mocy'!$M$6) -> 0 | J13: =COUNTIFS('Projekty wiatrowe i BESS'!$M:$M,">="&DATE(J$10,1,1),'Projekty wiatrowe i BESS'!$M:$M,"<="&DATE(J$10,12,31),'Projekty wiatrowe i BESS'!$H:$H,">="&'Projekty z danego zakresu mocy'!$K$6,'Projekty wiatrowe i BESS'!$H:$H,"<="&'Projekty z danego zakresu mocy'!$M$6) -> 0 | K13: =COUNTIFS('Projekty wiatrowe i BESS'!$M:$M,">="&DATE(K$10,1,1),'Projekty wiatrowe i BESS'!$M:$M,"<="&DATE(K$10,12,31),'Projekty wiatrowe i BESS'!$H:$H,">="&'Projekty z danego zakresu mocy'!$K$6,'Projekty wiatrowe i BESS'!$H:$H,"<="&'Projekty z danego zakresu mocy'!$M$6) -> 0 | L13: =COUNTIFS('Projekty wiatrowe i BESS'!$M:$M,">="&DATE(L$10,1,1),'Projekty wiatrowe i BESS'!$M:$M,"<="&DATE(L$10,12,31),'Projekty wiatrowe i BESS'!$H:$H,">="&'Projekty z danego zakresu mocy'!$K$6,'Projekty wiatrowe i BESS'!$H:$H,"<="&'Projekty z danego zakresu mocy'!$M$6) -> 0 | M13: =COUNTIFS('Projekty wiatrowe i BESS'!$M:$M,">="&DATE(M$10,1,1),'Projekty wiatrowe i BESS'!$M:$M,"<="&DATE(M$10,12,31),'Projekty wiatrowe i BESS'!$H:$H,">="&'Projekty z danego zakresu mocy'!$K$6,'Projekty wiatrowe i BESS'!$H:$H,"<="&'Projekty z danego zakresu mocy'!$M$6) -> 0 | ... Q13: =COUNTIFS('Projekty wiatrowe i BESS'!$M:$M,">="&DATE(Q$10,1,1),'Projekty wiatrowe i BESS'!$M:$M,"<="&DATE(Q$10,12,31),'Projekty wiatrowe i BESS'!$H:$H,">="&'Projekty z danego zakresu mocy'!$K$6,'Projekty wiatrowe i BESS'!$H:$H,"<="&'Projekty z danego zakresu mocy'!$M$6) -> 2 | R13: =COUNTIFS('Projekty wiatrowe i BESS'!$M:$M,">="&DATE(1900,1,1),'Projekty wiatrowe i BESS'!$M:$M,"<="&DATE(9999,12,31)) -> 8
E14: moc | F14: =SUMIFS('Projekty wiatrowe i BESS'!$H:$H,'Projekty wiatrowe i BESS'!$M:$M,">="&DATE(F$10,1,1),'Projekty wiatrowe i BESS'!$M:$M,"<="&DATE(F$10,12,31),'Projekty wiatrowe i BESS'!$H:$H,">="&'Projekty z danego zakresu mocy'!$K$6,'Projekty wiatrowe i BESS'!$H:$H,"<="&'Projekty z danego zakresu mocy'!$M$6)/1000 -> 0 | G14: =SUMIFS('Projekty wiatrowe i BESS'!$H:$H,'Projekty wiatrowe i BESS'!$M:$M,">="&DATE(G$10,1,1),'Projekty wiatrowe i BESS'!$M:$M,"<="&DATE(G$10,12,31),'Projekty wiatrowe i BESS'!$H:$H,">="&'Projekty z danego zakresu mocy'!$K$6,'Projekty wiatrowe i BESS'!$H:$H,"<="&'Projekty z danego zakresu mocy'!$M$6)/1000 -> 0 | H14: =SUMIFS('Projekty wiatrowe i BESS'!$H:$H,'Projekty wiatrowe i BESS'!$M:$M,">="&DATE(H$10,1,1),'Projekty wiatrowe i BESS'!$M:$M,"<="&DATE(H$10,12,31),'Projekty wiatrowe i BESS'!$H:$H,">="&'Projekty z danego zakresu mocy'!$K$6,'Projekty wiatrowe i BESS'!$H:$H,"<="&'Projekty z danego zakresu mocy'!$M$6)/1000 -> 0 | I14: =SUMIFS('Projekty wiatrowe i BESS'!$H:$H,'Projekty wiatrowe i BESS'!$M:$M,">="&DATE(I$10,1,1),'Projekty wiatrowe i BESS'!$M:$M,"<="&DATE(I$10,12,31),'Projekty wiatrowe i BESS'!$H:$H,">="&'Projekty z danego zakresu mocy'!$K$6,'Projekty wiatrowe i BESS'!$H:$H,"<="&'Projekty z danego zakresu mocy'!$M$6)/1000 -> 0 | J14: =SUMIFS('Projekty wiatrowe i BESS'!$H:$H,'Projekty wiatrowe i BESS'!$M:$M,">="&DATE(J$10,1,1),'Projekty wiatrowe i BESS'!$M:$M,"<="&DATE(J$10,12,31),'Projekty wiatrowe i BESS'!$H:$H,">="&'Projekty z danego zakresu mocy'!$K$6,'Projekty wiatrowe i BESS'!$H:$H,"<="&'Projekty z danego zakresu mocy'!$M$6)/1000 -> 0 | K14: =SUMIFS('Projekty wiatrowe i BESS'!$H:$H,'Projekty wiatrowe i BESS'!$M:$M,">="&DATE(K$10,1,1),'Projekty wiatrowe i BESS'!$M:$M,"<="&DATE(K$10,12,31),'Projekty wiatrowe i BESS'!$H:$H,">="&'Projekty z danego zakresu mocy'!$K$6,'Projekty wiatrowe i BESS'!$H:$H,"<="&'Projekty z danego zakresu mocy'!$M$6)/1000 -> 0 | L14: =SUMIFS('Projekty wiatrowe i BESS'!$H:$H,'Projekty wiatrowe i BESS'!$M:$M,">="&DATE(L$10,1,1),'Projekty wiatrowe i BESS'!$M:$M,"<="&DATE(L$10,12,31),'Projekty wiatrowe i BESS'!$H:$H,">="&'Projekty z danego zakresu mocy'!$K$6,'Projekty wiatrowe i BESS'!$H:$H,"<="&'Projekty z danego zakresu mocy'!$M$6)/1000 -> 0 | M14: =SUMIFS('Projekty wiatrowe i BESS'!$H:$H,'Projekty wiatrowe i BESS'!$M:$M,">="&DATE(M$10,1,1),'Projekty wiatrowe i BESS'!$M:$M,"<="&DATE(M$10,12,31),'Projekty wiatrowe i BESS'!$H:$H,">="&'Projekty z danego zakresu mocy'!$K$6,'Projekty wiatrowe i BESS'!$H:$H,"<="&'Projekty z danego zakresu mocy'!$M$6)/1000 -> 0 | ... Q14: =SUMIFS('Projekty wiatrowe i BESS'!$H:$H,'Projekty wiatrowe i BESS'!$M:$M,">="&DATE(Q$10,1,1),'Projekty wiatrowe i BESS'!$M:$M,"<="&DATE(Q$10,12,31),'Projekty wiatrowe i BESS'!$H:$H,">="&'Projekty z danego zakresu mocy'!$K$6,'Projekty wiatrowe i BESS'!$H:$H,"<="&'Projekty z danego zakresu mocy'!$M$6)/1000 -> 79.5 | R14: =SUMIFS('Projekty wiatrowe i BESS'!$H:$H,'Projekty wiatrowe i BESS'!$M:$M,">="&DATE(1900,1,1),'Projekty wiatrowe i BESS'!$M:$M,"<="&DATE(9999,12,31))/1000 -> 290.3
D15: Wydane warunki przyłączenia wg Operatorów | E15: liczba | F15: =COUNTIFS('Projekty wiatrowe i BESS'!$L:$L,">="&DATE(F$10,1,1),'Projekty wiatrowe i BESS'!$L:$L,"<="&DATE(F$10,12,31),'Projekty wiatrowe i BESS'!$H:$H,">="&'Projekty z danego zakresu mocy'!$K$6,'Projekty wiatrowe i BESS'!$H:$H,"<="&'Projekty z danego zakresu mocy'!$M$6) -> 0 | G15: =COUNTIFS('Projekty wiatrowe i BESS'!$L:$L,">="&DATE(G$10,1,1),'Projekty wiatrowe i BESS'!$L:$L,"<="&DATE(G$10,12,31),'Projekty wiatrowe i BESS'!$H:$H,">="&'Projekty z danego zakresu mocy'!$K$6,'Projekty wiatrowe i BESS'!$H:$H,"<="&'Projekty z danego zakresu mocy'!$M$6) -> 0 | H15: =COUNTIFS('Projekty wiatrowe i BESS'!$L:$L,">="&DATE(H$10,1,1),'Projekty wiatrowe i BESS'!$L:$L,"<="&DATE(H$10,12,31),'Projekty wiatrowe i BESS'!$H:$H,">="&'Projekty z danego zakresu mocy'!$K$6,'Projekty wiatrowe i BESS'!$H:$H,"<="&'Projekty z danego zakresu mocy'!$M$6) -> 0 | I15: =COUNTIFS('Projekty wiatrowe i BESS'!$L:$L,">="&DATE(I$10,1,1),'Projekty wiatrowe i BESS'!$L:$L,"<="&DATE(I$10,12,31),'Projekty wiatrowe i BESS'!$H:$H,">="&'Projekty z danego zakresu mocy'!$K$6,'Projekty wiatrowe i BESS'!$H:$H,"<="&'Projekty z danego zakresu mocy'!$M$6) -> 0 | J15: =COUNTIFS('Projekty wiatrowe i BESS'!$L:$L,">="&DATE(J$10,1,1),'Projekty wiatrowe i BESS'!$L:$L,"<="&DATE(J$10,12,31),'Projekty wiatrowe i BESS'!$H:$H,">="&'Projekty z danego zakresu mocy'!$K$6,'Projekty wiatrowe i BESS'!$H:$H,"<="&'Projekty z danego zakresu mocy'!$M$6) -> 0 | K15: =COUNTIFS('Projekty wiatrowe i BESS'!$L:$L,">="&DATE(K$10,1,1),'Projekty wiatrowe i BESS'!$L:$L,"<="&DATE(K$10,12,31),'Projekty wiatrowe i BESS'!$H:$H,">="&'Projekty z danego zakresu mocy'!$K$6,'Projekty wiatrowe i BESS'!$H:$H,"<="&'Projekty z danego zakresu mocy'!$M$6) -> 0 | L15: =COUNTIFS('Projekty wiatrowe i BESS'!$L:$L,">="&DATE(L$10,1,1),'Projekty wiatrowe i BESS'!$L:$L,"<="&DATE(L$10,12,31),'Projekty wiatrowe i BESS'!$H:$H,">="&'Projekty z danego zakresu mocy'!$K$6,'Projekty wiatrowe i BESS'!$H:$H,"<="&'Projekty z danego zakresu mocy'!$M$6) -> 0 | M15: =COUNTIFS('Projekty wiatrowe i BESS'!$L:$L,">="&DATE(M$10,1,1),'Projekty wiatrowe i BESS'!$L:$L,"<="&DATE(M$10,12,31),'Projekty wiatrowe i BESS'!$H:$H,">="&'Projekty z danego zakresu mocy'!$K$6,'Projekty wiatrowe i BESS'!$H:$H,"<="&'Projekty z danego zakresu mocy'!$M$6) -> 1 | ... Q15: =COUNTIFS('Projekty wiatrowe i BESS'!$L:$L,">="&DATE(Q$10,1,1),'Projekty wiatrowe i BESS'!$L:$L,"<="&DATE(Q$10,12,31),'Projekty wiatrowe i BESS'!$H:$H,">="&'Projekty z danego zakresu mocy'!$K$6,'Projekty wiatrowe i BESS'!$H:$H,"<="&'Projekty z danego zakresu mocy'!$M$6) -> 1 | R15: =COUNT('Projekty wiatrowe i BESS'!$H:$H) -> 10
E16: moc | F16: =SUMIFS('Projekty wiatrowe i BESS'!$H:$H,'Projekty wiatrowe i BESS'!$L:$L,">="&DATE(F$10,1,1),'Projekty wiatrowe i BESS'!$L:$L,"<="&DATE(F$10,12,31),'Projekty wiatrowe i BESS'!$H:$H,">="&'Projekty z danego zakresu mocy'!$K$6,'Projekty wiatrowe i BESS'!$H:$H,"<="&'Projekty z danego zakresu mocy'!$M$6)/1000 -> 0 | G16: =SUMIFS('Projekty wiatrowe i BESS'!$H:$H,'Projekty wiatrowe i BESS'!$L:$L,">="&DATE(G$10,1,1),'Projekty wiatrowe i BESS'!$L:$L,"<="&DATE(G$10,12,31),'Projekty wiatrowe i BESS'!$H:$H,">="&'Projekty z danego zakresu mocy'!$K$6,'Projekty wiatrowe i BESS'!$H:$H,"<="&'Projekty z danego zakresu mocy'!$M$6)/1000 -> 0 | H16: =SUMIFS('Projekty wiatrowe i BESS'!$H:$H,'Projekty wiatrowe i BESS'!$L:$L,">="&DATE(H$10,1,1),'Projekty wiatrowe i BESS'!$L:$L,"<="&DATE(H$10,12,31),'Projekty wiatrowe i BESS'!$H:$H,">="&'Projekty z danego zakresu mocy'!$K$6,'Projekty wiatrowe i BESS'!$H:$H,"<="&'Projekty z danego zakresu mocy'!$M$6)/1000 -> 0 | I16: =SUMIFS('Projekty wiatrowe i BESS'!$H:$H,'Projekty wiatrowe i BESS'!$L:$L,">="&DATE(I$10,1,1),'Projekty wiatrowe i BESS'!$L:$L,"<="&DATE(I$10,12,31),'Projekty wiatrowe i BESS'!$H:$H,">="&'Projekty z danego zakresu mocy'!$K$6,'Projekty wiatrowe i BESS'!$H:$H,"<="&'Projekty z danego zakresu mocy'!$M$6)/1000 -> 0 | J16: =SUMIFS('Projekty wiatrowe i BESS'!$H:$H,'Projekty wiatrowe i BESS'!$L:$L,">="&DATE(J$10,1,1),'Projekty wiatrowe i BESS'!$L:$L,"<="&DATE(J$10,12,31),'Projekty wiatrowe i BESS'!$H:$H,">="&'Projekty z danego zakresu mocy'!$K$6,'Projekty wiatrowe i BESS'!$H:$H,"<="&'Projekty z danego zakresu mocy'!$M$6)/1000 -> 0 | K16: =SUMIFS('Projekty wiatrowe i BESS'!$H:$H,'Projekty wiatrowe i BESS'!$L:$L,">="&DATE(K$10,1,1),'Projekty wiatrowe i BESS'!$L:$L,"<="&DATE(K$10,12,31),'Projekty wiatrowe i BESS'!$H:$H,">="&'Projekty z danego zakresu mocy'!$K$6,'Projekty wiatrowe i BESS'!$H:$H,"<="&'Projekty z danego zakresu mocy'!$M$6)/1000 -> 0 | L16: =SUMIFS('Projekty wiatrowe i BESS'!$H:$H,'Projekty wiatrowe i BESS'!$L:$L,">="&DATE(L$10,1,1),'Projekty wiatrowe i BESS'!$L:$L,"<="&DATE(L$10,12,31),'Projekty wiatrowe i BESS'!$H:$H,">="&'Projekty z danego zakresu mocy'!$K$6,'Projekty wiatrowe i BESS'!$H:$H,"<="&'Projekty z danego zakresu mocy'!$M$6)/1000 -> 0 | M16: =SUMIFS('Projekty wiatrowe i BESS'!$H:$H,'Projekty wiatrowe i BESS'!$L:$L,">="&DATE(M$10,1,1),'Projekty wiatrowe i BESS'!$L:$L,"<="&DATE(M$10,12,31),'Projekty wiatrowe i BESS'!$H:$H,">="&'Projekty z danego zakresu mocy'!$K$6,'Projekty wiatrowe i BESS'!$H:$H,"<="&'Projekty z danego zakresu mocy'!$M$6)/1000 -> 4 | ... Q16: =SUMIFS('Projekty wiatrowe i BESS'!$H:$H,'Projekty wiatrowe i BESS'!$L:$L,">="&DATE(Q$10,1,1),'Projekty wiatrowe i BESS'!$L:$L,"<="&DATE(Q$10,12,31),'Projekty wiatrowe i BESS'!$H:$H,">="&'Projekty z danego zakresu mocy'!$K$6,'Projekty wiatrowe i BESS'!$H:$H,"<="&'Projekty z danego zakresu mocy'!$M$6)/1000 -> 4.5 | R16: =SUM('Projekty wiatrowe i BESS'!$H:$H)/1000 -> 339.2
I58: Wydane pozwolenia budowlane w poszczególnych miesiącach
E62: 2024 | F62: =DATE($E$62,1,1) -> 45292 | G62: =DATE($E$62,2,1) -> 45323 | H62: =DATE($E$62,3,1) -> 45352 | I62: =DATE($E$62,4,1) -> 45383 | J62: =DATE($E$62,5,1) -> 45413 | K62: =DATE($E$62,6,1) -> 45444 | L62: =DATE($E$62,7,1) -> 45474 | M62: =DATE($E$62,8,1) -> 45505 | N62: =DATE($E$62,9,1) -> 45536 | O62: =DATE($E$62,10,1) -> 45566 | P62: =DATE($E$62,11,1) -> 45597 | Q62: =DATE($E$62,12,1) -> 45627
E63: Wydane pozwolenia budowlane - liczba | F63: =COUNTIFS('Projekty wiatrowe i BESS'!$I:$I,">="&DATE($E62,MONTH(F62),1),'Projekty wiatrowe i BESS'!$I:$I,"<="&DATE($E62,MONTH(F62)+1,0),'Projekty wiatrowe i BESS'!$H:$H,">="&'Projekty z danego zakresu mocy'!$K$6,'Projekty wiatrowe i BESS'!$H:$H,"<="&'Projekty z danego zakresu mocy'!$M$6) -> 0 | G63: =COUNTIFS('Projekty wiatrowe i BESS'!$I:$I,">="&DATE($E62,MONTH(G62),1),'Projekty wiatrowe i BESS'!$I:$I,"<="&DATE($E62,MONTH(G62)+1,0),'Projekty wiatrowe i BESS'!$H:$H,">="&'Projekty z danego zakresu mocy'!$K$6,'Projekty wiatrowe i BESS'!$H:$H,"<="&'Projekty z danego zakresu mocy'!$M$6) -> 0 | H63: =COUNTIFS('Projekty wiatrowe i BESS'!$I:$I,">="&DATE($E62,MONTH(H62),1),'Projekty wiatrowe i BESS'!$I:$I,"<="&DATE($E62,MONTH(H62)+1,0),'Projekty wiatrowe i BESS'!$H:$H,">="&'Projekty z danego zakresu mocy'!$K$6,'Projekty wiatrowe i BESS'!$H:$H,"<="&'Projekty z danego zakresu mocy'!$M$6) -> 0 | I63: =COUNTIFS('Projekty wiatrowe i BESS'!$I:$I,">="&DATE($E62,MONTH(I62),1),'Projekty wiatrowe i BESS'!$I:$I,"<="&DATE($E62,MONTH(I62)+1,0),'Projekty wiatrowe i BESS'!$H:$H,">="&'Projekty z danego zakresu mocy'!$K$6,'Projekty wiatrowe i BESS'!$H:$H,"<="&'Projekty z danego zakresu mocy'!$M$6) -> 0 | J63: =COUNTIFS('Projekty wiatrowe i BESS'!$I:$I,">="&DATE($E62,MONTH(J62),1),'Projekty wiatrowe i BESS'!$I:$I,"<="&DATE($E62,MONTH(J62)+1,0),'Projekty wiatrowe i BESS'!$H:$H,">="&'Projekty z danego zakresu mocy'!$K$6,'Projekty wiatrowe i BESS'!$H:$H,"<="&'Projekty z danego zakresu mocy'!$M$6) -> 0 | K63: =COUNTIFS('Projekty wiatrowe i BESS'!$I:$I,">="&DATE($E62,MONTH(K62),1),'Projekty wiatrowe i BESS'!$I:$I,"<="&DATE($E62,MONTH(K62)+1,0),'Projekty wiatrowe i BESS'!$H:$H,">="&'Projekty z danego zakresu mocy'!$K$6,'Projekty wiatrowe i BESS'!$H:$H,"<="&'Projekty z danego zakresu mocy'!$M$6) -> 0 | L63: =COUNTIFS('Projekty wiatrowe i BESS'!$I:$I,">="&DATE($E62,MONTH(L62),1),'Projekty wiatrowe i BESS'!$I:$I,"<="&DATE($E62,MONTH(L62)+1,0),'Projekty wiatrowe i BESS'!$H:$H,">="&'Projekty z danego zakresu mocy'!$K$6,'Projekty wiatrowe i BESS'!$H:$H,"<="&'Projekty z danego zakresu mocy'!$M$6) -> 0 | M63: =COUNTIFS('Projekty wiatrowe i BESS'!$I:$I,">="&DATE($E62,MONTH(M62),1),'Projekty wiatrowe i BESS'!$I:$I,"<="&DATE($E62,MONTH(M62)+1,0),'Projekty wiatrowe i BESS'!$H:$H,">="&'Projekty z danego zakresu mocy'!$K$6,'Projekty wiatrowe i BESS'!$H:$H,"<="&'Projekty z danego zakresu mocy'!$M$6) -> 0 | ... Q63: =COUNTIFS('Projekty wiatrowe i BESS'!$I:$I,">="&DATE($E62,MONTH(Q62),1),'Projekty wiatrowe i BESS'!$I:$I,"<="&DATE($E62,MONTH(Q62)+1,0),'Projekty wiatrowe i BESS'!$H:$H,">="&'Projekty z danego zakresu mocy'!$K$6,'Projekty wiatrowe i BESS'!$H:$H,"<="&'Projekty z danego zakresu mocy'!$M$6) -> 0
E64: moc [MW] | F64: =SUMIFS('Projekty wiatrowe i BESS'!$H:$H,'Projekty wiatrowe i BESS'!$I:$I,">="&DATE($E62,MONTH(F62),1),'Projekty wiatrowe i BESS'!$I:$I,"<="&DATE($E62,MONTH(F62)+1,0),'Projekty wiatrowe i BESS'!$H:$H,">="&'Projekty z danego zakresu mocy'!$K$6,'Projekty wiatrowe i BESS'!$H:$H,"<="&'Projekty z danego zakresu mocy'!$M$6)/1000 -> 0 | G64: =SUMIFS('Projekty wiatrowe i BESS'!$H:$H,'Projekty wiatrowe i BESS'!$I:$I,">="&DATE($E62,MONTH(G62),1),'Projekty wiatrowe i BESS'!$I:$I,"<="&DATE($E62,MONTH(G62)+1,0),'Projekty wiatrowe i BESS'!$H:$H,">="&'Projekty z danego zakresu mocy'!$K$6,'Projekty wiatrowe i BESS'!$H:$H,"<="&'Projekty z danego zakresu mocy'!$M$6)/1000 -> 0 | H64: =SUMIFS('Projekty wiatrowe i BESS'!$H:$H,'Projekty wiatrowe i BESS'!$I:$I,">="&DATE($E62,MONTH(H62),1),'Projekty wiatrowe i BESS'!$I:$I,"<="&DATE($E62,MONTH(H62)+1,0),'Projekty wiatrowe i BESS'!$H:$H,">="&'Projekty z danego zakresu mocy'!$K$6,'Projekty wiatrowe i BESS'!$H:$H,"<="&'Projekty z danego zakresu mocy'!$M$6)/1000 -> 0 | I64: =SUMIFS('Projekty wiatrowe i BESS'!$H:$H,'Projekty wiatrowe i BESS'!$I:$I,">="&DATE($E62,MONTH(I62),1),'Projekty wiatrowe i BESS'!$I:$I,"<="&DATE($E62,MONTH(I62)+1,0),'Projekty wiatrowe i BESS'!$H:$H,">="&'Projekty z danego zakresu mocy'!$K$6,'Projekty wiatrowe i BESS'!$H:$H,"<="&'Projekty z danego zakresu mocy'!$M$6)/1000 -> 0 | J64: =SUMIFS('Projekty wiatrowe i BESS'!$H:$H,'Projekty wiatrowe i BESS'!$I:$I,">="&DATE($E62,MONTH(J62),1),'Projekty wiatrowe i BESS'!$I:$I,"<="&DATE($E62,MONTH(J62)+1,0),'Projekty wiatrowe i BESS'!$H:$H,">="&'Projekty z danego zakresu mocy'!$K$6,'Projekty wiatrowe i BESS'!$H:$H,"<="&'Projekty z danego zakresu mocy'!$M$6)/1000 -> 0 | K64: =SUMIFS('Projekty wiatrowe i BESS'!$H:$H,'Projekty wiatrowe i BESS'!$I:$I,">="&DATE($E62,MONTH(K62),1),'Projekty wiatrowe i BESS'!$I:$I,"<="&DATE($E62,MONTH(K62)+1,0),'Projekty wiatrowe i BESS'!$H:$H,">="&'Projekty z danego zakresu mocy'!$K$6,'Projekty wiatrowe i BESS'!$H:$H,"<="&'Projekty z danego zakresu mocy'!$M$6)/1000 -> 0 | L64: =SUMIFS('Projekty wiatrowe i BESS'!$H:$H,'Projekty wiatrowe i BESS'!$I:$I,">="&DATE($E62,MONTH(L62),1),'Projekty wiatrowe i BESS'!$I:$I,"<="&DATE($E62,MONTH(L62)+1,0),'Projekty wiatrowe i BESS'!$H:$H,">="&'Projekty z danego zakresu mocy'!$K$6,'Projekty wiatrowe i BESS'!$H:$H,"<="&'Projekty z danego zakresu mocy'!$M$6)/1000 -> 0 | M64: =SUMIFS('Projekty wiatrowe i BESS'!$H:$H,'Projekty wiatrowe i BESS'!$I:$I,">="&DATE($E62,MONTH(M62),1),'Projekty wiatrowe i BESS'!$I:$I,"<="&DATE($E62,MONTH(M62)+1,0),'Projekty wiatrowe i BESS'!$H:$H,">="&'Projekty z danego zakresu mocy'!$K$6,'Projekty wiatrowe i BESS'!$H:$H,"<="&'Projekty z danego zakresu mocy'!$M$6)/1000 -> 0 | ... Q64: =SUMIFS('Projekty wiatrowe i BESS'!$H:$H,'Projekty wiatrowe i BESS'!$I:$I,">="&DATE($E62,MONTH(Q62),1),'Projekty wiatrowe i BESS'!$I:$I,"<="&DATE($E62,MONTH(Q62)+1,0),'Projekty wiatrowe i BESS'!$H:$H,">="&'Projekty z danego zakresu mocy'!$K$6,'Projekty wiatrowe i BESS'!$H:$H,"<="&'Projekty z danego zakresu mocy'!$M$6)/1000 -> 0
E68: 2025 | F68: =DATE($E$68,1,1) -> 45658 | G68: =DATE($E$68,2,1) -> 45689 | H68: =DATE($E$68,3,1) -> 45717 | I68: =DATE($E$68,4,1) -> 45748 | J68: =DATE($E$68,5,1) -> 45778 | K68: =DATE($E$68,6,1) -> 45809 | L68: =DATE($E$68,7,1) -> 45839 | M68: =DATE($E$68,8,1) -> 45870 | N68: =DATE($E$68,9,1) -> 45901 | O68: =DATE($E$68,10,1) -> 45931 | P68: =DATE($E$68,11,1) -> 45962 | Q68: =DATE($E$68,12,1) -> 45992
E69: Wydane pozwolenia budowlane - liczba | F69: =COUNTIFS('Projekty wiatrowe i BESS'!$I:$I,">="&DATE($E68,MONTH(F68),1),'Projekty wiatrowe i BESS'!$I:$I,"<="&DATE($E68,MONTH(F68)+1,0),'Projekty wiatrowe i BESS'!$H:$H,">="&'Projekty z danego zakresu mocy'!$K$6,'Projekty wiatrowe i BESS'!$H:$H,"<="&'Projekty z danego zakresu mocy'!$M$6) -> 0 | G69: =COUNTIFS('Projekty wiatrowe i BESS'!$I:$I,">="&DATE($E68,MONTH(G68),1),'Projekty wiatrowe i BESS'!$I:$I,"<="&DATE($E68,MONTH(G68)+1,0),'Projekty wiatrowe i BESS'!$H:$H,">="&'Projekty z danego zakresu mocy'!$K$6,'Projekty wiatrowe i BESS'!$H:$H,"<="&'Projekty z danego zakresu mocy'!$M$6) -> 0 | H69: =COUNTIFS('Projekty wiatrowe i BESS'!$I:$I,">="&DATE($E68,MONTH(H68),1),'Projekty wiatrowe i BESS'!$I:$I,"<="&DATE($E68,MONTH(H68)+1,0),'Projekty wiatrowe i BESS'!$H:$H,">="&'Projekty z danego zakresu mocy'!$K$6,'Projekty wiatrowe i BESS'!$H:$H,"<="&'Projekty z danego zakresu mocy'!$M$6) -> 0 | I69: =COUNTIFS('Projekty wiatrowe i BESS'!$I:$I,">="&DATE($E68,MONTH(I68),1),'Projekty wiatrowe i BESS'!$I:$I,"<="&DATE($E68,MONTH(I68)+1,0),'Projekty wiatrowe i BESS'!$H:$H,">="&'Projekty z danego zakresu mocy'!$K$6,'Projekty wiatrowe i BESS'!$H:$H,"<="&'Projekty z danego zakresu mocy'!$M$6) -> 0 | J69: =COUNTIFS('Projekty wiatrowe i BESS'!$I:$I,">="&DATE($E68,MONTH(J68),1),'Projekty wiatrowe i BESS'!$I:$I,"<="&DATE($E68,MONTH(J68)+1,0),'Projekty wiatrowe i BESS'!$H:$H,">="&'Projekty z danego zakresu mocy'!$K$6,'Projekty wiatrowe i BESS'!$H:$H,"<="&'Projekty z danego zakresu mocy'!$M$6) -> 0 | K69: =COUNTIFS('Projekty wiatrowe i BESS'!$I:$I,">="&DATE($E68,MONTH(K68),1),'Projekty wiatrowe i BESS'!$I:$I,"<="&DATE($E68,MONTH(K68)+1,0),'Projekty wiatrowe i BESS'!$H:$H,">="&'Projekty z danego zakresu mocy'!$K$6,'Projekty wiatrowe i BESS'!$H:$H,"<="&'Projekty z danego zakresu mocy'!$M$6) -> 0 | L69: =COUNTIFS('Projekty wiatrowe i BESS'!$I:$I,">="&DATE($E68,MONTH(L68),1),'Projekty wiatrowe i BESS'!$I:$I,"<="&DATE($E68,MONTH(L68)+1,0),'Projekty wiatrowe i BESS'!$H:$H,">="&'Projekty z danego zakresu mocy'!$K$6,'Projekty wiatrowe i BESS'!$H:$H,"<="&'Projekty z danego zakresu mocy'!$M$6) -> 0 | M69: =COUNTIFS('Projekty wiatrowe i BESS'!$I:$I,">="&DATE($E68,MONTH(M68),1),'Projekty wiatrowe i BESS'!$I:$I,"<="&DATE($E68,MONTH(M68)+1,0),'Projekty wiatrowe i BESS'!$H:$H,">="&'Projekty z danego zakresu mocy'!$K$6,'Projekty wiatrowe i BESS'!$H:$H,"<="&'Projekty z danego zakresu mocy'!$M$6) -> 0 | ... Q69: =COUNTIFS('Projekty wiatrowe i BESS'!$I:$I,">="&DATE($E68,MONTH(Q68),1),'Projekty wiatrowe i BESS'!$I:$I,"<="&DATE($E68,MONTH(Q68)+1,0),'Projekty wiatrowe i BESS'!$H:$H,">="&'Projekty z danego zakresu mocy'!$K$6,'Projekty wiatrowe i BESS'!$H:$H,"<="&'Projekty z danego zakresu mocy'!$M$6) -> 0
E70: moc [MW] | F70: =SUMIFS('Projekty wiatrowe i BESS'!$H:$H,'Projekty wiatrowe i BESS'!$I:$I,">="&DATE($E68,MONTH(F68),1),'Projekty wiatrowe i BESS'!$I:$I,"<="&DATE($E68,MONTH(F68)+1,0),'Projekty wiatrowe i BESS'!$H:$H,">="&'Projekty z danego zakresu mocy'!$K$6,'Projekty wiatrowe i BESS'!$H:$H,"<="&'Projekty z danego zakresu mocy'!$M$6)/1000 -> 0 | G70: =SUMIFS('Projekty wiatrowe i BESS'!$H:$H,'Projekty wiatrowe i BESS'!$I:$I,">="&DATE($E68,MONTH(G68),1),'Projekty wiatrowe i BESS'!$I:$I,"<="&DATE($E68,MONTH(G68)+1,0),'Projekty wiatrowe i BESS'!$H:$H,">="&'Projekty z danego zakresu mocy'!$K$6,'Projekty wiatrowe i BESS'!$H:$H,"<="&'Projekty z danego zakresu mocy'!$M$6)/1000 -> 0 | H70: =SUMIFS('Projekty wiatrowe i BESS'!$H:$H,'Projekty wiatrowe i BESS'!$I:$I,">="&DATE($E68,MONTH(H68),1),'Projekty wiatrowe i BESS'!$I:$I,"<="&DATE($E68,MONTH(H68)+1,0),'Projekty wiatrowe i BESS'!$H:$H,">="&'Projekty z danego zakresu mocy'!$K$6,'Projekty wiatrowe i BESS'!$H:$H,"<="&'Projekty z danego zakresu mocy'!$M$6)/1000 -> 0 | I70: =SUMIFS('Projekty wiatrowe i BESS'!$H:$H,'Projekty wiatrowe i BESS'!$I:$I,">="&DATE($E68,MONTH(I68),1),'Projekty wiatrowe i BESS'!$I:$I,"<="&DATE($E68,MONTH(I68)+1,0),'Projekty wiatrowe i BESS'!$H:$H,">="&'Projekty z danego zakresu mocy'!$K$6,'Projekty wiatrowe i BESS'!$H:$H,"<="&'Projekty z danego zakresu mocy'!$M$6)/1000 -> 0 | J70: =SUMIFS('Projekty wiatrowe i BESS'!$H:$H,'Projekty wiatrowe i BESS'!$I:$I,">="&DATE($E68,MONTH(J68),1),'Projekty wiatrowe i BESS'!$I:$I,"<="&DATE($E68,MONTH(J68)+1,0),'Projekty wiatrowe i BESS'!$H:$H,">="&'Projekty z danego zakresu mocy'!$K$6,'Projekty wiatrowe i BESS'!$H:$H,"<="&'Projekty z danego zakresu mocy'!$M$6)/1000 -> 0 | K70: =SUMIFS('Projekty wiatrowe i BESS'!$H:$H,'Projekty wiatrowe i BESS'!$I:$I,">="&DATE($E68,MONTH(K68),1),'Projekty wiatrowe i BESS'!$I:$I,"<="&DATE($E68,MONTH(K68)+1,0),'Projekty wiatrowe i BESS'!$H:$H,">="&'Projekty z danego zakresu mocy'!$K$6,'Projekty wiatrowe i BESS'!$H:$H,"<="&'Projekty z danego zakresu mocy'!$M$6)/1000 -> 0 | L70: =SUMIFS('Projekty wiatrowe i BESS'!$H:$H,'Projekty wiatrowe i BESS'!$I:$I,">="&DATE($E68,MONTH(L68),1),'Projekty wiatrowe i BESS'!$I:$I,"<="&DATE($E68,MONTH(L68)+1,0),'Projekty wiatrowe i BESS'!$H:$H,">="&'Projekty z danego zakresu mocy'!$K$6,'Projekty wiatrowe i BESS'!$H:$H,"<="&'Projekty z danego zakresu mocy'!$M$6)/1000 -> 0 | M70: =SUMIFS('Projekty wiatrowe i BESS'!$H:$H,'Projekty wiatrowe i BESS'!$I:$I,">="&DATE($E68,MONTH(M68),1),'Projekty wiatrowe i BESS'!$I:$I,"<="&DATE($E68,MONTH(M68)+1,0),'Projekty wiatrowe i BESS'!$H:$H,">="&'Projekty z danego zakresu mocy'!$K$6,'Projekty wiatrowe i BESS'!$H:$H,"<="&'Projekty z danego zakresu mocy'!$M$6)/1000 -> 0 | ... Q70: =SUMIFS('Projekty wiatrowe i BESS'!$H:$H,'Projekty wiatrowe i BESS'!$I:$I,">="&DATE($E68,MONTH(Q68),1),'Projekty wiatrowe i BESS'!$I:$I,"<="&DATE($E68,MONTH(Q68)+1,0),'Projekty wiatrowe i BESS'!$H:$H,">="&'Projekty z danego zakresu mocy'!$K$6,'Projekty wiatrowe i BESS'!$H:$H,"<="&'Projekty z danego zakresu mocy'!$M$6)/1000 -> 0
E74: 2026 | F74: =DATE($E$74,1,1) -> 46023 | G74: =DATE($E$74,2,1) -> 46054 | H74: =DATE($E$74,3,1) -> 46082 | I74: =DATE($E$74,4,1) -> 46113 | J74: =DATE($E$74,5,1) -> 46143 | K74: =DATE($E$74,6,1) -> 46174 | L74: =DATE($E$74,7,1) -> 46204 | M74: =DATE($E$74,8,1) -> 46235 | N74: =DATE($E$74,9,1) -> 46266 | O74: =DATE($E$74,10,1) -> 46296 | P74: =DATE($E$74,11,1) -> 46327 | Q74: =DATE($E$74,12,1) -> 46357
E75: Wydane pozwolenia budowlane - liczba | F75: =COUNTIFS('Projekty wiatrowe i BESS'!$I:$I,">="&DATE($E74,MONTH(F74),1),'Projekty wiatrowe i BESS'!$I:$I,"<="&DATE($E74,MONTH(F74)+1,0),'Projekty wiatrowe i BESS'!$H:$H,">="&'Projekty z danego zakresu mocy'!$K$6,'Projekty wiatrowe i BESS'!$H:$H,"<="&'Projekty z danego zakresu mocy'!$M$6) -> 0 | G75: =COUNTIFS('Projekty wiatrowe i BESS'!$I:$I,">="&DATE($E74,MONTH(G74),1),'Projekty wiatrowe i BESS'!$I:$I,"<="&DATE($E74,MONTH(G74)+1,0),'Projekty wiatrowe i BESS'!$H:$H,">="&'Projekty z danego zakresu mocy'!$K$6,'Projekty wiatrowe i BESS'!$H:$H,"<="&'Projekty z danego zakresu mocy'!$M$6) -> 0 | H75: =COUNTIFS('Projekty wiatrowe i BESS'!$I:$I,">="&DATE($E74,MONTH(H74),1),'Projekty wiatrowe i BESS'!$I:$I,"<="&DATE($E74,MONTH(H74)+1,0),'Projekty wiatrowe i BESS'!$H:$H,">="&'Projekty z danego zakresu mocy'!$K$6,'Projekty wiatrowe i BESS'!$H:$H,"<="&'Projekty z danego zakresu mocy'!$M$6) -> 0 | I75: =COUNTIFS('Projekty wiatrowe i BESS'!$I:$I,">="&DATE($E74,MONTH(I74),1),'Projekty wiatrowe i BESS'!$I:$I,"<="&DATE($E74,MONTH(I74)+1,0),'Projekty wiatrowe i BESS'!$H:$H,">="&'Projekty z danego zakresu mocy'!$K$6,'Projekty wiatrowe i BESS'!$H:$H,"<="&'Projekty z danego zakresu mocy'!$M$6) -> 0 | J75: =COUNTIFS('Projekty wiatrowe i BESS'!$I:$I,">="&DATE($E74,MONTH(J74),1),'Projekty wiatrowe i BESS'!$I:$I,"<="&DATE($E74,MONTH(J74)+1,0),'Projekty wiatrowe i BESS'!$H:$H,">="&'Projekty z danego zakresu mocy'!$K$6,'Projekty wiatrowe i BESS'!$H:$H,"<="&'Projekty z danego zakresu mocy'!$M$6) -> 0 | K75: =COUNTIFS('Projekty wiatrowe i BESS'!$I:$I,">="&DATE($E74,MONTH(K74),1),'Projekty wiatrowe i BESS'!$I:$I,"<="&DATE($E74,MONTH(K74)+1,0),'Projekty wiatrowe i BESS'!$H:$H,">="&'Projekty z danego zakresu mocy'!$K$6,'Projekty wiatrowe i BESS'!$H:$H,"<="&'Projekty z danego zakresu mocy'!$M$6) -> 0 | L75: =COUNTIFS('Projekty wiatrowe i BESS'!$I:$I,">="&DATE($E74,MONTH(L74),1),'Projekty wiatrowe i BESS'!$I:$I,"<="&DATE($E74,MONTH(L74)+1,0),'Projekty wiatrowe i BESS'!$H:$H,">="&'Projekty z danego zakresu mocy'!$K$6,'Projekty wiatrowe i BESS'!$H:$H,"<="&'Projekty z danego zakresu mocy'!$M$6) -> 0 | M75: =COUNTIFS('Projekty wiatrowe i BESS'!$I:$I,">="&DATE($E74,MONTH(M74),1),'Projekty wiatrowe i BESS'!$I:$I,"<="&DATE($E74,MONTH(M74)+1,0),'Projekty wiatrowe i BESS'!$H:$H,">="&'Projekty z danego zakresu mocy'!$K$6,'Projekty wiatrowe i BESS'!$H:$H,"<="&'Projekty z danego zakresu mocy'!$M$6) -> 0 | ... Q75: =COUNTIFS('Projekty wiatrowe i BESS'!$I:$I,">="&DATE($E74,MONTH(Q74),1),'Projekty wiatrowe i BESS'!$I:$I,"<="&DATE($E74,MONTH(Q74)+1,0),'Projekty wiatrowe i BESS'!$H:$H,">="&'Projekty z danego zakresu mocy'!$K$6,'Projekty wiatrowe i BESS'!$H:$H,"<="&'Projekty z danego zakresu mocy'!$M$6) -> 0
E76: moc [MW] | F76: =SUMIFS('Projekty wiatrowe i BESS'!$H:$H,'Projekty wiatrowe i BESS'!$I:$I,">="&DATE($E74,MONTH(F74),1),'Projekty wiatrowe i BESS'!$I:$I,"<="&DATE($E74,MONTH(F74)+1,0),'Projekty wiatrowe i BESS'!$H:$H,">="&'Projekty z danego zakresu mocy'!$K$6,'Projekty wiatrowe i BESS'!$H:$H,"<="&'Projekty z danego zakresu mocy'!$M$6)/1000 -> 0 | G76: =SUMIFS('Projekty wiatrowe i BESS'!$H:$H,'Projekty wiatrowe i BESS'!$I:$I,">="&DATE($E74,MONTH(G74),1),'Projekty wiatrowe i BESS'!$I:$I,"<="&DATE($E74,MONTH(G74)+1,0),'Projekty wiatrowe i BESS'!$H:$H,">="&'Projekty z danego zakresu mocy'!$K$6,'Projekty wiatrowe i BESS'!$H:$H,"<="&'Projekty z danego zakresu mocy'!$M$6)/1000 -> 0 | H76: =SUMIFS('Projekty wiatrowe i BESS'!$H:$H,'Projekty wiatrowe i BESS'!$I:$I,">="&DATE($E74,MONTH(H74),1),'Projekty wiatrowe i BESS'!$I:$I,"<="&DATE($E74,MONTH(H74)+1,0),'Projekty wiatrowe i BESS'!$H:$H,">="&'Projekty z danego zakresu mocy'!$K$6,'Projekty wiatrowe i BESS'!$H:$H,"<="&'Projekty z danego zakresu mocy'!$M$6)/1000 -> 0 | I76: =SUMIFS('Projekty wiatrowe i BESS'!$H:$H,'Projekty wiatrowe i BESS'!$I:$I,">="&DATE($E74,MONTH(I74),1),'Projekty wiatrowe i BESS'!$I:$I,"<="&DATE($E74,MONTH(I74)+1,0),'Projekty wiatrowe i BESS'!$H:$H,">="&'Projekty z danego zakresu mocy'!$K$6,'Projekty wiatrowe i BESS'!$H:$H,"<="&'Projekty z danego zakresu mocy'!$M$6)/1000 -> 0 | J76: =SUMIFS('Projekty wiatrowe i BESS'!$H:$H,'Projekty wiatrowe i BESS'!$I:$I,">="&DATE($E74,MONTH(J74),1),'Projekty wiatrowe i BESS'!$I:$I,"<="&DATE($E74,MONTH(J74)+1,0),'Projekty wiatrowe i BESS'!$H:$H,">="&'Projekty z danego zakresu mocy'!$K$6,'Projekty wiatrowe i BESS'!$H:$H,"<="&'Projekty z danego zakresu mocy'!$M$6)/1000 -> 0 | K76: =SUMIFS('Projekty wiatrowe i BESS'!$H:$H,'Projekty wiatrowe i BESS'!$I:$I,">="&DATE($E74,MONTH(K74),1),'Projekty wiatrowe i BESS'!$I:$I,"<="&DATE($E74,MONTH(K74)+1,0),'Projekty wiatrowe i BESS'!$H:$H,">="&'Projekty z danego zakresu mocy'!$K$6,'Projekty wiatrowe i BESS'!$H:$H,"<="&'Projekty z danego zakresu mocy'!$M$6)/1000 -> 0 | L76: =SUMIFS('Projekty wiatrowe i BESS'!$H:$H,'Projekty wiatrowe i BESS'!$I:$I,">="&DATE($E74,MONTH(L74),1),'Projekty wiatrowe i BESS'!$I:$I,"<="&DATE($E74,MONTH(L74)+1,0),'Projekty wiatrowe i BESS'!$H:$H,">="&'Projekty z danego zakresu mocy'!$K$6,'Projekty wiatrowe i BESS'!$H:$H,"<="&'Projekty z danego zakresu mocy'!$M$6)/1000 -> 0 | M76: =SUMIFS('Projekty wiatrowe i BESS'!$H:$H,'Projekty wiatrowe i BESS'!$I:$I,">="&DATE($E74,MONTH(M74),1),'Projekty wiatrowe i BESS'!$I:$I,"<="&DATE($E74,MONTH(M74)+1,0),'Projekty wiatrowe i BESS'!$H:$H,">="&'Projekty z danego zakresu mocy'!$K$6,'Projekty wiatrowe i BESS'!$H:$H,"<="&'Projekty z danego zakresu mocy'!$M$6)/1000 -> 0 | ... Q76: =SUMIFS('Projekty wiatrowe i BESS'!$H:$H,'Projekty wiatrowe i BESS'!$I:$I,">="&DATE($E74,MONTH(Q74),1),'Projekty wiatrowe i BESS'!$I:$I,"<="&DATE($E74,MONTH(Q74)+1,0),'Projekty wiatrowe i BESS'!$H:$H,">="&'Projekty z danego zakresu mocy'!$K$6,'Projekty wiatrowe i BESS'!$H:$H,"<="&'Projekty z danego zakresu mocy'!$M$6)/1000 -> 0
C118: Stan zaawansowania projektów
C119: Liczba i moc projektów, które posiadają:
B120: wszystkie projekty w bazie | C120: warunki przyłączenia wg Operatorów | D120: umowę przyłączeniową wg Operatorów | E120: pozwolenie budowlane zidentyfikowane przez IEO
B121: =COUNTIFS('Projekty wiatrowe i BESS'!$L:$L,"<>"&"",'Projekty wiatrowe i BESS'!$H:$H,">="&K6,'Projekty wiatrowe i BESS'!$H:$H,"<="&M6) -> 10 | C121: =R15 -> 10 | D121: =R13 -> 8 | E121: =R11 -> 0 | F121: LICZBA
B122: =SUMIFS('Projekty wiatrowe i BESS'!H:H,'Projekty wiatrowe i BESS'!$L:$L,"<>"&"",'Projekty wiatrowe i BESS'!$H:$H,">="&K6,'Projekty wiatrowe i BESS'!$H:$H,"<="&M6)/1000 -> 339.2 | C122: =R16 -> 339.2 | D122: =R14 -> 290.3 | E122: =R12 -> 0 | F122: MW
C123: =C121/B121 -> 1 | D123: =D121/B121 -> 0.8 | E123: =E121/B121 -> 0 | F123: LICZBA
C124: =C122/B122 -> 1 | D124: =D122/B122 -> 0.85583726 | E124: =E122/B122 -> 0 | F124: MOC
I145: Rozkład projektów w województwach | M145: Projekty, które mają ważne pozwolenia budowlane
I148: liczba | J148: moc [MW] | K148: do wykresu | M148: liczba | N148: moc [MW]
H149: wielkopolskie | I149: =COUNTIFS('Projekty wiatrowe i BESS'!$G:$G,"="&H149) -> 0 | J149: =SUMIFS('Projekty wiatrowe i BESS'!$H:$H,'Projekty wiatrowe i BESS'!$G:$G,"="&H149)/1000 -> 0 | K149: =I149-M149 -> 0 | L149: =J149-N149 -> 0 | M149: =COUNTIFS('Projekty wiatrowe i BESS'!$G:$G,"="&H149,'Projekty wiatrowe i BESS'!$I:$I,"<>"&"-") -> 0 | N149: =SUMIFS('Projekty wiatrowe i BESS'!$H:$H,'Projekty wiatrowe i BESS'!$G:$G,"="&H149,'Projekty wiatrowe i BESS'!$I:$I,"<>"&"-")/1000 -> 0
H150: lubuskie | I150: =COUNTIFS('Projekty wiatrowe i BESS'!$G:$G,"="&H150) -> 0 | J150: =SUMIFS('Projekty wiatrowe i BESS'!$H:$H,'Projekty wiatrowe i BESS'!$G:$G,"="&H150)/1000 -> 0 | K150: =I150-M150 -> 0 | L150: =J150-N150 -> 0 | M150: =COUNTIFS('Projekty wiatrowe i BESS'!$G:$G,"="&H150,'Projekty wiatrowe i BESS'!$I:$I,"<>"&"-") -> 0 | N150: =SUMIFS('Projekty wiatrowe i BESS'!$H:$H,'Projekty wiatrowe i BESS'!$G:$G,"="&H150,'Projekty wiatrowe i BESS'!$I:$I,"<>"&"-")/1000 -> 0
H151: zachodniopomorskie | I151: =COUNTIFS('Projekty wiatrowe i BESS'!$G:$G,"="&H151) -> 1 | J151: =SUMIFS('Projekty wiatrowe i BESS'!$H:$H,'Projekty wiatrowe i BESS'!$G:$G,"="&H151)/1000 -> 4 | K151: =I151-M151 -> 1 | L151: =J151-N151 -> 4 | M151: =COUNTIFS('Projekty wiatrowe i BESS'!$G:$G,"="&H151,'Projekty wiatrowe i BESS'!$I:$I,"<>"&"-") -> 0 | N151: =SUMIFS('Projekty wiatrowe i BESS'!$H:$H,'Projekty wiatrowe i BESS'!$G:$G,"="&H151,'Projekty wiatrowe i BESS'!$I:$I,"<>"&"-")/1000 -> 0
H152: kujawsko-pomorskie | I152: =COUNTIFS('Projekty wiatrowe i BESS'!$G:$G,"="&H152) -> 1 | J152: =SUMIFS('Projekty wiatrowe i BESS'!$H:$H,'Projekty wiatrowe i BESS'!$G:$G,"="&H152)/1000 -> 42 | K152: =I152-M152 -> 1 | L152: =J152-N152 -> 42 | M152: =COUNTIFS('Projekty wiatrowe i BESS'!$G:$G,"="&H152,'Projekty wiatrowe i BESS'!$I:$I,"<>"&"-") -> 0 | N152: =SUMIFS('Projekty wiatrowe i BESS'!$H:$H,'Projekty wiatrowe i BESS'!$G:$G,"="&H152,'Projekty wiatrowe i BESS'!$I:$I,"<>"&"-")/1000 -> 0
H153: dolnośląskie | I153: =COUNTIFS('Projekty wiatrowe i BESS'!$G:$G,"="&H153) -> 0 | J153: =SUMIFS('Projekty wiatrowe i BESS'!$H:$H,'Projekty wiatrowe i BESS'!$G:$G,"="&H153)/1000 -> 0 | K153: =I153-M153 -> 0 | L153: =J153-N153 -> 0 | M153: =COUNTIFS('Projekty wiatrowe i BESS'!$G:$G,"="&H153,'Projekty wiatrowe i BESS'!$I:$I,"<>"&"-") -> 0 | N153: =SUMIFS('Projekty wiatrowe i BESS'!$H:$H,'Projekty wiatrowe i BESS'!$G:$G,"="&H153,'Projekty wiatrowe i BESS'!$I:$I,"<>"&"-")/1000 -> 0
H154: mazowieckie | I154: =COUNTIFS('Projekty wiatrowe i BESS'!$G:$G,"="&H154) -> 5 | J154: =SUMIFS('Projekty wiatrowe i BESS'!$H:$H,'Projekty wiatrowe i BESS'!$G:$G,"="&H154)/1000 -> 181.2 | K154: =I154-M154 -> 5 | L154: =J154-N154 -> 181.2 | M154: =COUNTIFS('Projekty wiatrowe i BESS'!$G:$G,"="&H154,'Projekty wiatrowe i BESS'!$I:$I,"<>"&"-") -> 0 | N154: =SUMIFS('Projekty wiatrowe i BESS'!$H:$H,'Projekty wiatrowe i BESS'!$G:$G,"="&H154,'Projekty wiatrowe i BESS'!$I:$I,"<>"&"-")/1000 -> 0
H155: warmińsko-mazurskie | I155: =COUNTIFS('Projekty wiatrowe i BESS'!$G:$G,"="&H155) -> 0 | J155: =SUMIFS('Projekty wiatrowe i BESS'!$H:$H,'Projekty wiatrowe i BESS'!$G:$G,"="&H155)/1000 -> 0 | K155: =I155-M155 -> 0 | L155: =J155-N155 -> 0 | M155: =COUNTIFS('Projekty wiatrowe i BESS'!$G:$G,"="&H155,'Projekty wiatrowe i BESS'!$I:$I,"<>"&"-") -> 0 | N155: =SUMIFS('Projekty wiatrowe i BESS'!$H:$H,'Projekty wiatrowe i BESS'!$G:$G,"="&H155,'Projekty wiatrowe i BESS'!$I:$I,"<>"&"-")/1000 -> 0
H156: podlaskie | I156: =COUNTIFS('Projekty wiatrowe i BESS'!$G:$G,"="&H156) -> 0 | J156: =SUMIFS('Projekty wiatrowe i BESS'!$H:$H,'Projekty wiatrowe i BESS'!$G:$G,"="&H156)/1000 -> 0 | K156: =I156-M156 -> 0 | L156: =J156-N156 -> 0 | M156: =COUNTIFS('Projekty wiatrowe i BESS'!$G:$G,"="&H156,'Projekty wiatrowe i BESS'!$I:$I,"<>"&"-") -> 0 | N156: =SUMIFS('Projekty wiatrowe i BESS'!$H:$H,'Projekty wiatrowe i BESS'!$G:$G,"="&H156,'Projekty wiatrowe i BESS'!$I:$I,"<>"&"-")/1000 -> 0
H157: lubelskie | I157: =COUNTIFS('Projekty wiatrowe i BESS'!$G:$G,"="&H157) -> 0 | J157: =SUMIFS('Projekty wiatrowe i BESS'!$H:$H,'Projekty wiatrowe i BESS'!$G:$G,"="&H157)/1000 -> 0 | K157: =I157-M157 -> 0 | L157: =J157-N157 -> 0 | M157: =COUNTIFS('Projekty wiatrowe i BESS'!$G:$G,"="&H157,'Projekty wiatrowe i BESS'!$I:$I,"<>"&"-") -> 0 | N157: =SUMIFS('Projekty wiatrowe i BESS'!$H:$H,'Projekty wiatrowe i BESS'!$G:$G,"="&H157,'Projekty wiatrowe i BESS'!$I:$I,"<>"&"-")/1000 -> 0
H158: łódzkie | I158: =COUNTIFS('Projekty wiatrowe i BESS'!$G:$G,"="&H158) -> 1 | J158: =SUMIFS('Projekty wiatrowe i BESS'!$H:$H,'Projekty wiatrowe i BESS'!$G:$G,"="&H158)/1000 -> 1 | K158: =I158-M158 -> 1 | L158: =J158-N158 -> 1 | M158: =COUNTIFS('Projekty wiatrowe i BESS'!$G:$G,"="&H158,'Projekty wiatrowe i BESS'!$I:$I,"<>"&"-") -> 0 | N158: =SUMIFS('Projekty wiatrowe i BESS'!$H:$H,'Projekty wiatrowe i BESS'!$G:$G,"="&H158,'Projekty wiatrowe i BESS'!$I:$I,"<>"&"-")/1000 -> 0
H159: podkarpackie | I159: =COUNTIFS('Projekty wiatrowe i BESS'!$G:$G,"="&H159) -> 0 | J159: =SUMIFS('Projekty wiatrowe i BESS'!$H:$H,'Projekty wiatrowe i BESS'!$G:$G,"="&H159)/1000 -> 0 | K159: =I159-M159 -> 0 | L159: =J159-N159 -> 0 | M159: =COUNTIFS('Projekty wiatrowe i BESS'!$G:$G,"="&H159,'Projekty wiatrowe i BESS'!$I:$I,"<>"&"-") -> 0 | N159: =SUMIFS('Projekty wiatrowe i BESS'!$H:$H,'Projekty wiatrowe i BESS'!$G:$G,"="&H159,'Projekty wiatrowe i BESS'!$I:$I,"<>"&"-")/1000 -> 0
H160: pomorskie | I160: =COUNTIFS('Projekty wiatrowe i BESS'!$G:$G,"="&H160) -> 1 | J160: =SUMIFS('Projekty wiatrowe i BESS'!$H:$H,'Projekty wiatrowe i BESS'!$G:$G,"="&H160)/1000 -> 36 | K160: =I160-M160 -> 1 | L160: =J160-N160 -> 36 | M160: =COUNTIFS('Projekty wiatrowe i BESS'!$G:$G,"="&H160,'Projekty wiatrowe i BESS'!$I:$I,"<>"&"-") -> 0 | N160: =SUMIFS('Projekty wiatrowe i BESS'!$H:$H,'Projekty wiatrowe i BESS'!$G:$G,"="&H160,'Projekty wiatrowe i BESS'!$I:$I,"<>"&"-")/1000 -> 0
... H164: małopolskie | I164: =COUNTIFS('Projekty wiatrowe i BESS'!$G:$G,"="&H164) -> 0 | J164: =SUMIFS('Projekty wiatrowe i BESS'!$H:$H,'Projekty wiatrowe i BESS'!$G:$G,"="&H164)/1000 -> 0 | K164: =I164-M164 -> 0 | L164: =J164-N164 -> 0 | M164: =COUNTIFS('Projekty wiatrowe i BESS'!$G:$G,"="&H164,'Projekty wiatrowe i BESS'!$I:$I,"<>"&"-") -> 0 | N164: =SUMIFS('Projekty wiatrowe i BESS'!$H:$H,'Projekty wiatrowe i BESS'!$G:$G,"="&H164,'Projekty wiatrowe i BESS'!$I:$I,"<>"&"-")/1000 -> 0
Z185: Copyright ©2019 IEO. Wszelkie prawa zastrzeżone.
I194: Moc przyłączeniowa oraz liczba projektów z wydanymi warunkami przyłączenia [MW]
J197: Enea | K197: Energa | L197: PGE | M197: Tauron | N197: PSE
I198: Liczba | J198: =COUNTIFS('Projekty wiatrowe i BESS'!$N:$N,J197) -> 1 | K198: =COUNTIFS('Projekty wiatrowe i BESS'!$N:$N,K197) -> 6 | L198: =COUNTIFS('Projekty wiatrowe i BESS'!$N:$N,L197) -> 1 | M198: =COUNTIFS('Projekty wiatrowe i BESS'!$N:$N,M197) -> 1 | N198: =COUNTIFS('Projekty wiatrowe i BESS'!$N:$N,N197) -> 1
I199: Moc [MW] | J199: =SUMIFS('Projekty wiatrowe i BESS'!$H:$H,'Projekty wiatrowe i BESS'!$N:$N,J197)/1000 -> 42 | K199: =SUMIFS('Projekty wiatrowe i BESS'!$H:$H,'Projekty wiatrowe i BESS'!$N:$N,K197)/1000 -> 102.4 | L199: =SUMIFS('Projekty wiatrowe i BESS'!$H:$H,'Projekty wiatrowe i BESS'!$N:$N,L197)/1000 -> 1 | M199: =SUMIFS('Projekty wiatrowe i BESS'!$H:$H,'Projekty wiatrowe i BESS'!$N:$N,M197)/1000 -> 75 | N199: =SUMIFS('Projekty wiatrowe i BESS'!$H:$H,'Projekty wiatrowe i BESS'!$N:$N,N197)/1000 -> 118.8

Sheet Mapy
B2: MAPY PROJEKTÓW WIATROWYCH W POLSCE
B3: Mapy zostały stworzone przy użyciu strony Mapy Google. Po kliknięciu na grafikę mapy otworzy się przeglądarka z interaktywną zawartością mapy
B4: Copyright ©2026 IEO. Wszelkie prawa zastrzeżone.
